From mboxrd@z Thu Jan 1 00:00:00 1970 Return-Path: Received: from mails.dpdk.org (mails.dpdk.org [217.70.189.124]) by inbox.dpdk.org (Postfix) with ESMTP id 6821646AE8 for ; Fri, 4 Jul 2025 20:15:06 +0200 (CEST) Received: from mails.dpdk.org (localhost [127.0.0.1]) by mails.dpdk.org (Postfix) with ESMTP id 642EA4028E; Fri, 4 Jul 2025 20:15:06 +0200 (CEST) Received: from mail-pl1-f228.google.com (mail-pl1-f228.google.com [209.85.214.228]) by mails.dpdk.org (Postfix) with ESMTP id 3326F4028E for ; Fri, 4 Jul 2025 20:15:05 +0200 (CEST) Received: by mail-pl1-f228.google.com with SMTP id d9443c01a7336-236192f8770so7854945ad.0 for ; Fri, 04 Jul 2025 11:15:05 -0700 (PDT) DKIM-Signature: v=1; a=rsa-sha256; c=relaxed/relaxed; d=iol.unh.edu; s=unh-iol; t=1751652904; x=1752257704; darn=dpdk.org; h=references:in-reply-to:cc:to:from:subject:message-id:date:from:to :cc:subject:date:message-id:reply-to; bh=O8Uz4R4HhBvhHvHvPZoLpb4HGlhqqesBRgqJg6NnxPk=; b=gZdCgf3WZG+Tyo1uCxTf2yO8tp6Wvcm2dcIHd2MB2fiDHIAw46QRcS4xo5XoqSdEfX fRshgiMa2suyT5Vo8UnuoXM4NOHcZ/OlYvm7vD/YbzODSxP77j7z1eaAxM7h2KaZTcWg YyrNHrW/0hE9H4+bEm+kYteq17CEeCwrd4p+M= X-Google-DKIM-Signature: v=1; a=rsa-sha256; c=relaxed/relaxed; d=1e100.net; s=20230601; t=1751652904; x=1752257704; h=references:in-reply-to:cc:to:from:subject:message-id:date :x-gm-message-state:from:to:cc:subject:date:message-id:reply-to; bh=O8Uz4R4HhBvhHvHvPZoLpb4HGlhqqesBRgqJg6NnxPk=; b=DHiQJ553YaJ+J5T8XxiHMpY8S3fB1GbSoDFe8S/HgxDd8x3xa/OGp9RaDP36eI/xOT Uyis03zkUr16+CnSFcxi1r3q4v6R9B9eM25kntiOyt+yaA1wWYskcK619mhOu1Q3otUT 15SR1fcvNFej4UoPavnUrpJ5j+b0FQ8DTHjYYCtsHBkOSGUtlmHe6iUoUhEnqZxErgnV p4vWY2+ZsPZ580XQ6GSbsk6yURQhDSpzA+vu3evJCLOjlO1Xk3EiZt+N1PXf3b3EomR6 M3s4DtsdvWOOGp4+8SfM/GsuPgRIIgfT/04rjgbFm3u1Nk62kLeadYdlmtsvssu02SD4 lNAw== X-Gm-Message-State: AOJu0YxmlZPuhziDEEEevGUddUr/l0H4JwtXWGZcx6a90+mQD2COD7Ek 8p3xsxBTZ2gO01JViIVvcHZn93FgkprCtu0+79VoZsb8W4iPtBQR508zu2q0XGU/JHiHczHdyYj zko+F+OYlctP5uytehjqASxFosb4uygVfHlg6MnYG3VUj/FRuLmNBpIGGl+uY X-Gm-Gg: ASbGncsApRooTPEF7WFucfTpBGlM0ABrXs9yLUX4DUkOSSeMFhz/6wFTthY/1EVJV18 4tamM0inFLWaxqnucjFOST3rn8AKJXSXdTvgfDVMqeHguG3/6BAZV1GTaBllLvNjo9MHEi2Bzk3 TALHY2TkD6vBcyUO7GP4v9Bd4JA0ghEBFfe42HEaqmmhWzOXKpR832PFLM0Su79Ix5t006JrxSS grBkQv1tDBdMUWJDA1IX7eFoaaS3bFBlM+7LC0vivt3r7mSm32VFM0V+jEM68NX9WZJJSMrWg+U IfR89krxd4ehyIaxFbWapWEnmI7M0RYqcGIMldBTVYERGcI= X-Google-Smtp-Source: AGHT+IEADl/Y5EHA2D4EocNq9lLQTzkSHv4BzcHoBJZ4/zbugEaFFTyl18uhjcXJ1LaykoEN3D9pqSozyA7k X-Received: by 2002:a17:902:ccc8:b0:234:9fe1:8fc6 with SMTP id d9443c01a7336-23c84b807f6mr55387095ad.18.1751652904271; Fri, 04 Jul 2025 11:15:04 -0700 (PDT) Received: from postal.iol.unh.edu (postal.iol.unh.edu. [2606:4100:3880:1234::84]) by smtp-relay.gmail.com with ESMTPS id d9443c01a7336-23c842d03d0sm1176805ad.32.2025.07.04.11.15.04 (version=TLS1_2 cipher=ECDHE-ECDSA-AES128-GCM-SHA256 bits=128/128); Fri, 04 Jul 2025 11:15:04 -0700 (PDT) X-Relaying-Domain: iol.unh.edu Date: Fri, 04 Jul 2025 11:15:04 -0700 (PDT) Message-ID: <68681a28.170a0220.103c66.6446SMTPIN_ADDED_MISSING@mx.google.com> Received: from [172.21.0.7] (unknown [172.18.0.240]) by postal.iol.unh.edu (Postfix) with ESMTP id 7AFBC6051830; Fri, 4 Jul 2025 14:15:03 -0400 (EDT) Subject: |WARNING| pw154969 [PATCH] [v2] build/x86: fix support for older com From: dpdklab@iol.unh.edu To: Test Report Cc: dpdk-test-reports@iol.unh.edu In-Reply-To: <20250702160138.3441279-1-bruce.richardson@intel.com> References: <20250702160138.3441279-1-bruce.richardson@intel.com> Content-Type: text/plain X-BeenThere: test-report@dpdk.org X-Mailman-Version: 2.1.29 Precedence: list List-Id: automatic DPDK test reports List-Unsubscribe: , List-Archive: List-Post: List-Help: List-Subscribe: , Errors-To: test-report-bounces@dpdk.org Test-Label: iol-unit-amd64-testing Test-Status: WARNING http://dpdk.org/patch/154969 _Testing issues_ Submitter: Bruce Richardson Date: Wednesday, July 02 2025 16:00:45 DPDK git baseline: Repo:dpdk Branch: master CommitID:70c2297528e7c7789af452f78de1932e9a20c8a2 154969 --> testing issues Upstream job id: Generic-Unit-Test-DPDK#352577 Test environment and result as below: +-------------------------------+----------------+ | Environment | dpdk_unit_test | +===============================+================+ | Fedora Linux 40 | WARN | +-------------------------------+----------------+ | CentOS Stream 10 | WARN | +-------------------------------+----------------+ | Debian GNU/Linux 12 | WARN | +-------------------------------+----------------+ | Fedora Linux 41 | WARN | +-------------------------------+----------------+ | CentOS Stream 9 | WARN | +-------------------------------+----------------+ | Red Hat Enterprise Linux 9.5 | WARN | +-------------------------------+----------------+ | Red Hat Enterprise Linux 8.10 | WARN | +-------------------------------+----------------+ | Ubuntu 24.04 | WARN | +-------------------------------+----------------+ | Ubuntu 22.04 | WARN | +-------------------------------+----------------+ | Ubuntu 20.04 | WARN | +-------------------------------+----------------+ ==== 20 line log output for Ubuntu 20.04 (dpdk_unit_test): ==== Compiler for C supports arguments -Wsign-compare: YES Compiler for C supports arguments -Wstrict-prototypes: YES Compiler for C supports arguments -Wundef: YES Compiler for C supports arguments -Wwrite-strings: YES Compiler for C supports arguments -Wno-packed-not-aligned: YES Compiler for C supports arguments -Wno-missing-field-initializers: YES Compiler for C supports arguments -fzero-init-padding-bits=all: NO Fetching value of define "__AVX2__" : 1 Fetching value of define "__znver1__" : Fetching value of define "__znver2__" : Fetching value of define "__znver3__" : Fetching value of define "__znver4__" : Fetching value of define "__znver5__" : Program objdump found: YES (/usr/bin/objdump) Compiler for C supports arguments -march=x86-64-v4: NO Fetching value of define "__AVX512F__" : 1 config/x86/meson.build:81:6: ERROR: List item must be one of , not A full log can be found at /root/workspace/Generic-Unit-Test-DPDK/dpdk/build/meson-logs/meson-log.txt ==== End log output ==== Fedora Linux 40 Kernel: 5.15 Compiler: clang gcc (GCC) 14.2.1 20240912 (Red Hat 14.2.1-3) CentOS Stream 10 Kernel: 5.15 Compiler: gcc gcc (GCC) 14.2.1 20250110 (Red Hat 14.2.1-8) Debian GNU/Linux 12 Kernel: 5.15 Compiler: gcc gcc (Debian 12.2.0-14+deb12u1) 12.2.0 Fedora Linux 41 Kernel: 5.15 Compiler: gcc gcc (GCC) 14.3.1 20250523 (Red Hat 14.3.1-1) CentOS Stream 9 Kernel: 5.15 Compiler: gcc gcc (GCC) 11.5.0 20240719 (Red Hat 11.5.0-7) Red Hat Enterprise Linux 9.5 Kernel: 5.15 Compiler: gcc gcc (GCC) 11.5.0 20240719 (Red Hat 11.5.0-2) Red Hat Enterprise Linux 8.10 Kernel: 5.15 Compiler: gcc gcc (GCC) 8.5.0 20210514 (Red Hat 8.5.0-22) Ubuntu 24.04 Kernel: 5.15 Compiler: gcc gcc (Ubuntu 13.3.0-6ubuntu2~24.04) 13.3.0 Ubuntu 22.04 Kernel: 5.15 Compiler: gcc gcc (Ubuntu 11.4.0-1ubuntu1~22.04) 11.4.0 Ubuntu 20.04 Kernel: 5.15 Compiler: gcc gcc (Ubuntu 9.4.0-1ubuntu1~20.04.2) 9.4.0 To view detailed results, visit: https://lab.dpdk.org/results/dashboard/patchsets/33570/ UNH-IOL DPDK Community Lab To manage your email subscriptions, visit: https://lab.dpdk.org/results/dashboard/preferences/subscriptions/