From mboxrd@z Thu Jan 1 00:00:00 1970 Return-Path: Received: from mails.dpdk.org (mails.dpdk.org [217.70.189.124]) by inbox.dpdk.org (Postfix) with ESMTP id 7EC4346AE8 for ; Fri, 4 Jul 2025 20:15:22 +0200 (CEST) Received: from mails.dpdk.org (localhost [127.0.0.1]) by mails.dpdk.org (Postfix) with ESMTP id 79C0D4028E; Fri, 4 Jul 2025 20:15:22 +0200 (CEST) Received: from mail-il1-f226.google.com (mail-il1-f226.google.com [209.85.166.226]) by mails.dpdk.org (Postfix) with ESMTP id ED1E14028E for ; Fri, 4 Jul 2025 20:15:21 +0200 (CEST) Received: by mail-il1-f226.google.com with SMTP id e9e14a558f8ab-3e058c64a76so6668385ab.0 for ; Fri, 04 Jul 2025 11:15:21 -0700 (PDT) DKIM-Signature: v=1; a=rsa-sha256; c=relaxed/relaxed; d=iol.unh.edu; s=unh-iol; t=1751652921; x=1752257721; darn=dpdk.org; h=references:in-reply-to:cc:to:from:subject:message-id:date:from:to :cc:subject:date:message-id:reply-to; bh=11dOT6yPBDVYBbM7tkSXvxo9TUOtv9s/X4f7q61T5qQ=; b=HuSDWywe1CZzS0BCiM1atSIghkqBx+nrrDDaevRxs5kFO3yrCN5xHQBOZGVeXoVZAQ YlS2iCJVu4uLPFzE9YRYUDATQ9SXRdJ/IwE+eeojmXa2ufsKKDOE2iYGrZbkRUa+woFq rEpzKzmhjIouHSstaP3nTg7e+B744q8VspvHc= X-Google-DKIM-Signature: v=1; a=rsa-sha256; c=relaxed/relaxed; d=1e100.net; s=20230601; t=1751652921; x=1752257721; h=references:in-reply-to:cc:to:from:subject:message-id:date :x-gm-message-state:from:to:cc:subject:date:message-id:reply-to; bh=11dOT6yPBDVYBbM7tkSXvxo9TUOtv9s/X4f7q61T5qQ=; b=q4O2xg5GIuCy0lvVwSVQLuG6Ygq0aBSk8HoNCD3lIk9RDfYujEO8tg59X3oQ4QVrBN gCeXQ0QkyPVEyYMClkF+4TmUGWRItSkTMIyJbmsY27bAwF/3lwuSyDlTzaD9KwbOLc+G L7Eudavyk2y+ou0EKP+j1u0le5GE/WuAG/ngpVovxTyrmz4ueZJhz4MLOOZTu7mLYD9U odRwcb+5I4hj6ar9S2/AFadkQ+ImIR6TdBHRFbTV/dTpxVVh8WFFnGIxPQoqshU49seI +e7yoqsHsK2uSMBXc+nRsWDD8HUsY2AZZGa5VzAzjdB1zgI7i24DqiLTNpBGYiiOXg// JX0g== X-Gm-Message-State: AOJu0YwgCOyEXaaJICxYb+QLv1q6gY1ktf1Cw3g15mVUNhMf/bNWJDVA 9imdh+C8KmMYeKlzmnRFa8N7AqYlRtdhCKxuqE3hC7uokVtYgWKjqoYit5JhCf5wQZI4L4sTwnm OQ59YB1AqD2afsIfPvoNv+xonc4569lX/5pfKp8Bf8/cAw1W022lclDHffXDc X-Gm-Gg: ASbGncs4stJCv0dxxpkzfihRU3A6DpJsvb1kl37HVL0yxhqpWxvJ66LphNmx+vuQLK/ qvE4C9w73+E6Sgok42ooDuYNJKXsR/0CA40k4kh5mmwEvAfzlnFJsHYEoVBQKj8Q9sd+7DtO9pW nlCNWvrhpsKVTNDSNCLK0e/lA3qrw9dBaYlyYB5MOnDgxnggz/sn+Em1RjQQlXTjeGAzX3FqzrW 6RGBbO0eqyubSm9SY8utnYqwjXQ7kSCANTFnOOXaOkGh72qP4fEiodeInAWStmWq7oh9dC6Vdqs SC2EYBko31yAkN0lko8F3uNbjBL8ZjjoARksBjLP5UvrEjM= X-Google-Smtp-Source: AGHT+IGKEbUF5iytRPkDSQkwCk2jDBvalxy8DThb0Xulna1kBqx7EPljTDRC3Nxyg1ANId2FTEn6yhtXS8RE X-Received: by 2002:a05:6e02:216b:b0:3df:52fc:42ea with SMTP id e9e14a558f8ab-3e136fdd4a3mr29384255ab.13.1751652921299; Fri, 04 Jul 2025 11:15:21 -0700 (PDT) Received: from postal.iol.unh.edu (postal.iol.unh.edu. [2606:4100:3880:1234::84]) by smtp-relay.gmail.com with ESMTPS id 8926c6da1cb9f-503b5a13236sm97597173.21.2025.07.04.11.15.21 (version=TLS1_2 cipher=ECDHE-ECDSA-AES128-GCM-SHA256 bits=128/128); Fri, 04 Jul 2025 11:15:21 -0700 (PDT) X-Relaying-Domain: iol.unh.edu Date: Fri, 04 Jul 2025 11:15:21 -0700 (PDT) Message-ID: <68681a39.050a0220.ce1ca.5227SMTPIN_ADDED_MISSING@mx.google.com> Received: from [172.21.0.6] (unknown [172.18.0.240]) by postal.iol.unh.edu (Postfix) with ESMTP id CC3346051830; Fri, 4 Jul 2025 14:15:20 -0400 (EDT) Subject: |WARNING| pw154969 [PATCH] [v2] build/x86: fix support for older com From: dpdklab@iol.unh.edu To: Test Report Cc: dpdk-test-reports@iol.unh.edu In-Reply-To: <20250702160138.3441279-1-bruce.richardson@intel.com> References: <20250702160138.3441279-1-bruce.richardson@intel.com> Content-Type: text/plain X-BeenThere: test-report@dpdk.org X-Mailman-Version: 2.1.29 Precedence: list List-Id: automatic DPDK test reports List-Unsubscribe: , List-Archive: List-Post: List-Help: List-Subscribe: , Errors-To: test-report-bounces@dpdk.org Test-Label: iol-unit-amd64-testing Test-Status: WARNING http://dpdk.org/patch/154969 _Testing issues_ Submitter: Bruce Richardson Date: Wednesday, July 02 2025 16:00:45 DPDK git baseline: Repo:dpdk Branch: master CommitID:70c2297528e7c7789af452f78de1932e9a20c8a2 154969 --> testing issues Upstream job id: Generic-Unit-Test-DPDK#352584 Test environment and result as below: +-------------------------------+----------------+ | Environment | dpdk_unit_test | +===============================+================+ | Fedora Linux 40 | WARN | +-------------------------------+----------------+ | CentOS Stream 10 | WARN | +-------------------------------+----------------+ | Debian GNU/Linux 12 | WARN | +-------------------------------+----------------+ | Fedora Linux 41 | WARN | +-------------------------------+----------------+ | CentOS Stream 9 | WARN | +-------------------------------+----------------+ | Red Hat Enterprise Linux 9.5 | WARN | +-------------------------------+----------------+ | Red Hat Enterprise Linux 8.10 | WARN | +-------------------------------+----------------+ | Ubuntu 24.04 | WARN | +-------------------------------+----------------+ | Ubuntu 22.04 | WARN | +-------------------------------+----------------+ | Ubuntu 20.04 | WARN | +-------------------------------+----------------+ ==== 20 line log output for Ubuntu 20.04 (dpdk_unit_test): ==== Compiler for C supports arguments -Wsign-compare: YES Compiler for C supports arguments -Wstrict-prototypes: YES Compiler for C supports arguments -Wundef: YES Compiler for C supports arguments -Wwrite-strings: YES Compiler for C supports arguments -Wno-packed-not-aligned: YES Compiler for C supports arguments -Wno-missing-field-initializers: YES Compiler for C supports arguments -fzero-init-padding-bits=all: NO Fetching value of define "__AVX2__" : 1 Fetching value of define "__znver1__" : Fetching value of define "__znver2__" : Fetching value of define "__znver3__" : Fetching value of define "__znver4__" : Fetching value of define "__znver5__" : Program objdump found: YES (/usr/bin/objdump) Compiler for C supports arguments -march=x86-64-v4: NO Fetching value of define "__AVX512F__" : 1 config/x86/meson.build:81:6: ERROR: List item must be one of , not A full log can be found at /root/workspace/Generic-Unit-Test-DPDK/dpdk/build/meson-logs/meson-log.txt ==== End log output ==== Fedora Linux 40 Kernel: 5.15 Compiler: clang gcc (GCC) 14.2.1 20240912 (Red Hat 14.2.1-3) CentOS Stream 10 Kernel: 5.15 Compiler: gcc gcc (GCC) 14.2.1 20250110 (Red Hat 14.2.1-8) Debian GNU/Linux 12 Kernel: 5.15 Compiler: gcc gcc (Debian 12.2.0-14+deb12u1) 12.2.0 Fedora Linux 41 Kernel: 5.15 Compiler: gcc gcc (GCC) 14.3.1 20250523 (Red Hat 14.3.1-1) CentOS Stream 9 Kernel: 5.15 Compiler: gcc gcc (GCC) 11.5.0 20240719 (Red Hat 11.5.0-7) Red Hat Enterprise Linux 9.5 Kernel: 5.15 Compiler: gcc gcc (GCC) 11.5.0 20240719 (Red Hat 11.5.0-2) Red Hat Enterprise Linux 8.10 Kernel: 5.15 Compiler: gcc gcc (GCC) 8.5.0 20210514 (Red Hat 8.5.0-22) Ubuntu 24.04 Kernel: 5.15 Compiler: gcc gcc (Ubuntu 13.3.0-6ubuntu2~24.04) 13.3.0 Ubuntu 22.04 Kernel: 5.15 Compiler: gcc gcc (Ubuntu 11.4.0-1ubuntu1~22.04) 11.4.0 Ubuntu 20.04 Kernel: 5.15 Compiler: gcc gcc (Ubuntu 9.4.0-1ubuntu1~20.04.2) 9.4.0 To view detailed results, visit: https://lab.dpdk.org/results/dashboard/patchsets/33570/ UNH-IOL DPDK Community Lab To manage your email subscriptions, visit: https://lab.dpdk.org/results/dashboard/preferences/subscriptions/