From mboxrd@z Thu Jan 1 00:00:00 1970 Return-Path: Received: from mails.dpdk.org (mails.dpdk.org [217.70.189.124]) by inbox.dpdk.org (Postfix) with ESMTP id BD33C46AE8 for ; Fri, 4 Jul 2025 20:17:21 +0200 (CEST) Received: from mails.dpdk.org (localhost [127.0.0.1]) by mails.dpdk.org (Postfix) with ESMTP id B741D4028E; Fri, 4 Jul 2025 20:17:21 +0200 (CEST) Received: from mail-pj1-f100.google.com (mail-pj1-f100.google.com [209.85.216.100]) by mails.dpdk.org (Postfix) with ESMTP id 401D34028E for ; Fri, 4 Jul 2025 20:17:20 +0200 (CEST) Received: by mail-pj1-f100.google.com with SMTP id 98e67ed59e1d1-315c1b0623cso1460532a91.1 for ; Fri, 04 Jul 2025 11:17:20 -0700 (PDT) DKIM-Signature: v=1; a=rsa-sha256; c=relaxed/relaxed; d=iol.unh.edu; s=unh-iol; t=1751653039; x=1752257839; darn=dpdk.org; h=references:in-reply-to:cc:to:from:subject:message-id:date:from:to :cc:subject:date:message-id:reply-to; bh=ZTcc7NMiHCn5U1o/K4fSRWSN414bRXQHuFPrr6o890Y=; b=ORfBgDtiN6zOEYsFpIe3dN/zbX+JuaPLpIGLmrgqEXQz2+s1u6GqmirnkONNo34Vp8 kiCk9poB8Dsfr+99HOlzArezWzLsM6u1RoXI6yNqdea5pp4+neRXxxlCRNz+FpAcJDpA +iyv3px05Kdkr+yKVKXo+7K60rI50IKoJ84hI= X-Google-DKIM-Signature: v=1; a=rsa-sha256; c=relaxed/relaxed; d=1e100.net; s=20230601; t=1751653039; x=1752257839; h=references:in-reply-to:cc:to:from:subject:message-id:date :x-gm-message-state:from:to:cc:subject:date:message-id:reply-to; bh=ZTcc7NMiHCn5U1o/K4fSRWSN414bRXQHuFPrr6o890Y=; b=klNALzfnX43CuNZmvG/LjJbnYn5dVCG9DGYAU14zC+l1WA7Wcr+z3WzQiHGSdV/BQI i8BsVjdqhx7UyhfO6GKl1dDyQ57bVjXtdXLRblqjlj5qrPGUQkJNqjuRJGFlnN8H0ot3 /BT6Pwmo5t8+gcKsz/3GIUHuOcIHhVutf+0PbTt5ATHZBnGSgePnWUHMxPiChFNXPklV 3SYRt93mSWvYXMIY8ZTuU8CA51ZJPE3BQnqzjomb715Hs+rsL7UXjTpcPjuJsQoQ8j2x f5Sx5haXBLFv+Vg3SnZUNpcj6QcZoYrwrqXCXuZNlWsmnYHPUNvsb49Yi8sW3G/I7CVd hPSg== X-Gm-Message-State: AOJu0Yyh4aset2ezHc8aLdXnFfzGKpSFf66zKAJcC6aXR9M7FuWp1MVX XZ5mf7RJkYdPdeYS8t6e9pTu9RAVZ7Pi6IsMvE2Nhz5BbLXT6eYz3Xf7ATWeDoAqJIs7I2CrEb0 yr3uXbyq9ym/4as6wn1L7SVo4De5UW8luZdXwY2KeMNaX X-Gm-Gg: ASbGncuf/h2yUdi8EwK64r2vPiwmahUL/eOHCK1Eyu8Y3/NdSZxk/iL9w3TlwUG/tzm yiUYF6BxqcxfLCQdjQkcBOTSTphKJruYmbBThtOIRYHgg/VfKQ6nRww4ZNNic6dbDeanEoq91RU BjgYbldhziNhdVkoOrkEHcV9VccUI8YAqQbNl51LbTz8PbKy2GNoXzxtnIdjw2AkpEFEf/2XYnD EpurO+UzJ5Yf44UTBdqepGzEGwDJJzGz3V7fpUZo/HDNwEcsjY8jCGRNhAL9nQ0HzVQYvrvwzZ1 LIzT+JydI7tuSmyST08WKmfvzRDVo//C5iIHkR+C0q3CNMPzn/K+S2Ph0lFYce5hg+8bjA== X-Google-Smtp-Source: AGHT+IEkUZq08Qw09LIm92TcfwVaU1TyzT+sGhX9amBW3dq8AVPNvkx1QdIb0TFBocY0cz4roR0SOR4X66+F X-Received: by 2002:a17:90b:3f4d:b0:31a:b92c:d679 with SMTP id 98e67ed59e1d1-31ab92cd8efmr430953a91.35.1751653039421; Fri, 04 Jul 2025 11:17:19 -0700 (PDT) Received: from postal.iol.unh.edu (postal.iol.unh.edu. [132.177.123.84]) by smtp-relay.gmail.com with ESMTPS id 98e67ed59e1d1-31a9cd0aa19sm231591a91.12.2025.07.04.11.17.19 (version=TLS1_2 cipher=ECDHE-ECDSA-AES128-GCM-SHA256 bits=128/128); Fri, 04 Jul 2025 11:17:19 -0700 (PDT) X-Relaying-Domain: iol.unh.edu Date: Fri, 04 Jul 2025 11:17:19 -0700 (PDT) Message-ID: <68681aaf.170a0220.2d3986.c6edSMTPIN_ADDED_MISSING@mx.google.com> Received: from [172.21.0.7] (unknown [172.18.0.240]) by postal.iol.unh.edu (Postfix) with ESMTP id 9811C6051830; Fri, 4 Jul 2025 14:17:18 -0400 (EDT) Subject: |WARNING| pw154952 [PATCH] net/mlx5: fix inline data size adjustment From: dpdklab@iol.unh.edu To: Test Report Cc: dpdk-test-reports@iol.unh.edu In-Reply-To: <20250702093459.102142-1-shperetz@nvidia.com> References: <20250702093459.102142-1-shperetz@nvidia.com> Content-Type: text/plain X-BeenThere: test-report@dpdk.org X-Mailman-Version: 2.1.29 Precedence: list List-Id: automatic DPDK test reports List-Unsubscribe: , List-Archive: List-Post: List-Help: List-Subscribe: , Errors-To: test-report-bounces@dpdk.org Test-Label: iol-compile-amd64-testing Test-Status: WARNING http://dpdk.org/patch/154952 _Testing issues_ Submitter: Shani Peretz Date: Wednesday, July 02 2025 09:34:59 DPDK git baseline: Repo:dpdk Branch: master CommitID:5c0c1a13c34aa57c6e18f9ba852a9b5807c58b72 154952 --> testing issues Upstream job id: Generic-DPDK-Compile-Meson#405372 Test environment and result as below: +-------------------------------+--------------------+-------------------+------------------+-------------------------+-------------------+----------------------+ | Environment | dpdk_meson_compile | dpdk_compile_spdk | dpdk_compile_ovs | dpdk_llvm_clang_compile | dpdk_msvc_compile | dpdk_mingw64_compile | +===============================+====================+===================+==================+=========================+===================+======================+ | CentOS Stream 9 | PASS | PASS | SKIPPED | SKIPPED | SKIPPED | SKIPPED | +-------------------------------+--------------------+-------------------+------------------+-------------------------+-------------------+----------------------+ | Debian GNU/Linux 12 | PASS | PASS | SKIPPED | SKIPPED | SKIPPED | SKIPPED | +-------------------------------+--------------------+-------------------+------------------+-------------------------+-------------------+----------------------+ | CentOS Stream 10 | PASS | SKIPPED | SKIPPED | SKIPPED | SKIPPED | SKIPPED | +-------------------------------+--------------------+-------------------+------------------+-------------------------+-------------------+----------------------+ | Fedora Linux 40 | PASS | PASS | SKIPPED | SKIPPED | SKIPPED | SKIPPED | +-------------------------------+--------------------+-------------------+------------------+-------------------------+-------------------+----------------------+ | Fedora Linux 41 | PASS | PASS | PASS | SKIPPED | SKIPPED | SKIPPED | +-------------------------------+--------------------+-------------------+------------------+-------------------------+-------------------+----------------------+ | Red Hat Enterprise Linux 9.5 | PASS | SKIPPED | SKIPPED | SKIPPED | SKIPPED | SKIPPED | +-------------------------------+--------------------+-------------------+------------------+-------------------------+-------------------+----------------------+ | Ubuntu 20.04 | PASS | SKIPPED | SKIPPED | SKIPPED | SKIPPED | SKIPPED | +-------------------------------+--------------------+-------------------+------------------+-------------------------+-------------------+----------------------+ | Ubuntu 22.04 | PASS | PASS | SKIPPED | SKIPPED | SKIPPED | SKIPPED | +-------------------------------+--------------------+-------------------+------------------+-------------------------+-------------------+----------------------+ | Ubuntu 24.04 | PASS | PASS | PASS | SKIPPED | SKIPPED | SKIPPED | +-------------------------------+--------------------+-------------------+------------------+-------------------------+-------------------+----------------------+ | Alpine Linux 3.22.0 | PASS | SKIPPED | SKIPPED | SKIPPED | SKIPPED | SKIPPED | +-------------------------------+--------------------+-------------------+------------------+-------------------------+-------------------+----------------------+ | Red Hat Enterprise Linux 8.10 | PASS | SKIPPED | SKIPPED | SKIPPED | SKIPPED | SKIPPED | +-------------------------------+--------------------+-------------------+------------------+-------------------------+-------------------+----------------------+ | openSUSE Leap 15.6 | PASS | SKIPPED | SKIPPED | SKIPPED | SKIPPED | SKIPPED | +-------------------------------+--------------------+-------------------+------------------+-------------------------+-------------------+----------------------+ | Windows Server 2022 | SKIPPED | SKIPPED | SKIPPED | PASS | PASS | PASS | +-------------------------------+--------------------+-------------------+------------------+-------------------------+-------------------+----------------------+ CentOS Stream 9 Kernel: 5.15 Compiler: gcc gcc (GCC) 11.5.0 20240719 (Red Hat 11.5.0-7) Debian GNU/Linux 12 Kernel: 5.15 Compiler: gcc gcc (Debian 12.2.0-14+deb12u1) 12.2.0 CentOS Stream 10 Kernel: 5.15 Compiler: gcc gcc (GCC) 14.2.1 20250110 (Red Hat 14.2.1-8) Fedora Linux 40 Kernel: 5.15 Compiler: clang gcc (GCC) 14.2.1 20240912 (Red Hat 14.2.1-3) Fedora Linux 41 Kernel: 5.15 Compiler: clang gcc (GCC) 14.3.1 20250523 (Red Hat 14.3.1-1) Red Hat Enterprise Linux 9.5 Kernel: 5.15 Compiler: gcc gcc (GCC) 11.5.0 20240719 (Red Hat 11.5.0-2) Ubuntu 20.04 Kernel: 5.15 Compiler: gcc gcc (Ubuntu 9.4.0-1ubuntu1~20.04.2) 9.4.0 Ubuntu 22.04 Kernel: 5.15 Compiler: gcc gcc (Ubuntu 11.4.0-1ubuntu1~22.04) 11.4.0 Ubuntu 24.04 Kernel: 5.15 Compiler: gcc gcc (Ubuntu 13.3.0-6ubuntu2~24.04) 13.3.0 Alpine Linux 3.22.0 Kernel: 5.15 Compiler: gcc gcc (Alpine 14.2.0) 14.2.0 Red Hat Enterprise Linux 8.10 Kernel: 5.15 Compiler: gcc gcc (GCC) 8.5.0 20210514 (Red Hat 8.5.0-22) openSUSE Leap 15.6 Kernel: 5.15 Compiler: gcc gcc (SUSE Linux) 7.5.0 Windows Server 2022 Kernel: 10.0.20348.2031 Compiler: clang 15.0.7, gcc 14.1.0 (MinGW), and MSVC VS 19.39.33521 To view detailed results, visit: https://lab.dpdk.org/results/dashboard/patchsets/33564/ UNH-IOL DPDK Community Lab To manage your email subscriptions, visit: https://lab.dpdk.org/results/dashboard/preferences/subscriptions/