From mboxrd@z Thu Jan 1 00:00:00 1970 Return-Path: Received: from mails.dpdk.org (mails.dpdk.org [217.70.189.124]) by inbox.dpdk.org (Postfix) with ESMTP id C3E5346AE8 for ; Fri, 4 Jul 2025 20:58:15 +0200 (CEST) Received: from mails.dpdk.org (localhost [127.0.0.1]) by mails.dpdk.org (Postfix) with ESMTP id AD2544028E; Fri, 4 Jul 2025 20:58:15 +0200 (CEST) Received: from mail-il1-f228.google.com (mail-il1-f228.google.com [209.85.166.228]) by mails.dpdk.org (Postfix) with ESMTP id 793AF4028E for ; Fri, 4 Jul 2025 20:58:14 +0200 (CEST) Received: by mail-il1-f228.google.com with SMTP id e9e14a558f8ab-3df2ccbb895so12166895ab.3 for ; Fri, 04 Jul 2025 11:58:14 -0700 (PDT) DKIM-Signature: v=1; a=rsa-sha256; c=relaxed/relaxed; d=iol.unh.edu; s=unh-iol; t=1751655494; x=1752260294; darn=dpdk.org; h=references:in-reply-to:cc:to:from:subject:message-id:date:from:to :cc:subject:date:message-id:reply-to; bh=tYrCwkyddy5W4VvHXLjA6hXdsNilnMtAc+d58phyvV4=; b=gEq2pFyhQI5zDoJRKcDMOP/ZA5Cz4gb3hMrlimVDDzrgrf2hcdUjNOeiewaa1KXzoB 4VTqTJOZ2ukSOIAjUEexc5fSjYP6O7STY58WH44PqKX0hzmnfDmH00i3OLphSG8ntZMI PS4/07paQmXSk8iY2TV0OqQ6T9/pU3xNk6rR8= X-Google-DKIM-Signature: v=1; a=rsa-sha256; c=relaxed/relaxed; d=1e100.net; s=20230601; t=1751655494; x=1752260294; h=references:in-reply-to:cc:to:from:subject:message-id:date :x-gm-message-state:from:to:cc:subject:date:message-id:reply-to; bh=tYrCwkyddy5W4VvHXLjA6hXdsNilnMtAc+d58phyvV4=; b=rTYdL1zMBGxCZRPMCMIGT/VKCjQ8MZtdT/2SR86jRX3o9gtsF7MGukjUeGVugOEMBN YoYOOEqAzLMw2LwYEqIFAFDdKqCk+hQK/ACm80DDxTrNzCm1oQTdkUkRU7vggrDZnTwQ V9RuJHxaxyHUn22l8z9UydwOC2c8eYnwxTrI4e820J22Q4HNJEZKdRz7gLe/vgNfAQR0 I4LWCSbDgGQF0HAku0pkizaTR8+R0gXQgpofE6lCgn3CfqEOh1fYCCIpv7/z5OFWIGPM VhctnEB0tiGbIn6Zi2er6+j29U7KfSGTuL2XRqJ8ipTGe/rUrnX1FkSxoWSEg/JG1lfE ETXA== X-Gm-Message-State: AOJu0YxdNp6w16CyQP3CcxpxY9OySgUDcxYAQVHQCH5LvvQvthQU++c7 BfdOYi5bNbVTEtR0ubCLa8zDjcFlIuY1Brdhcwgnp+naXWCRCH8Ur3e+T+mhF6ATKYFVuxjGbmC b1RtKbPGgsRstrOFIdo7YSKybKd77cMs24MQsCcKx314A X-Gm-Gg: ASbGncui3Zu4weHcZPLwMzEhmWWPBckUqSOp58/gb13wwDZjYrGFIM2Eh0fCFgAaQRy Tg22NZ8pi0tSjcyghQbR+9T6DAa6Iz7IJRsMc1POFpB+CE8l9JbCdpi18/BdLIKfs/aIXvlMPXp RTNq+lM0H+HTOSinPnBpAauFAsMRrOq/kfm7DqoYQ3erlXeJYCuiF3Oz81Man80u6wOER11N1mH /2zRlj9DysgC47vpptcwjYEbv8owvrbB+RU4u8miWpzSUjwoSaTLKo3AXdHkig9ANG8UhXx9Psl hhVoNhEDhrcsVxK4oDWw10oI0UjACk7Kfva8wfsmCjNK7jr3hoH18AoI71xBpTBqha1uZA== X-Google-Smtp-Source: AGHT+IGVJa35OznqXM18LdoSCPi9g9os4M2PJY9SfFTYpJN/P2m9szADj0//CS+4OXBzP4F1LhoH/bjPWcPy X-Received: by 2002:a05:6e02:1a8b:b0:3df:41d3:90ad with SMTP id e9e14a558f8ab-3e136f3bbc2mr29196845ab.9.1751655493790; Fri, 04 Jul 2025 11:58:13 -0700 (PDT) Received: from postal.iol.unh.edu (postal.iol.unh.edu. [132.177.123.84]) by smtp-relay.gmail.com with ESMTPS id e9e14a558f8ab-3e0f3434623sm1700305ab.11.2025.07.04.11.58.13 (version=TLS1_2 cipher=ECDHE-ECDSA-AES128-GCM-SHA256 bits=128/128); Fri, 04 Jul 2025 11:58:13 -0700 (PDT) X-Relaying-Domain: iol.unh.edu Date: Fri, 04 Jul 2025 11:58:13 -0700 (PDT) Message-ID: <68682445.050a0220.20a828.974bSMTPIN_ADDED_MISSING@mx.google.com> Received: from [172.21.0.13] (unknown [172.18.0.240]) by postal.iol.unh.edu (Postfix) with ESMTP id 688006051830; Fri, 4 Jul 2025 14:58:13 -0400 (EDT) Subject: |WARNING| pw154969 [PATCH] [v2] build/x86: fix support for older com From: dpdklab@iol.unh.edu To: Test Report Cc: dpdk-test-reports@iol.unh.edu In-Reply-To: <20250702160138.3441279-1-bruce.richardson@intel.com> References: <20250702160138.3441279-1-bruce.richardson@intel.com> Content-Type: text/plain X-BeenThere: test-report@dpdk.org X-Mailman-Version: 2.1.29 Precedence: list List-Id: automatic DPDK test reports List-Unsubscribe: , List-Archive: List-Post: List-Help: List-Subscribe: , Errors-To: test-report-bounces@dpdk.org Test-Label: iol-unit-amd64-testing Test-Status: WARNING http://dpdk.org/patch/154969 _Testing issues_ Submitter: Bruce Richardson Date: Wednesday, July 02 2025 16:00:45 DPDK git baseline: Repo:dpdk Branch: master CommitID:70c2297528e7c7789af452f78de1932e9a20c8a2 154969 --> testing issues Upstream job id: Generic-VM-Unit-Test-DPDK#29718 Test environment and result as below: +-------------------------------+----------------+ | Environment | dpdk_unit_test | +===============================+================+ | Fedora Linux 40 | WARN | +-------------------------------+----------------+ | CentOS Stream 10 | WARN | +-------------------------------+----------------+ | Debian GNU/Linux 12 | WARN | +-------------------------------+----------------+ | Fedora Linux 41 | WARN | +-------------------------------+----------------+ | CentOS Stream 9 | WARN | +-------------------------------+----------------+ | Red Hat Enterprise Linux 9.5 | WARN | +-------------------------------+----------------+ | Red Hat Enterprise Linux 8.10 | WARN | +-------------------------------+----------------+ | Ubuntu 24.04 | WARN | +-------------------------------+----------------+ | Ubuntu 22.04 | WARN | +-------------------------------+----------------+ | Ubuntu 20.04 | WARN | +-------------------------------+----------------+ | Windows Server 2022 | PASS | +-------------------------------+----------------+ ==== 20 line log output for Ubuntu 20.04 (dpdk_unit_test): ==== Compiler for C supports arguments -Wsign-compare: YES Compiler for C supports arguments -Wstrict-prototypes: YES Compiler for C supports arguments -Wundef: YES Compiler for C supports arguments -Wwrite-strings: YES Compiler for C supports arguments -Wno-packed-not-aligned: YES Compiler for C supports arguments -Wno-missing-field-initializers: YES Compiler for C supports arguments -fzero-init-padding-bits=all: NO Fetching value of define "__AVX2__" : 1 Fetching value of define "__znver1__" : Fetching value of define "__znver2__" : Fetching value of define "__znver3__" : Fetching value of define "__znver4__" : Fetching value of define "__znver5__" : Program objdump found: YES (/usr/bin/objdump) Compiler for C supports arguments -march=x86-64-v4: NO Fetching value of define "__AVX512F__" : 1 config/x86/meson.build:81:6: ERROR: List item must be one of , not A full log can be found at /root/workspace/Generic-Unit-Test-DPDK/dpdk/build/meson-logs/meson-log.txt ==== End log output ==== Fedora Linux 40 Kernel: 5.15 Compiler: clang gcc (GCC) 14.2.1 20240912 (Red Hat 14.2.1-3) CentOS Stream 10 Kernel: 5.15 Compiler: gcc gcc (GCC) 14.2.1 20250110 (Red Hat 14.2.1-8) Debian GNU/Linux 12 Kernel: 5.15 Compiler: gcc gcc (Debian 12.2.0-14+deb12u1) 12.2.0 Fedora Linux 41 Kernel: 5.15 Compiler: gcc gcc (GCC) 14.3.1 20250523 (Red Hat 14.3.1-1) CentOS Stream 9 Kernel: 5.15 Compiler: gcc gcc (GCC) 11.5.0 20240719 (Red Hat 11.5.0-7) Red Hat Enterprise Linux 9.5 Kernel: 5.15 Compiler: gcc gcc (GCC) 11.5.0 20240719 (Red Hat 11.5.0-2) Red Hat Enterprise Linux 8.10 Kernel: 5.15 Compiler: gcc gcc (GCC) 8.5.0 20210514 (Red Hat 8.5.0-22) Ubuntu 24.04 Kernel: 5.15 Compiler: gcc gcc (Ubuntu 13.3.0-6ubuntu2~24.04) 13.3.0 Ubuntu 22.04 Kernel: 5.15 Compiler: gcc gcc (Ubuntu 11.4.0-1ubuntu1~22.04) 11.4.0 Ubuntu 20.04 Kernel: 5.15 Compiler: gcc gcc (Ubuntu 9.4.0-1ubuntu1~20.04.2) 9.4.0 Windows Server 2022 Kernel: 10.0.20348.2031 Compiler: clang 15.0.7, gcc 14.1.0 (MinGW), and MSVC VS 19.39.33521 To view detailed results, visit: https://lab.dpdk.org/results/dashboard/patchsets/33570/ UNH-IOL DPDK Community Lab To manage your email subscriptions, visit: https://lab.dpdk.org/results/dashboard/preferences/subscriptions/