From mboxrd@z Thu Jan 1 00:00:00 1970 Return-Path: Received: from mails.dpdk.org (mails.dpdk.org [217.70.189.124]) by inbox.dpdk.org (Postfix) with ESMTP id 2F8DC46A8B for ; Fri, 4 Jul 2025 21:43:56 +0200 (CEST) Received: from mails.dpdk.org (localhost [127.0.0.1]) by mails.dpdk.org (Postfix) with ESMTP id 297314028B; Fri, 4 Jul 2025 21:43:56 +0200 (CEST) Received: from mail-pl1-f225.google.com (mail-pl1-f225.google.com [209.85.214.225]) by mails.dpdk.org (Postfix) with ESMTP id 187D14028B for ; Fri, 4 Jul 2025 21:43:55 +0200 (CEST) Received: by mail-pl1-f225.google.com with SMTP id d9443c01a7336-235a3dd4f0dso8166475ad.0 for ; Fri, 04 Jul 2025 12:43:55 -0700 (PDT) DKIM-Signature: v=1; a=rsa-sha256; c=relaxed/relaxed; d=iol.unh.edu; s=unh-iol; t=1751658234; x=1752263034; darn=dpdk.org; h=references:in-reply-to:cc:to:from:subject:message-id:date:from:to :cc:subject:date:message-id:reply-to; bh=vFRn4yk+bXNRXe7Wbc4Rb4QDTWaVAkSeUhYo3/sfGVQ=; b=jq5+o74JoJif624yC81UvREpppypOo7CumwTQ8jIfgBmnRDV9t3bIPBqW+Qqa5OYBL 9Pm7EKM9wuJ8iRWzqJGTfQUksh7+VgjgYSChOoEyW4Ysul4WP+cYDu2DNWTFjuSvSSEO cUZecdeRnhMzoaA6+79BZ8XTiObMsAfoEpSkM= X-Google-DKIM-Signature: v=1; a=rsa-sha256; c=relaxed/relaxed; d=1e100.net; s=20230601; t=1751658234; x=1752263034; h=references:in-reply-to:cc:to:from:subject:message-id:date :x-gm-message-state:from:to:cc:subject:date:message-id:reply-to; bh=vFRn4yk+bXNRXe7Wbc4Rb4QDTWaVAkSeUhYo3/sfGVQ=; b=M+wkLI5LiJJgTJiZBEs2QvzjXjQMvyeHJlMttwwzsO+uHgEvTzfJYxqash5HcL35OQ NWwd/kg8XyJqax5k3Xo227tTJrM2sMJY88ck7JJ4E3smQoKknjGJ7tQV1yt1zROH43WL 1566X3M/XOfJSwdjTOdnaT9Ry9cMhD8LwGOw3uzwh5ot1wczDI4+MGxmId2P1WG6Sf0T 6pO8XvnCrtL+p+mpsQJO9ID9LQGQt3MnhNx08RkkVcUih1j/MwwuAAgKYjjyIao9GjKL iGxl2fhdUPwEdgf7QJTUymkiyNXU+kvUFhwZVJIE82gCMFvdJBw84v9Vnk92c8+gUtxD dtKQ== X-Gm-Message-State: AOJu0Yxh0cSl8/XE4o068umvgZbv1zFKoeJOYH4dCeuSgL/NVG2JDZ6d F26KoG1gwfN8xAmIIyyp/2WzFdsvey1eaJJgFi2DEhc2w/E3ydvo8Lagz/a5G/2IgVhElE7hcVh AIg6qdpOzVcsXiwjgoqbdzOLFfhwHzGU7Es17SGZL315wAxvUgSiAzoYTRQ2c X-Gm-Gg: ASbGncsg5YPfYYVtnRggCFvUFzpikvo40PLIujwxFXYrLAzfslgBt1ge5HtuaCCnMxJ 7hSiUuKnz5uE9Vcz2YMDAc5tIr7lNTRCug/w2lMK+x/1GXa2HiD9b5viVYucUlhPr5sePjfewes myF42rh9PqZ+Ke4c7H1UzQ0X/IWcq7yd2zHGRT1qg/XjSnRyAsFBzrXNQxGk/9IA6aIb6XOYgR5 7cXMeEDRVE3+7P7u5aoxy3CI/09xGaURm5BHiDaqFFy0MMURZWgKL3wkD10bxoH2Q9uXOS16fXL Es6X1kSbPBAarBVBkPpFCb+4q9OyTBDdgIB/saW9dYFM0oM= X-Google-Smtp-Source: AGHT+IGZ4+c/qWAeCefyDZeA9osmt91BgRBM1dXJMr6LujW8bIwWiCGAteAP1RikPgCdmAbrXbapYMbe4q3v X-Received: by 2002:a17:903:2cd:b0:220:c4e8:3b9f with SMTP id d9443c01a7336-23c85f960c1mr62253175ad.0.1751658234205; Fri, 04 Jul 2025 12:43:54 -0700 (PDT) Received: from postal.iol.unh.edu (postal.iol.unh.edu. [2606:4100:3880:1234::84]) by smtp-relay.gmail.com with ESMTPS id d9443c01a7336-23c842d0490sm1258145ad.37.2025.07.04.12.43.54 (version=TLS1_2 cipher=ECDHE-ECDSA-AES128-GCM-SHA256 bits=128/128); Fri, 04 Jul 2025 12:43:54 -0700 (PDT) X-Relaying-Domain: iol.unh.edu Date: Fri, 04 Jul 2025 12:43:54 -0700 (PDT) Message-ID: <68682efa.170a0220.3a7da9.6ca4SMTPIN_ADDED_MISSING@mx.google.com> Received: from [172.21.0.10] (unknown [172.18.0.240]) by postal.iol.unh.edu (Postfix) with ESMTP id AD3606051830; Fri, 4 Jul 2025 15:43:53 -0400 (EDT) Subject: |SUCCESS| pw154969 [PATCH] [v2] build/x86: fix support for older com From: dpdklab@iol.unh.edu To: Test Report Cc: dpdk-test-reports@iol.unh.edu In-Reply-To: <20250702160138.3441279-1-bruce.richardson@intel.com> References: <20250702160138.3441279-1-bruce.richardson@intel.com> Content-Type: text/plain X-BeenThere: test-report@dpdk.org X-Mailman-Version: 2.1.29 Precedence: list List-Id: automatic DPDK test reports List-Unsubscribe: , List-Archive: List-Post: List-Help: List-Subscribe: , Errors-To: test-report-bounces@dpdk.org Test-Label: iol-unit-arm64-testing Test-Status: SUCCESS http://dpdk.org/patch/154969 _Testing PASS_ Submitter: Bruce Richardson Date: Wednesday, July 02 2025 16:00:45 DPDK git baseline: Repo:dpdk Branch: master CommitID:70c2297528e7c7789af452f78de1932e9a20c8a2 154969 --> testing pass Upstream job id: Generic-Unit-Test-DPDK#352581 Test environment and result as below: +------------------------------+----------------+--------------+---------------------------+------------------------------+ | Environment | dpdk_unit_test | lpm_autotest | cryptodev_sw_zuc_autotest | cryptodev_sw_snow3g_autotest | +==============================+================+==============+===========================+==============================+ | CentOS Stream 9 | PASS | SKIPPED | SKIPPED | SKIPPED | +------------------------------+----------------+--------------+---------------------------+------------------------------+ | Debian GNU/Linux 12 | PASS | SKIPPED | SKIPPED | SKIPPED | +------------------------------+----------------+--------------+---------------------------+------------------------------+ | Fedora Linux 40 | PASS | SKIPPED | SKIPPED | SKIPPED | +------------------------------+----------------+--------------+---------------------------+------------------------------+ | Ubuntu 24.04 | PASS | SKIPPED | SKIPPED | SKIPPED | +------------------------------+----------------+--------------+---------------------------+------------------------------+ | CentOS Stream 10 | PASS | SKIPPED | SKIPPED | SKIPPED | +------------------------------+----------------+--------------+---------------------------+------------------------------+ | Ubuntu 20.04 | PASS | PASS | SKIPPED | SKIPPED | +------------------------------+----------------+--------------+---------------------------+------------------------------+ | Ubuntu 22.04 | PASS | SKIPPED | SKIPPED | SKIPPED | +------------------------------+----------------+--------------+---------------------------+------------------------------+ | Fedora Linux 41 | PASS | SKIPPED | SKIPPED | SKIPPED | +------------------------------+----------------+--------------+---------------------------+------------------------------+ | Red Hat Enterprise Linux 9.5 | PASS | SKIPPED | SKIPPED | SKIPPED | +------------------------------+----------------+--------------+---------------------------+------------------------------+ | Debian 12 (arm) | SKIPPED | SKIPPED | PASS | PASS | +------------------------------+----------------+--------------+---------------------------+------------------------------+ CentOS Stream 9 Kernel: 5.4 Compiler: gcc gcc (GCC) 11.5.0 20240719 (Red Hat 11.5.0-7) Debian GNU/Linux 12 Kernel: 5.4 Compiler: gcc gcc (Debian 12.2.0-14+deb12u1) 12.2.0 Fedora Linux 40 Kernel: 5.4 Compiler: gcc gcc (GCC) 14.2.1 20240912 (Red Hat 14.2.1-3) Ubuntu 24.04 Kernel: 5.4 Compiler: gcc gcc (Ubuntu 13.3.0-6ubuntu2~24.04) 13.3.0 CentOS Stream 10 Kernel: 5.4 Compiler: gcc gcc (GCC) 14.2.1 20250110 (Red Hat 14.2.1-8) Ubuntu 20.04 Kernel: 5.4 Compiler: gcc gcc (Ubuntu 9.4.0-1ubuntu1~20.04.2) 9.4.0 Ubuntu 22.04 Kernel: 5.4 Compiler: gcc gcc (Ubuntu 11.4.0-1ubuntu1~22.04) 11.4.0 Fedora Linux 41 Kernel: 5.4 Compiler: gcc gcc (GCC) 14.3.1 20250523 (Red Hat 14.3.1-1) Red Hat Enterprise Linux 9.5 Kernel: 5.4 Compiler: gcc gcc (GCC) 11.5.0 20240719 (Red Hat 11.5.0-2) Debian 12 (arm) Kernel: Depends on container host Compiler: gcc (Debian 12.2.0-14) 12.2.0 To view detailed results, visit: https://lab.dpdk.org/results/dashboard/patchsets/33570/ UNH-IOL DPDK Community Lab To manage your email subscriptions, visit: https://lab.dpdk.org/results/dashboard/preferences/subscriptions/