From mboxrd@z Thu Jan 1 00:00:00 1970 Return-Path: Received: from mails.dpdk.org (mails.dpdk.org [217.70.189.124]) by inbox.dpdk.org (Postfix) with ESMTP id 4243C46AED for ; Fri, 4 Jul 2025 22:13:24 +0200 (CEST) Received: from mails.dpdk.org (localhost [127.0.0.1]) by mails.dpdk.org (Postfix) with ESMTP id 26D3F4028B; Fri, 4 Jul 2025 22:13:24 +0200 (CEST) Received: from mail-qv1-f97.google.com (mail-qv1-f97.google.com [209.85.219.97]) by mails.dpdk.org (Postfix) with ESMTP id 6AF304028B for ; Fri, 4 Jul 2025 22:13:22 +0200 (CEST) Received: by mail-qv1-f97.google.com with SMTP id 6a1803df08f44-6fad8b4c927so13196946d6.0 for ; Fri, 04 Jul 2025 13:13:22 -0700 (PDT) DKIM-Signature: v=1; a=rsa-sha256; c=relaxed/relaxed; d=iol.unh.edu; s=unh-iol; t=1751660001; x=1752264801; darn=dpdk.org; h=references:in-reply-to:cc:to:from:subject:message-id:date:from:to :cc:subject:date:message-id:reply-to; bh=mA/LyYxiBJAkUb2Qp2S4oUr2kSxvASYsZXhUqLGcjho=; b=QN/j5LBkoCcnaPVeSGG7nHj9lBrtBVTBvHy7iaZcTRu+wXWcdonigQiWWh+AZq92Y7 k0Z2Ft/PQ5acDZeVBm2T5N/hvteax7+U1TZ5safQ/PcH0yrS363MZv4ooCl7d/KFM9nS A35I0XWhzIhADFncoyRhrcu5XkPDOibkv4Fbg= X-Google-DKIM-Signature: v=1; a=rsa-sha256; c=relaxed/relaxed; d=1e100.net; s=20230601; t=1751660001; x=1752264801; h=references:in-reply-to:cc:to:from:subject:message-id:date :x-gm-message-state:from:to:cc:subject:date:message-id:reply-to; bh=mA/LyYxiBJAkUb2Qp2S4oUr2kSxvASYsZXhUqLGcjho=; b=D+BD0dV0ptegJXmkFVaeEEWxMxVLizciYyA00SxGtoMXNNUDK/lXMn99Trt7iXKKnf AO2H4Y2+I8xqVT76MOntHxJwP1iJXOddLoq305BC2e9T8weSdpbR/6hljvJ79Fi6FcUw O8IadH56BFOou5DduR9k5dvG/VFCrel9jsl6znvSB1mJ+UgJ49eqfm8zYXD4DSEp//we UNJ6B11KZV+MCXH8ker9q6DQZq5pWG89UC2umpaT4rMuS7G/7ZyEvJx3RlCzXn7vhgjJ f/Wi/zePbejBuSsd899ITaAPBzOGXDw2MEjO/G0TD9t3hJ/rPk7bMbmgFnqjFPprHnbG m+1Q== X-Gm-Message-State: AOJu0Yy8hAgwz0llRkjTzgwSS7BnxAZuGB7Cmbi18O/y8V8+6wSlHxsi Wc5nqrPashPJ53krvsdh6y73X8ZClewEswLoGaWCqvtJ0+rqKUXgxqJYEmI0f0Rl2p9oamoWhfF vlMRpErEuY5OXlmsh6jkPzYgoGpL+V7nwjjPyNhINPKTRYqzAAYFNKZJkGPsx X-Gm-Gg: ASbGncsfSIXbSAbto+EU0BR1BRMRuhdEc1QXSVx7YP/94JF8HhqoIQfBHQmgjSJDv3M FrcOCrr0Ay608N264XRrYuArwMDquuauJMJNj2RsrnbmOVGv3RvH0vjJRioU9Lb3HVwwjVELEvf G5vBJUsIyi5XPJetCRfK/qJ03OX1bOr3KjNMfxqHc55SqKF3W/9iSylK4MncUlvKtqEpDheFlvZ yMLH8U+cwqPINGTkeqmWYJY2L8zrYu0VodQ+kfnY5+bPHvm+5drRmp88tj6zbuhIBT8LYucQT7X XFMYNLbTpGAW1dDh8+aXNVMmeVFlCAK1i/XvC7NpHgeuVFo= X-Google-Smtp-Source: AGHT+IGM1X0Oq8yiyKD4raYKzfbsBuOB72IJvUxeH0OQMxfvZxUfy1Lor8Qod8htf+u/+TyspkFwu2qJZzeI X-Received: by 2002:a05:6214:daa:b0:6fb:5f97:510f with SMTP id 6a1803df08f44-702c6dc1b7fmr47161366d6.44.1751660001648; Fri, 04 Jul 2025 13:13:21 -0700 (PDT) Received: from postal.iol.unh.edu (postal.iol.unh.edu. [2606:4100:3880:1234::84]) by smtp-relay.gmail.com with ESMTPS id 6a1803df08f44-702c4cca425sm1222076d6.22.2025.07.04.13.13.21 (version=TLS1_2 cipher=ECDHE-ECDSA-AES128-GCM-SHA256 bits=128/128); Fri, 04 Jul 2025 13:13:21 -0700 (PDT) X-Relaying-Domain: iol.unh.edu Date: Fri, 04 Jul 2025 13:13:21 -0700 (PDT) Message-ID: <686835e1.050a0220.3e807.6784SMTPIN_ADDED_MISSING@mx.google.com> Received: from [172.21.0.6] (unknown [172.18.0.240]) by postal.iol.unh.edu (Postfix) with ESMTP id 5E8EE6051830; Fri, 4 Jul 2025 16:13:21 -0400 (EDT) Subject: |SUCCESS| pw154921-154923 [PATCH] [v2,5/5] riscv: override machine_a From: dpdklab@iol.unh.edu To: Test Report Cc: dpdk-test-reports@iol.unh.edu In-Reply-To: References: Content-Type: text/plain X-BeenThere: test-report@dpdk.org X-Mailman-Version: 2.1.29 Precedence: list List-Id: automatic DPDK test reports List-Unsubscribe: , List-Archive: List-Post: List-Help: List-Subscribe: , Errors-To: test-report-bounces@dpdk.org Test-Label: iol-compile-amd64-testing Test-Status: SUCCESS http://dpdk.org/patch/154923 _Testing PASS_ Submitter: None Date: Tuesday, July 01 2025 18:20:33 DPDK git baseline: Repo:dpdk Branch: master CommitID:70c2297528e7c7789af452f78de1932e9a20c8a2 154921-154923 --> testing pass Upstream job id: Windows-Compile-DPDK-Native#29572 Test environment and result as below: +---------------------+--------------------+-------------------+-------------------------+ | Environment | dpdk_meson_compile | dpdk_msvc_compile | dpdk_llvm_clang_compile | +=====================+====================+===================+=========================+ | Ubuntu 20.04 | PASS | SKIPPED | SKIPPED | +---------------------+--------------------+-------------------+-------------------------+ | Windows Server 2022 | SKIPPED | PASS | PASS | +---------------------+--------------------+-------------------+-------------------------+ Ubuntu 20.04 Kernel: 4.19 Compiler: gcc gcc (Ubuntu 9.4.0-1ubuntu1~20.04.2) 9.4.0 Windows Server 2022 Kernel: 10.0.20348.2031 Compiler: clang 15.0.7, gcc 14.1.0 (MinGW), and MSVC VS 19.39.33521 To view detailed results, visit: https://lab.dpdk.org/results/dashboard/patchsets/33559/ UNH-IOL DPDK Community Lab To manage your email subscriptions, visit: https://lab.dpdk.org/results/dashboard/preferences/subscriptions/