From mboxrd@z Thu Jan 1 00:00:00 1970 Return-Path: Received: from mails.dpdk.org (mails.dpdk.org [217.70.189.124]) by inbox.dpdk.org (Postfix) with ESMTP id F0D1546AED for ; Fri, 4 Jul 2025 22:20:29 +0200 (CEST) Received: from mails.dpdk.org (localhost [127.0.0.1]) by mails.dpdk.org (Postfix) with ESMTP id EB4864028B; Fri, 4 Jul 2025 22:20:29 +0200 (CEST) Received: from mail-il1-f225.google.com (mail-il1-f225.google.com [209.85.166.225]) by mails.dpdk.org (Postfix) with ESMTP id 7DD5E4028B for ; Fri, 4 Jul 2025 22:20:29 +0200 (CEST) Received: by mail-il1-f225.google.com with SMTP id e9e14a558f8ab-3df30d542caso5675015ab.1 for ; Fri, 04 Jul 2025 13:20:29 -0700 (PDT) DKIM-Signature: v=1; a=rsa-sha256; c=relaxed/relaxed; d=iol.unh.edu; s=unh-iol; t=1751660429; x=1752265229; darn=dpdk.org; h=references:in-reply-to:cc:to:from:subject:message-id:date:from:to :cc:subject:date:message-id:reply-to; bh=j5NrdVU3Na2u4h4rKrwLgK1WI50DX68sHY3a701YKc8=; b=AqbkUIe7ki3UdkYilOYGLYCiN9tkbCeh1mMX0Vhr3gewFxweXEI4yeCztPoI2HuX3c xcZg710vSY9F2rFaJ+g2ymSumLuLVfeT9p4xjuqWeYbdg1raSQhTIbvVzNtJmUX80iIT gDsmINQ2cAjtOFKlOV6wR5k58V+MQ+p7+ZWOQ= X-Google-DKIM-Signature: v=1; a=rsa-sha256; c=relaxed/relaxed; d=1e100.net; s=20230601; t=1751660429; x=1752265229; h=references:in-reply-to:cc:to:from:subject:message-id:date :x-gm-message-state:from:to:cc:subject:date:message-id:reply-to; bh=j5NrdVU3Na2u4h4rKrwLgK1WI50DX68sHY3a701YKc8=; b=OZjb3p1ERUkYKdQ5LLmtILB7oxifV34Z/vbhlcku/r6v0bvXvEbWxQ6OXhImlpuYQE t5WsGpxyZIQFzwHmKSr28phUbEl/EMjgE3D/Mv6S2JLuDl6GAy5ZjtSBpHZlPZCtUTqB tfltj5Yahf6R2+HGHoJwFGzOddCG/0BAhO3dNG/d/6k2u798RQ7OhWvqNxCfuJDvfh2X SmZNZfTvCoKpoQG6GnfH1kIQkK9n25fQZhOyxJZRC8jMfeyLD5YqCg2r5ezKuSTxLGom HTieMtqkxEKw0CFGWr9Kyft2YM5MWraXqyOhFSzcsJSDnwpzqSxkObaVF/7Eotwrhtkd 7Z4g== X-Gm-Message-State: AOJu0YxRKHaGSsyQ+gNM75Zd1+3FhwF+AM0G/2/3gDwb46YUJYHmXMK5 RIW7GfJvUcT5GW0FDs9JxuzkfIeRvk4SH16rXsuWjEUyCJgxHfB0LwtB1ccax/R0aiQ39T6KuFR g2C87bNDkrqBWgWNpxtdegmkfEuMsuaRr4WN4bNZ4WRaR X-Gm-Gg: ASbGnctxTIt7Y5TI2ld9/2XDFvRr1GQOWVgJTXfJYtn3R1xTHqnmzLfAF2biSnQROvM bCp4Zky7xQhgkIflIawEX39gwWpw+iG5HD2/rBvwgUBkxjZDLIntSlBPR5aUFu2Unt1CqSFq1h6 YltKdTvTv+34MxreTZpkKGVuCmUbRCiAJQDnPNbnhCRsdAndwbJ9fpqmu3qvmGk7U6Cv+zQd68Y 6Znck/ZdhFWQztLDkdVhEJqrM3XVJX/blUrRNuVIPxuisK8VvnA6VqlboFQw0eBaFwrhmLjWyol WPnHDttTGf6A/W8uFabPaGDh/ORjko7mhRcvqFAUUbOWte1JKyD0pZ2j3vsuhRgaKi4NGw== X-Google-Smtp-Source: AGHT+IFDHe3tA8H1L2zzptcUrtyhWz8ZqW8ptNwfURYgwzCK7Ex70o5bVqS5IqGuBdDYLS4COUIhhkwivUM4 X-Received: by 2002:a05:6e02:370b:b0:3e0:5430:3143 with SMTP id e9e14a558f8ab-3e1371ca73bmr33040315ab.15.1751660428768; Fri, 04 Jul 2025 13:20:28 -0700 (PDT) Received: from postal.iol.unh.edu (postal.iol.unh.edu. [132.177.123.84]) by smtp-relay.gmail.com with ESMTPS id e9e14a558f8ab-3e1004ca36csm1735285ab.70.2025.07.04.13.20.28 (version=TLS1_2 cipher=ECDHE-ECDSA-AES128-GCM-SHA256 bits=128/128); Fri, 04 Jul 2025 13:20:28 -0700 (PDT) X-Relaying-Domain: iol.unh.edu Date: Fri, 04 Jul 2025 13:20:28 -0700 (PDT) Message-ID: <6868378c.050a0220.3bf429.9222SMTPIN_ADDED_MISSING@mx.google.com> Received: from [172.21.0.5] (unknown [172.18.0.240]) by postal.iol.unh.edu (Postfix) with ESMTP id 6ABA16051830; Fri, 4 Jul 2025 16:20:28 -0400 (EDT) Subject: |SUCCESS| pw154943-154944 [PATCH] [v4,2/2] crypto/uadk: use async mo From: dpdklab@iol.unh.edu To: Test Report Cc: dpdk-test-reports@iol.unh.edu In-Reply-To: <20250702024216.49587-3-zhangfei.gao@linaro.org> References: <20250702024216.49587-3-zhangfei.gao@linaro.org> Content-Type: text/plain X-BeenThere: test-report@dpdk.org X-Mailman-Version: 2.1.29 Precedence: list List-Id: automatic DPDK test reports List-Unsubscribe: , List-Archive: List-Post: List-Help: List-Subscribe: , Errors-To: test-report-bounces@dpdk.org Test-Label: iol-unit-amd64-testing Test-Status: SUCCESS http://dpdk.org/patch/154944 _Testing PASS_ Submitter: Zhangfei Gao Date: Wednesday, July 02 2025 02:42:16 DPDK git baseline: Repo:dpdk Branch: master CommitID:5b132556bd54881bc69d413b0b8fbedb0efcb774 154943-154944 --> testing pass Upstream job id: Generic-Unit-Test-DPDK#352608 Test environment and result as below: +-------------------------------+----------------+ | Environment | dpdk_unit_test | +===============================+================+ | CentOS Stream 9 | PASS | +-------------------------------+----------------+ | Debian GNU/Linux 12 | PASS | +-------------------------------+----------------+ | Fedora Linux 40 | PASS | +-------------------------------+----------------+ | CentOS Stream 10 | PASS | +-------------------------------+----------------+ | Red Hat Enterprise Linux 8.10 | PASS | +-------------------------------+----------------+ | Fedora Linux 41 | PASS | +-------------------------------+----------------+ | Red Hat Enterprise Linux 9.5 | PASS | +-------------------------------+----------------+ | Ubuntu 24.04 | PASS | +-------------------------------+----------------+ | Ubuntu 22.04 | PASS | +-------------------------------+----------------+ | Ubuntu 20.04 | PASS | +-------------------------------+----------------+ | Windows Server 2022 | PASS | +-------------------------------+----------------+ CentOS Stream 9 Kernel: 5.15 Compiler: gcc gcc (GCC) 11.5.0 20240719 (Red Hat 11.5.0-7) Debian GNU/Linux 12 Kernel: 5.15 Compiler: gcc gcc (Debian 12.2.0-14+deb12u1) 12.2.0 Fedora Linux 40 Kernel: 5.15 Compiler: clang gcc (GCC) 14.2.1 20240912 (Red Hat 14.2.1-3) CentOS Stream 10 Kernel: 5.15 Compiler: gcc gcc (GCC) 14.2.1 20250110 (Red Hat 14.2.1-8) Red Hat Enterprise Linux 8.10 Kernel: 5.15 Compiler: gcc gcc (GCC) 8.5.0 20210514 (Red Hat 8.5.0-22) Fedora Linux 41 Kernel: 5.15 Compiler: gcc gcc (GCC) 14.3.1 20250523 (Red Hat 14.3.1-1) Red Hat Enterprise Linux 9.5 Kernel: 5.15 Compiler: gcc gcc (GCC) 11.5.0 20240719 (Red Hat 11.5.0-2) Ubuntu 24.04 Kernel: 5.15 Compiler: gcc gcc (Ubuntu 13.3.0-6ubuntu2~24.04) 13.3.0 Ubuntu 22.04 Kernel: 5.15 Compiler: gcc gcc (Ubuntu 11.4.0-1ubuntu1~22.04) 11.4.0 Ubuntu 20.04 Kernel: 5.15 Compiler: gcc gcc (Ubuntu 9.4.0-1ubuntu1~20.04.2) 9.4.0 Windows Server 2022 Kernel: 10.0.20348.2031 Compiler: clang 15.0.7, gcc 14.1.0 (MinGW), and MSVC VS 19.39.33521 To view detailed results, visit: https://lab.dpdk.org/results/dashboard/patchsets/33561/ UNH-IOL DPDK Community Lab To manage your email subscriptions, visit: https://lab.dpdk.org/results/dashboard/preferences/subscriptions/