From mboxrd@z Thu Jan 1 00:00:00 1970 Return-Path: Received: from mails.dpdk.org (mails.dpdk.org [217.70.189.124]) by inbox.dpdk.org (Postfix) with ESMTP id 554CA46AED for ; Fri, 4 Jul 2025 22:34:05 +0200 (CEST) Received: from mails.dpdk.org (localhost [127.0.0.1]) by mails.dpdk.org (Postfix) with ESMTP id 4F9CC4028B; Fri, 4 Jul 2025 22:34:05 +0200 (CEST) Received: from mail-il1-f226.google.com (mail-il1-f226.google.com [209.85.166.226]) by mails.dpdk.org (Postfix) with ESMTP id 88EDF4028B for ; Fri, 4 Jul 2025 22:34:04 +0200 (CEST) Received: by mail-il1-f226.google.com with SMTP id e9e14a558f8ab-3e058e82584so11361865ab.2 for ; Fri, 04 Jul 2025 13:34:04 -0700 (PDT) DKIM-Signature: v=1; a=rsa-sha256; c=relaxed/relaxed; d=iol.unh.edu; s=unh-iol; t=1751661244; x=1752266044; darn=dpdk.org; h=references:in-reply-to:cc:to:from:subject:message-id:date:from:to :cc:subject:date:message-id:reply-to; bh=3A2zXSxKMNE1TEb7p2NvY3Gr8TR5WnFqbh6hnYQLUWo=; b=I2A1wL8daC4ZQUhpWMLpY1gmwK8uihrqwWoktbnfWUJl7IMEsGB3BuJ0+Vy1YZdMJG ilPIDNr+JBu+0avWPNwpw4LieeA70zbdlSH3yO/+QoHrbOEjuf/uexkXKxLPLdHqXEJR kv+1vHJn40xexDKRs50RIHUQxORZy+OFrSXck= X-Google-DKIM-Signature: v=1; a=rsa-sha256; c=relaxed/relaxed; d=1e100.net; s=20230601; t=1751661244; x=1752266044; h=references:in-reply-to:cc:to:from:subject:message-id:date :x-gm-message-state:from:to:cc:subject:date:message-id:reply-to; bh=3A2zXSxKMNE1TEb7p2NvY3Gr8TR5WnFqbh6hnYQLUWo=; b=X3RoY5qEyfdY1Wdbsd4KJyjjWzqAFS88vm+vC6pZh6f3eZUSMr/Xdhgm7exNzg9FB/ sS/W/vjJLya0DSbMC4Kb/GxYbC/S+IIYazli1kJVmOdLNFFbgl5IjuJW1oZw/j15BLyN uR+dnMMINBE7ooTb0Pn1t0agi0d+S+Bl5lJQvj9D4y/HhhSuTWAkDBlURl/V+b4/S8cJ t4xq/MXYaMIRuTXSMkBnkRk9EUeePkQ2C5cOJR99hLdn76Slch9wCONEDFIkrG0NU3Jh BKc1ecu8vM+sVwNLiFCB6gfLXTBy1Y61A2nCE8KgbLLGwSoSjmXztmegw+yl9fFxUnj5 yOPA== X-Gm-Message-State: AOJu0YyUAW537X2ii+RWIuCJeMNmC0CCJ77rapIsrAYVR0drMe4kelRe epl1ClS8uhhkudgBOJifuO0+y4oyLwlkRJ9rbbX/EOubxEzlglWa8NgXX4iK9i4ab3/6/GMK09R GeF6VMxic5uuCnR9Vb0/Hh4q/eAOUQ+MUnfaTi4GgLCYPnsvUmGPtQAbtx0yI X-Gm-Gg: ASbGncvGbam8+fCmP6f0g/+S8d3Okf0/xQwmvmFFtdmn6Ss0/YSPgKBU9TmOjBH4E/V ONytvlRXQnlNfm5KD7fopmqWt7Z74Bh9m93j3NyQ3s3OfBA32v8o9dVPaLFLNGZGvM+r2RGkqT8 7bT+z7Asiuj8mnoV9Zi8EY42DbcmsLg4Ozhu12Jv03391qy4bb2eAv8u8fZHjkBE/gTXw0Ixx8N z25FmVN0U7O+tV6EvPz/CTFHFPQfNX2zM+EyeLqaQljCPcCVzHLCrV83oH0vUSKrQcjBH8CwEPL CNs99BTe6MqNqOFu0BW5BjF7IbmEBpkYWZJUMkF72GYW3Sg= X-Google-Smtp-Source: AGHT+IFl8M0732NdYitDymSC1VjR3jwnzV9ovirczr/I+Q4zyLBO77fp9xs3gfjIOIOuXX8RTXTa6cSw5NYC X-Received: by 2002:a05:6e02:198a:b0:3df:3208:968e with SMTP id e9e14a558f8ab-3e13ef0c804mr2403315ab.14.1751661243861; Fri, 04 Jul 2025 13:34:03 -0700 (PDT) Received: from postal.iol.unh.edu (postal.iol.unh.edu. [2606:4100:3880:1234::84]) by smtp-relay.gmail.com with ESMTPS id e9e14a558f8ab-3e1004b57d3sm1770075ab.62.2025.07.04.13.34.03 (version=TLS1_2 cipher=ECDHE-ECDSA-AES128-GCM-SHA256 bits=128/128); Fri, 04 Jul 2025 13:34:03 -0700 (PDT) X-Relaying-Domain: iol.unh.edu Date: Fri, 04 Jul 2025 13:34:03 -0700 (PDT) Message-ID: <68683abb.050a0220.d9ef.92ecSMTPIN_ADDED_MISSING@mx.google.com> Received: from [172.21.0.5] (unknown [172.18.0.240]) by postal.iol.unh.edu (Postfix) with ESMTP id 64DEB6051830; Fri, 4 Jul 2025 16:34:03 -0400 (EDT) Subject: |SUCCESS| pw154921-154923 [PATCH] [v2,5/5] riscv: override machine_a From: dpdklab@iol.unh.edu To: Test Report Cc: dpdk-test-reports@iol.unh.edu In-Reply-To: References: Content-Type: text/plain X-BeenThere: test-report@dpdk.org X-Mailman-Version: 2.1.29 Precedence: list List-Id: automatic DPDK test reports List-Unsubscribe: , List-Archive: List-Post: List-Help: List-Subscribe: , Errors-To: test-report-bounces@dpdk.org Test-Label: iol-compile-amd64-testing Test-Status: SUCCESS http://dpdk.org/patch/154923 _Testing PASS_ Submitter: None Date: Tuesday, July 01 2025 18:20:33 DPDK git baseline: Repo:dpdk Branch: master CommitID:70c2297528e7c7789af452f78de1932e9a20c8a2 154921-154923 --> testing pass Upstream job id: Windows-Compile-DPDK-Native#29573 Test environment and result as below: +---------------------+--------------------+-------------------+-------------------------+----------------------+ | Environment | dpdk_meson_compile | dpdk_msvc_compile | dpdk_llvm_clang_compile | dpdk_mingw64_compile | +=====================+====================+===================+=========================+======================+ | Ubuntu 20.04 | PASS | SKIPPED | SKIPPED | SKIPPED | +---------------------+--------------------+-------------------+-------------------------+----------------------+ | Windows Server 2022 | SKIPPED | PASS | PASS | PASS | +---------------------+--------------------+-------------------+-------------------------+----------------------+ Ubuntu 20.04 Kernel: 4.19 Compiler: gcc gcc (Ubuntu 9.4.0-1ubuntu1~20.04.2) 9.4.0 Windows Server 2022 Kernel: 10.0.20348.2031 Compiler: clang 15.0.7, gcc 14.1.0 (MinGW), and MSVC VS 19.39.33521 To view detailed results, visit: https://lab.dpdk.org/results/dashboard/patchsets/33559/ UNH-IOL DPDK Community Lab To manage your email subscriptions, visit: https://lab.dpdk.org/results/dashboard/preferences/subscriptions/