From mboxrd@z Thu Jan 1 00:00:00 1970 Return-Path: Received: from mails.dpdk.org (mails.dpdk.org [217.70.189.124]) by inbox.dpdk.org (Postfix) with ESMTP id 223CC46AD8 for ; Fri, 4 Jul 2025 23:05:32 +0200 (CEST) Received: from mails.dpdk.org (localhost [127.0.0.1]) by mails.dpdk.org (Postfix) with ESMTP id 1E2664028B; Fri, 4 Jul 2025 23:05:32 +0200 (CEST) Received: from mail-io1-f97.google.com (mail-io1-f97.google.com [209.85.166.97]) by mails.dpdk.org (Postfix) with ESMTP id 3BF8D4028B for ; Fri, 4 Jul 2025 23:05:31 +0200 (CEST) Received: by mail-io1-f97.google.com with SMTP id ca18e2360f4ac-875ce3c8e24so43701339f.1 for ; Fri, 04 Jul 2025 14:05:31 -0700 (PDT) DKIM-Signature: v=1; a=rsa-sha256; c=relaxed/relaxed; d=iol.unh.edu; s=unh-iol; t=1751663130; x=1752267930; darn=dpdk.org; h=references:in-reply-to:cc:to:from:subject:message-id:date:from:to :cc:subject:date:message-id:reply-to; bh=y52uS5eYs+JdZcisKgHqTFiSzk+lMzGERV99/paGPhE=; b=b88K0ZISjC5teU/FO0eqCdF/pCHgZIy0352DTrslQgvFix703xIG3IVjSp6qTSAMwd K/jbJ0VGMKt3sHyI5gD+Al5EnGlRo04Gsr33speKP5paje43NwZ34nDaEUxxoo7W+M5w x2YCqJopJHdZbEXI6fRT5BVGgMeqoipirAaOA= X-Google-DKIM-Signature: v=1; a=rsa-sha256; c=relaxed/relaxed; d=1e100.net; s=20230601; t=1751663130; x=1752267930; h=references:in-reply-to:cc:to:from:subject:message-id:date :x-gm-message-state:from:to:cc:subject:date:message-id:reply-to; bh=y52uS5eYs+JdZcisKgHqTFiSzk+lMzGERV99/paGPhE=; b=abR3wDO/4UrDfESxmCTsPeLj9JmNSyMm5HxHCFduv1R5/a3+v8tk4V1lypSxVYszdD dEmjVwDbLWiS0Y0vXrC1E/BLTWK79yq0zlHMiOiELUpmSHSrqazz+NKjsSNZNYa1CFTl wtnk9YivnKq/waykxsOjQ62zTenJpIYZ3ugYBBVexyYNCt2jIEcE4dRceph6rB7HzDb4 1FvcoeREFAROBbYOjPcB+QEzubN0okO7AWY+5RXkyVNBq0wf1hMh64mZC2iwzX5ATfTd TM2LXRwyCe/2wWGQ9X1Vr28SZaZ0H3uNWLvjDk77i9sdBT0Lxf6f2lqMk0GNo4T+Mqpz 5/TA== X-Gm-Message-State: AOJu0YzuxTrPoQq+TNjsw83OUuo21FPI9zZX22FVX7nuXwBWHVxVcHsu yDQXXWVTCn0GNU6SW0wD8gkmuJcAPeL8TDSjYATIDJPrRzQbXNOTZcMlEi6oLg2jmVYcn22I1PZ xZP+oCYMOiVEVTdJPZpEJdKAVqJrSrsRMcNp3WOGlodS7 X-Gm-Gg: ASbGncvBygLy1d6ceVe9gl0Lwr1NtoTDYry1vVfZWCxlKYqKOKnjtV3SnDkNMeY0dXF qD/UKlY+5QW1g61gFOMFxN9TNX2hN5GG48qwUE1Z5i2dkoe/dSwVhhAfq/XBiAk0AyHEVbqVltI mXgMJpZswu9RaDJQ+QVCCXAX5Q4oSC4WW4NuOavGAt4OqeLd3XLJN4FksUsBRt4vE0csxItx+zI QkgYUkRC927Q6332eXITzHoJoGYzozDQOrhkLMWCm4zH8Fhs6nr19ImAJMhJw+wVpJsYRLaAjui XDG46GWesEhTfkp1kTrPLM6tFr4hTh69jAUeIib7r4ZSNPVNgBOQpzlMYe+I5sVl+bKsWg== X-Google-Smtp-Source: AGHT+IHD97Z8gH84/IK6IWvYl9lnrJ4vGOXlsJvWvYmy2AE7ZyCyTKhacwaoAxDoIeLiZqeyBb8eax5pHmNx X-Received: by 2002:a05:6602:1555:b0:86d:5b7:5a42 with SMTP id ca18e2360f4ac-8792a42d81amr40773639f.4.1751663130498; Fri, 04 Jul 2025 14:05:30 -0700 (PDT) Received: from postal.iol.unh.edu (postal.iol.unh.edu. [132.177.123.84]) by smtp-relay.gmail.com with ESMTPS id ca18e2360f4ac-876e079d9acsm11161939f.1.2025.07.04.14.05.30 (version=TLS1_2 cipher=ECDHE-ECDSA-AES128-GCM-SHA256 bits=128/128); Fri, 04 Jul 2025 14:05:30 -0700 (PDT) X-Relaying-Domain: iol.unh.edu Date: Fri, 04 Jul 2025 14:05:30 -0700 (PDT) Message-ID: <6868421a.050a0220.1f55f.5af4SMTPIN_ADDED_MISSING@mx.google.com> Received: from [172.21.0.7] (unknown [172.18.0.240]) by postal.iol.unh.edu (Postfix) with ESMTP id E503B6051830; Fri, 4 Jul 2025 17:05:29 -0400 (EDT) Subject: |SUCCESS| pw154988-154994 [PATCH] [v8,8/8] bus/dpaa: optimize qman e From: dpdklab@iol.unh.edu To: Test Report Cc: dpdk-test-reports@iol.unh.edu In-Reply-To: <20250703053743.3710482-9-vanshika.shukla@nxp.com> References: <20250703053743.3710482-9-vanshika.shukla@nxp.com> Content-Type: text/plain X-BeenThere: test-report@dpdk.org X-Mailman-Version: 2.1.29 Precedence: list List-Id: automatic DPDK test reports List-Unsubscribe: , List-Archive: List-Post: List-Help: List-Subscribe: , Errors-To: test-report-bounces@dpdk.org Test-Label: iol-compile-amd64-testing Test-Status: SUCCESS http://dpdk.org/patch/154994 _Testing PASS_ Submitter: Vanshika Shukla Date: Thursday, July 03 2025 05:37:43 DPDK git baseline: Repo:dpdk Branch: master CommitID:b18c543ec30729ccc7708a6e064a1f9db5d8c11f 154988-154994 --> testing pass Upstream job id: Windows-Compile-DPDK-Native#29574 Test environment and result as below: +---------------------+--------------------+-------------------+-------------------------+ | Environment | dpdk_meson_compile | dpdk_msvc_compile | dpdk_llvm_clang_compile | +=====================+====================+===================+=========================+ | Ubuntu 20.04 | PASS | SKIPPED | SKIPPED | +---------------------+--------------------+-------------------+-------------------------+ | Windows Server 2022 | SKIPPED | PASS | PASS | +---------------------+--------------------+-------------------+-------------------------+ Ubuntu 20.04 Kernel: 4.19 Compiler: gcc gcc (Ubuntu 9.4.0-1ubuntu1~20.04.2) 9.4.0 Windows Server 2022 Kernel: 10.0.20348.2031 Compiler: clang 15.0.7, gcc 14.1.0 (MinGW), and MSVC VS 19.39.33521 To view detailed results, visit: https://lab.dpdk.org/results/dashboard/patchsets/33577/ UNH-IOL DPDK Community Lab To manage your email subscriptions, visit: https://lab.dpdk.org/results/dashboard/preferences/subscriptions/