From mboxrd@z Thu Jan 1 00:00:00 1970 Return-Path: Received: from mails.dpdk.org (mails.dpdk.org [217.70.189.124]) by inbox.dpdk.org (Postfix) with ESMTP id 3179F46AD8 for ; Fri, 4 Jul 2025 23:05:41 +0200 (CEST) Received: from mails.dpdk.org (localhost [127.0.0.1]) by mails.dpdk.org (Postfix) with ESMTP id 2CC444028B; Fri, 4 Jul 2025 23:05:41 +0200 (CEST) Received: from mail-yw1-f228.google.com (mail-yw1-f228.google.com [209.85.128.228]) by mails.dpdk.org (Postfix) with ESMTP id 651AF4028B for ; Fri, 4 Jul 2025 23:05:39 +0200 (CEST) Received: by mail-yw1-f228.google.com with SMTP id 00721157ae682-708d90aa8f9so11029257b3.3 for ; Fri, 04 Jul 2025 14:05:39 -0700 (PDT) DKIM-Signature: v=1; a=rsa-sha256; c=relaxed/relaxed; d=iol.unh.edu; s=unh-iol; t=1751663139; x=1752267939; darn=dpdk.org; h=references:in-reply-to:cc:to:from:subject:message-id:date:from:to :cc:subject:date:message-id:reply-to; bh=0u6owKl0zn0IsikGhnUhYLenIsmgfhC0ROyHaByXtgQ=; b=Fl2PQ1X/9RbDOGyWBWHzmaFBhTOl52cvXIobr4SF+0UxZL1SJO4f0FzwFAmVY3tyxT bnxMNeicQOwPdLxY2AW7iNw33UDb9sb6ZdafgcxIHn+bNk1XLE909ARV3t6mL1ay6TMU XBZYOUfbTLyzKKV+b1EGMsrMJIqCxhW2X+RC8= X-Google-DKIM-Signature: v=1; a=rsa-sha256; c=relaxed/relaxed; d=1e100.net; s=20230601; t=1751663139; x=1752267939; h=references:in-reply-to:cc:to:from:subject:message-id:date :x-gm-message-state:from:to:cc:subject:date:message-id:reply-to; bh=0u6owKl0zn0IsikGhnUhYLenIsmgfhC0ROyHaByXtgQ=; b=ABOdGKeLvDHuoRtz/bvFSc54F3xA8OvGYR52OmC2ZwERmQUfi2QYAQBaCxEhWoJUKZ L8hdwyveDiyXMG4AXRW51qMwkUDLA1+tRQeISO4Gc0Ey75gRtIXOVVuNrX5HtlkuXLfZ ZTwcLg+13vwKtu47JXqeEVHCx+4S9YKz6zeuPZQ4QBUxsYgEmUZ6PlOtL962foVKIMj9 Q28Btp7krZ1SWSZ9iT2WZwolukrD0i70dgaQ5MhlzBju+BPBfdvvgKv9KzcQH48+ZvVs 7yiOJi7jIRZpx+a2hrrtvpBzaEKiiov910QXj1F0q0X2fxP21vN284CADRd3FksOk1hW 2UEQ== X-Gm-Message-State: AOJu0Yzhxii30GDYOLrtegAQ/2biSlBo19txr00fFjzKu0kENGsLteIy wdX2wbeENbIST87vPtybU1grvTew+gJHmzVy3Gxlx3KztuQBSICf68tKdMlM+w5ygeDY7Mefa+i QpKFTypWT6n24QkZJjfB44vyY3AZgTk6QKFGrl2JEWmg4JYILUXrKuRTEDFiZ X-Gm-Gg: ASbGnctlwwK4gIrYp1hyHhIy39fq8EGHdEoMogoWNk5rmDFtEQMkGQTR1ohn7XU8JC1 bdhD6VPCMSVQifFraJLKnAVRh1JpJxgSFFpFXNP7llBfEhhtWlz9BLB2/W0aKStxtzLTTrqzFw3 sdfI/cAZ/ICuLjbXXO+0i4QLbM/SiZovFrv8qBi7QGwWSCbCatULSfb06RNBzo+ORWCoumyIcKJ YK0LXdqhB90GhL8JRlEQdCnl+d6HRqZewWhHoGukmhNjr0HT0/X3xeDci7tszdjXuU/E5YXwi7V /B0erRE7FuqtiuIzWZHrNVitOGFpGBC+btPdbxm/bM//ey0= X-Google-Smtp-Source: AGHT+IG1xpp16CQ52WV/XzByMaQGLkUa+dz2kupf0VQaUQAFTpx+fWeVMArOVtTbJsMT+8Ss/FqDYgblFkT0 X-Received: by 2002:a05:690c:7305:b0:70c:bd93:4519 with SMTP id 00721157ae682-7176ccaa6f8mr662717b3.21.1751663138768; Fri, 04 Jul 2025 14:05:38 -0700 (PDT) Received: from postal.iol.unh.edu (postal.iol.unh.edu. [2606:4100:3880:1234::84]) by smtp-relay.gmail.com with ESMTPS id 00721157ae682-716659cfc10sm860677b3.19.2025.07.04.14.05.38 (version=TLS1_2 cipher=ECDHE-ECDSA-AES128-GCM-SHA256 bits=128/128); Fri, 04 Jul 2025 14:05:38 -0700 (PDT) X-Relaying-Domain: iol.unh.edu Date: Fri, 04 Jul 2025 14:05:38 -0700 (PDT) Message-ID: <68684222.050a0220.2efb27.50b8SMTPIN_ADDED_MISSING@mx.google.com> Received: from [172.21.0.8] (unknown [172.18.0.240]) by postal.iol.unh.edu (Postfix) with ESMTP id 6B2486051830; Fri, 4 Jul 2025 17:05:38 -0400 (EDT) Subject: |SUCCESS| pw154978 [PATCH] [v3] net/iavf: fix VLAN offload strip fla From: dpdklab@iol.unh.edu To: Test Report Cc: dpdk-test-reports@iol.unh.edu In-Reply-To: <20250702183856.99326-1-amiyaranjan.mohakud@gmail.com> References: <20250702183856.99326-1-amiyaranjan.mohakud@gmail.com> Content-Type: text/plain X-BeenThere: test-report@dpdk.org X-Mailman-Version: 2.1.29 Precedence: list List-Id: automatic DPDK test reports List-Unsubscribe: , List-Archive: List-Post: List-Help: List-Subscribe: , Errors-To: test-report-bounces@dpdk.org Test-Label: iol-unit-amd64-testing Test-Status: SUCCESS http://dpdk.org/patch/154978 _Testing PASS_ Submitter: Amiya Ranjan Mohakud Date: Wednesday, July 02 2025 18:38:56 DPDK git baseline: Repo:dpdk Branch: master CommitID:0ae2a33d16a8727ac2935ac500e216906b50ac2c 154978 --> testing pass Upstream job id: Generic-Unit-Test-DPDK#352638 Test environment and result as below: +-------------------------------+----------------+ | Environment | dpdk_unit_test | +===============================+================+ | CentOS Stream 9 | PASS | +-------------------------------+----------------+ | CentOS Stream 10 | PASS | +-------------------------------+----------------+ | Debian GNU/Linux 12 | PASS | +-------------------------------+----------------+ | Fedora Linux 41 | PASS | +-------------------------------+----------------+ | Fedora Linux 40 | PASS | +-------------------------------+----------------+ | Ubuntu 20.04 | PASS | +-------------------------------+----------------+ | Red Hat Enterprise Linux 8.10 | PASS | +-------------------------------+----------------+ | Red Hat Enterprise Linux 9.5 | PASS | +-------------------------------+----------------+ | Ubuntu 22.04 | PASS | +-------------------------------+----------------+ | Ubuntu 24.04 | PASS | +-------------------------------+----------------+ | Windows Server 2022 | PASS | +-------------------------------+----------------+ CentOS Stream 9 Kernel: 5.15 Compiler: gcc gcc (GCC) 11.5.0 20240719 (Red Hat 11.5.0-7) CentOS Stream 10 Kernel: 5.15 Compiler: gcc gcc (GCC) 14.2.1 20250110 (Red Hat 14.2.1-8) Debian GNU/Linux 12 Kernel: 5.15 Compiler: gcc gcc (Debian 12.2.0-14+deb12u1) 12.2.0 Fedora Linux 41 Kernel: 5.15 Compiler: gcc gcc (GCC) 14.3.1 20250523 (Red Hat 14.3.1-1) Fedora Linux 40 Kernel: 5.15 Compiler: clang gcc (GCC) 14.2.1 20240912 (Red Hat 14.2.1-3) Ubuntu 20.04 Kernel: 5.15 Compiler: gcc gcc (Ubuntu 9.4.0-1ubuntu1~20.04.2) 9.4.0 Red Hat Enterprise Linux 8.10 Kernel: 5.15 Compiler: gcc gcc (GCC) 8.5.0 20210514 (Red Hat 8.5.0-22) Red Hat Enterprise Linux 9.5 Kernel: 5.15 Compiler: gcc gcc (GCC) 11.5.0 20240719 (Red Hat 11.5.0-2) Ubuntu 22.04 Kernel: 5.15 Compiler: gcc gcc (Ubuntu 11.4.0-1ubuntu1~22.04) 11.4.0 Ubuntu 24.04 Kernel: 5.15 Compiler: gcc gcc (Ubuntu 13.3.0-6ubuntu2~24.04) 13.3.0 Windows Server 2022 Kernel: 10.0.20348.2031 Compiler: clang 15.0.7, gcc 14.1.0 (MinGW), and MSVC VS 19.39.33521 To view detailed results, visit: https://lab.dpdk.org/results/dashboard/patchsets/33575/ UNH-IOL DPDK Community Lab To manage your email subscriptions, visit: https://lab.dpdk.org/results/dashboard/preferences/subscriptions/