automatic DPDK test reports
 help / color / mirror / Atom feed
From: dpdklab@iol.unh.edu
To: Test Report <test-report@dpdk.org>
Cc: dpdk-test-reports@iol.unh.edu
Subject: |SUCCESS| pw154988-154994 [PATCH] [v8,8/8] bus/dpaa: optimize qman e
Date: Fri, 04 Jul 2025 14:19:35 -0700 (PDT)	[thread overview]
Message-ID: <68684567.050a0220.2f4007.7bf0SMTPIN_ADDED_MISSING@mx.google.com> (raw)
In-Reply-To: <20250703053743.3710482-9-vanshika.shukla@nxp.com>

Test-Label: iol-compile-amd64-testing
Test-Status: SUCCESS
http://dpdk.org/patch/154994

_Testing PASS_

Submitter: Vanshika Shukla <vanshika.shukla@nxp.com>
Date: Thursday, July 03 2025 05:37:43 
DPDK git baseline: Repo:dpdk
  Branch: master
  CommitID:b18c543ec30729ccc7708a6e064a1f9db5d8c11f

154988-154994 --> testing pass

Upstream job id: Windows-Compile-DPDK-Native#29575

Test environment and result as below:

+---------------------+--------------------+-------------------+-------------------------+----------------------+
|     Environment     | dpdk_meson_compile | dpdk_msvc_compile | dpdk_llvm_clang_compile | dpdk_mingw64_compile |
+=====================+====================+===================+=========================+======================+
| Ubuntu 20.04        | PASS               | SKIPPED           | SKIPPED                 | SKIPPED              |
+---------------------+--------------------+-------------------+-------------------------+----------------------+
| Windows Server 2022 | SKIPPED            | PASS              | PASS                    | PASS                 |
+---------------------+--------------------+-------------------+-------------------------+----------------------+


Ubuntu 20.04
	Kernel: 4.19
	Compiler: gcc gcc (Ubuntu 9.4.0-1ubuntu1~20.04.2) 9.4.0

Windows Server 2022
	Kernel: 10.0.20348.2031
	Compiler: clang 15.0.7, gcc 14.1.0 (MinGW), and MSVC VS 19.39.33521

To view detailed results, visit:
https://lab.dpdk.org/results/dashboard/patchsets/33577/

UNH-IOL DPDK Community Lab

To manage your email subscriptions, visit: 
https://lab.dpdk.org/results/dashboard/preferences/subscriptions/

  parent reply	other threads:[~2025-07-04 21:19 UTC|newest]

Thread overview: 26+ messages / expand[flat|nested]  mbox.gz  Atom feed  top
     [not found] <20250703053743.3710482-9-vanshika.shukla@nxp.com>
2025-07-03  5:05 ` |SUCCESS| pw154988-154994 [v8 8/8] bus/dpaa: optimize qman enqueue check qemudev
2025-07-03  5:10 ` qemudev
2025-07-03  5:38 ` |SUCCESS| pw154994 " checkpatch
2025-07-03  6:43 ` 0-day Robot
2025-07-03 14:43 ` |PENDING| pw154988-154994 [PATCH] [v8,8/8] bus/dpaa: optimize qman e dpdklab
2025-07-04 20:00 ` |SUCCESS| " dpdklab
2025-07-04 20:00 ` dpdklab
2025-07-04 20:19 ` dpdklab
2025-07-04 20:31 ` dpdklab
2025-07-04 20:36 ` |PENDING| " dpdklab
2025-07-04 21:05 ` |SUCCESS| " dpdklab
2025-07-04 21:19 ` dpdklab [this message]
2025-07-04 22:04 ` dpdklab
2025-07-04 22:20 ` |PENDING| " dpdklab
2025-07-04 22:22 ` |SUCCESS| " dpdklab
2025-07-04 22:30 ` dpdklab
2025-07-04 23:17 ` dpdklab
2025-07-04 23:36 ` |PENDING| " dpdklab
2025-07-05  0:01 ` |SUCCESS| " dpdklab
2025-07-05  0:38 ` dpdklab
2025-07-05  1:50 ` dpdklab
2025-07-05  5:12 ` |WARNING| " dpdklab
2025-07-05  5:21 ` |SUCCESS| " dpdklab
2025-07-05  5:24 ` dpdklab
2025-07-05  5:26 ` |WARNING| " dpdklab
2025-07-05  5:27 ` dpdklab

Reply instructions:

You may reply publicly to this message via plain-text email
using any one of the following methods:

* Save the following mbox file, import it into your mail client,
  and reply-to-all from there: mbox

  Avoid top-posting and favor interleaved quoting:
  https://en.wikipedia.org/wiki/Posting_style#Interleaved_style

* Reply using the --to, --cc, and --in-reply-to
  switches of git-send-email(1):

  git send-email \
    --in-reply-to=68684567.050a0220.2f4007.7bf0SMTPIN_ADDED_MISSING@mx.google.com \
    --to=dpdklab@iol.unh.edu \
    --cc=dpdk-test-reports@iol.unh.edu \
    --cc=test-report@dpdk.org \
    /path/to/YOUR_REPLY

  https://kernel.org/pub/software/scm/git/docs/git-send-email.html

* If your mail client supports setting the In-Reply-To header
  via mailto: links, try the mailto: link
Be sure your reply has a Subject: header at the top and a blank line before the message body.
This is a public inbox, see mirroring instructions
for how to clone and mirror all data and code used for this inbox;
as well as URLs for NNTP newsgroup(s).