From mboxrd@z Thu Jan 1 00:00:00 1970 Return-Path: Received: from mails.dpdk.org (mails.dpdk.org [217.70.189.124]) by inbox.dpdk.org (Postfix) with ESMTP id BE2FD46AF0 for ; Fri, 4 Jul 2025 23:19:37 +0200 (CEST) Received: from mails.dpdk.org (localhost [127.0.0.1]) by mails.dpdk.org (Postfix) with ESMTP id A86FF4028B; Fri, 4 Jul 2025 23:19:37 +0200 (CEST) Received: from mail-pf1-f225.google.com (mail-pf1-f225.google.com [209.85.210.225]) by mails.dpdk.org (Postfix) with ESMTP id D5F454028B for ; Fri, 4 Jul 2025 23:19:35 +0200 (CEST) Received: by mail-pf1-f225.google.com with SMTP id d2e1a72fcca58-73c17c770a7so1704048b3a.2 for ; Fri, 04 Jul 2025 14:19:35 -0700 (PDT) DKIM-Signature: v=1; a=rsa-sha256; c=relaxed/relaxed; d=iol.unh.edu; s=unh-iol; t=1751663975; x=1752268775; darn=dpdk.org; h=references:in-reply-to:cc:to:from:subject:message-id:date:from:to :cc:subject:date:message-id:reply-to; bh=82AobgwEJFuuYpWiIxZTgZDWcRG3Lgs5k2tcYNXVa7U=; b=NQemXzN29mXFNsLZ4jnyoNxtDlzaWtd+hFO5/L2xIfjzF6Yd0UqEvBu6MxZCwyACSG tiDP5fCVwpICkaYPQ9aRP7Ar3SAmTqJlLb5qRyMXjvQvPcBakG+Ks4IFO76vpL+32KxI zQLU6N91Iky1BqnIWHq6saGRx4uV6HXxQ7gWE= X-Google-DKIM-Signature: v=1; a=rsa-sha256; c=relaxed/relaxed; d=1e100.net; s=20230601; t=1751663975; x=1752268775; h=references:in-reply-to:cc:to:from:subject:message-id:date :x-gm-message-state:from:to:cc:subject:date:message-id:reply-to; bh=82AobgwEJFuuYpWiIxZTgZDWcRG3Lgs5k2tcYNXVa7U=; b=DZTbGK7japF+ZLBULqYHZt2qnjvfqpGD/98QpreJ5/wss5V4oiwAbf4/lBWQlKi5ch qTUPDRncMrH+U95LjmaCfzjz1doHxhV2w0YUIpA0GS+nfVl6ZUZ8zsOZuhkLiuxE/fQK smd0XzdoKMCvqqcjcKn1pKIxSMurDaJQHcyTaLkB29H7X0d660Vj8VFEpnOouh11KntZ Oj+NYVqQM98UaFYkCexW7N+ucjPKZNphPs7BDKd8gAv2MhF4aS3ghn1uNHhyHstwqHnY jqDuR64rFcgbCT630DCvupmZanf96py2ymZdzw5AkJE0RMaMOa7U45XlSUPWiIs6OuV3 0bUQ== X-Gm-Message-State: AOJu0YwiQYVMd5TwJWcDUbj3IJPLYb4TE+zshWUJJbgdYiCH2fUf6eOM KIt+YaP41EuInnpS1bq/DBo8TmgxPoAGEF5lgqj2JQOq0/0btb1HxiAmBzJUiI7EjdCBmKhPv4n YkMQHgCH2cq7MwAog0Zy1netelOouYQJPKirW2VrGH1CG X-Gm-Gg: ASbGncvTnIw1+/SXHR64Uu5S5hpHgEza1qiEz+pV0yqS1ky7DF2qKP5lZj3rVcmf4ZW Q648lvDLh2BYvXPlpbybwvHDCEJP/0CddHEIxwI4UHlTEKH0iUm3T6ZBOmEfwmGVsO4EV7OGE/D n10NW2FO72HzicKXMVEcAP5jDyg6EaGbwfR/CTjH0iDn4eujSVOYAuaCh+6oSh9Rhe90vKEunkK Y+Q7aswG9D9kC9A0/94/QTmEsNLoy6ot5pbrT6ElD4x9I0l115n3odmeYbgYJz9E8jdEfgidNiI MW6PEN+APtg5R574/lRjYkTD/2dOXx4weG2m32NXny0xTYg9AWSI3euPZYMf7t7cPwv1Cg== X-Google-Smtp-Source: AGHT+IGWFWjyoUjyXbBwlF9BoidpVnfjPusv9QHUCeX/p/nei8SYOUag0uyZx1fZvIWsZSdJPROw7tchVfq7 X-Received: by 2002:a05:6a21:6da6:b0:21f:eec5:85d2 with SMTP id adf61e73a8af0-2260c2401c6mr4484251637.19.1751663975044; Fri, 04 Jul 2025 14:19:35 -0700 (PDT) Received: from postal.iol.unh.edu (postal.iol.unh.edu. [132.177.123.84]) by smtp-relay.gmail.com with ESMTPS id d2e1a72fcca58-74ce39095aesm147589b3a.15.2025.07.04.14.19.34 (version=TLS1_2 cipher=ECDHE-ECDSA-AES128-GCM-SHA256 bits=128/128); Fri, 04 Jul 2025 14:19:35 -0700 (PDT) X-Relaying-Domain: iol.unh.edu Date: Fri, 04 Jul 2025 14:19:35 -0700 (PDT) Message-ID: <68684567.050a0220.2f4007.7bf0SMTPIN_ADDED_MISSING@mx.google.com> Received: from [172.21.0.6] (unknown [172.18.0.240]) by postal.iol.unh.edu (Postfix) with ESMTP id 3DFB56051830; Fri, 4 Jul 2025 17:19:34 -0400 (EDT) Subject: |SUCCESS| pw154988-154994 [PATCH] [v8,8/8] bus/dpaa: optimize qman e From: dpdklab@iol.unh.edu To: Test Report Cc: dpdk-test-reports@iol.unh.edu In-Reply-To: <20250703053743.3710482-9-vanshika.shukla@nxp.com> References: <20250703053743.3710482-9-vanshika.shukla@nxp.com> Content-Type: text/plain X-BeenThere: test-report@dpdk.org X-Mailman-Version: 2.1.29 Precedence: list List-Id: automatic DPDK test reports List-Unsubscribe: , List-Archive: List-Post: List-Help: List-Subscribe: , Errors-To: test-report-bounces@dpdk.org Test-Label: iol-compile-amd64-testing Test-Status: SUCCESS http://dpdk.org/patch/154994 _Testing PASS_ Submitter: Vanshika Shukla Date: Thursday, July 03 2025 05:37:43 DPDK git baseline: Repo:dpdk Branch: master CommitID:b18c543ec30729ccc7708a6e064a1f9db5d8c11f 154988-154994 --> testing pass Upstream job id: Windows-Compile-DPDK-Native#29575 Test environment and result as below: +---------------------+--------------------+-------------------+-------------------------+----------------------+ | Environment | dpdk_meson_compile | dpdk_msvc_compile | dpdk_llvm_clang_compile | dpdk_mingw64_compile | +=====================+====================+===================+=========================+======================+ | Ubuntu 20.04 | PASS | SKIPPED | SKIPPED | SKIPPED | +---------------------+--------------------+-------------------+-------------------------+----------------------+ | Windows Server 2022 | SKIPPED | PASS | PASS | PASS | +---------------------+--------------------+-------------------+-------------------------+----------------------+ Ubuntu 20.04 Kernel: 4.19 Compiler: gcc gcc (Ubuntu 9.4.0-1ubuntu1~20.04.2) 9.4.0 Windows Server 2022 Kernel: 10.0.20348.2031 Compiler: clang 15.0.7, gcc 14.1.0 (MinGW), and MSVC VS 19.39.33521 To view detailed results, visit: https://lab.dpdk.org/results/dashboard/patchsets/33577/ UNH-IOL DPDK Community Lab To manage your email subscriptions, visit: https://lab.dpdk.org/results/dashboard/preferences/subscriptions/