From mboxrd@z Thu Jan 1 00:00:00 1970 Return-Path: Received: from mails.dpdk.org (mails.dpdk.org [217.70.189.124]) by inbox.dpdk.org (Postfix) with ESMTP id 0D33046AF0 for ; Fri, 4 Jul 2025 23:21:53 +0200 (CEST) Received: from mails.dpdk.org (localhost [127.0.0.1]) by mails.dpdk.org (Postfix) with ESMTP id 07C9B4028B; Fri, 4 Jul 2025 23:21:53 +0200 (CEST) Received: from mail-il1-f228.google.com (mail-il1-f228.google.com [209.85.166.228]) by mails.dpdk.org (Postfix) with ESMTP id 27C2C4028B for ; Fri, 4 Jul 2025 23:21:52 +0200 (CEST) Received: by mail-il1-f228.google.com with SMTP id e9e14a558f8ab-3da73df6b6bso4870845ab.3 for ; Fri, 04 Jul 2025 14:21:52 -0700 (PDT) DKIM-Signature: v=1; a=rsa-sha256; c=relaxed/relaxed; d=iol.unh.edu; s=unh-iol; t=1751664111; x=1752268911; darn=dpdk.org; h=references:in-reply-to:cc:to:from:subject:message-id:date:from:to :cc:subject:date:message-id:reply-to; bh=R0npbybSE6rk97PoPcQVBdJuGFIBrMWWfcjHVY333Kg=; b=GFnuaGclcXSVpJDDcegSJye/kxtAtrSVPp0dL9ujKkIfksEC0nWEPKhjWoesbLP0QO TS28ljSQJQvazxEiJUlj3RmaEyA8RV/4ZTu9RN8okeV9GkQFxw4WLe/uSZeGa+PRU6Hu 3xdq/os6h4bpiU8cqbs14L/BdcoD7D2Sf2OFo= X-Google-DKIM-Signature: v=1; a=rsa-sha256; c=relaxed/relaxed; d=1e100.net; s=20230601; t=1751664111; x=1752268911; h=references:in-reply-to:cc:to:from:subject:message-id:date :x-gm-message-state:from:to:cc:subject:date:message-id:reply-to; bh=R0npbybSE6rk97PoPcQVBdJuGFIBrMWWfcjHVY333Kg=; b=wWPW91IBYKPjOGA2gFpmxfQYAZeZLco3qUsWpKUP3FBle16amrim/QKcNVN0K4yzpQ AvYBEYF0X56/Yt6F7fHMmUHJqAEVr2w5IzUWhqEPDExVsg+ahVi0KOZdY4g9PsN+eDum gWyPAZjw4agOmG0hd1UQdL2u/nSnH1U7L8p6OknVaoUXtWrx09Pf+zIwgBr60E+kPKgC jcwy6tc7JmYfytpQ+gXwvlR7sqkO672r9E7pIR5TV5AOpnJmpq9ncSBQIz5EfsM5S/5t F1jKRwAlShbibWrJCdOwiB5o/ubvvH4m2QIx+ldAG5fYgu09mR9Q0e6iDkn6TxrLNlL4 x88Q== X-Gm-Message-State: AOJu0YxVkyPPon12dOnLCAOx/J1bRyLacNvwj8xQToU8NJOh5Rvxgttw beTJxuBgTWkSJRmgtyEmdtOYEbl2Ly8mG9d8LazqF2I4gfvJz4SkgyPVdnhnjsHdyXj3n0QLLSE sBQVt6pTcXSncUZc0jM75yfG+VLBJSV7TxTk8RISdOFd9 X-Gm-Gg: ASbGncuh3GIpHTWk62E9M/fA0U5ThgZfyIziobn9ncioAbSH+YmwFZoXWSDcW4SYjde 2vmj8usI0QQ9pOitFAYLHuZynzecMPn0P7NVCP8t0v0Ew/xi1QjDh+kNJjITo/qlBtaXAOkh0qF GmjwwdgIkL6hf0iHMwljIz5MzpcZy17otrpx5OJH6u3dL8yNSqhBM8+DqnDEoxL7vIT8CWV+v4m mzPCvo5Lp9Jjf8h4QJzaOJ1rLCY21lhAWF8mCykQp4tCF1AbqBGYB21w98+5nZH2rwkQqWODCjb eZpO3kv0mXFTfFNYMngEMPa4O9bcPjCTDU6qJBrMJBKCnTzRvVkMrVDn6McaLsuvRM+13Q== X-Google-Smtp-Source: AGHT+IFI3UqtGRQ4GP/sLvktNQZGntftJeOcXUTtM6cxxhNsTKZOwKqCje0L7RmKipbhBY94/bR4Jlq1bT9W X-Received: by 2002:a05:6e02:2605:b0:3de:296c:a042 with SMTP id e9e14a558f8ab-3e136fbc735mr29936405ab.11.1751664111504; Fri, 04 Jul 2025 14:21:51 -0700 (PDT) Received: from postal.iol.unh.edu (postal.iol.unh.edu. [132.177.123.84]) by smtp-relay.gmail.com with ESMTPS id e9e14a558f8ab-3e0f9c80846sm1754645ab.52.2025.07.04.14.21.51 (version=TLS1_2 cipher=ECDHE-ECDSA-AES128-GCM-SHA256 bits=128/128); Fri, 04 Jul 2025 14:21:51 -0700 (PDT) X-Relaying-Domain: iol.unh.edu Date: Fri, 04 Jul 2025 14:21:51 -0700 (PDT) Message-ID: <686845ef.050a0220.21c6c6.971fSMTPIN_ADDED_MISSING@mx.google.com> Received: from [172.21.0.8] (unknown [172.18.0.240]) by postal.iol.unh.edu (Postfix) with ESMTP id F32436051830; Fri, 4 Jul 2025 17:21:50 -0400 (EDT) Subject: |SUCCESS| pw154943-154944 [PATCH] [v4,2/2] crypto/uadk: use async mo From: dpdklab@iol.unh.edu To: Test Report Cc: dpdk-test-reports@iol.unh.edu In-Reply-To: <20250702024216.49587-3-zhangfei.gao@linaro.org> References: <20250702024216.49587-3-zhangfei.gao@linaro.org> Content-Type: text/plain X-BeenThere: test-report@dpdk.org X-Mailman-Version: 2.1.29 Precedence: list List-Id: automatic DPDK test reports List-Unsubscribe: , List-Archive: List-Post: List-Help: List-Subscribe: , Errors-To: test-report-bounces@dpdk.org Test-Label: iol-unit-arm64-testing Test-Status: SUCCESS http://dpdk.org/patch/154944 _Testing PASS_ Submitter: Zhangfei Gao Date: Wednesday, July 02 2025 02:42:16 DPDK git baseline: Repo:dpdk Branch: master CommitID:5b132556bd54881bc69d413b0b8fbedb0efcb774 154943-154944 --> testing pass Upstream job id: Generic-Unit-Test-DPDK#352609 Test environment and result as below: +------------------------------+----------------+ | Environment | dpdk_unit_test | +==============================+================+ | CentOS Stream 10 | PASS | +------------------------------+----------------+ | CentOS Stream 9 | PASS | +------------------------------+----------------+ | Fedora Linux 41 | PASS | +------------------------------+----------------+ | Debian GNU/Linux 12 | PASS | +------------------------------+----------------+ | Red Hat Enterprise Linux 9.5 | PASS | +------------------------------+----------------+ | Fedora Linux 40 | PASS | +------------------------------+----------------+ | Ubuntu 24.04 | PASS | +------------------------------+----------------+ | Ubuntu 22.04 | PASS | +------------------------------+----------------+ | Ubuntu 20.04 | PASS | +------------------------------+----------------+ CentOS Stream 10 Kernel: 5.4 Compiler: gcc gcc (GCC) 14.2.1 20250110 (Red Hat 14.2.1-8) CentOS Stream 9 Kernel: 5.4 Compiler: gcc gcc (GCC) 11.5.0 20240719 (Red Hat 11.5.0-7) Fedora Linux 41 Kernel: 5.4 Compiler: gcc gcc (GCC) 14.3.1 20250523 (Red Hat 14.3.1-1) Debian GNU/Linux 12 Kernel: 5.4 Compiler: gcc gcc (Debian 12.2.0-14+deb12u1) 12.2.0 Red Hat Enterprise Linux 9.5 Kernel: 5.4 Compiler: gcc gcc (GCC) 11.5.0 20240719 (Red Hat 11.5.0-2) Fedora Linux 40 Kernel: 5.4 Compiler: gcc gcc (GCC) 14.2.1 20240912 (Red Hat 14.2.1-3) Ubuntu 24.04 Kernel: 5.4 Compiler: gcc gcc (Ubuntu 13.3.0-6ubuntu2~24.04) 13.3.0 Ubuntu 22.04 Kernel: 5.4 Compiler: gcc gcc (Ubuntu 11.4.0-1ubuntu1~22.04) 11.4.0 Ubuntu 20.04 Kernel: 5.4 Compiler: gcc gcc (Ubuntu 9.4.0-1ubuntu1~20.04.2) 9.4.0 To view detailed results, visit: https://lab.dpdk.org/results/dashboard/patchsets/33561/ UNH-IOL DPDK Community Lab To manage your email subscriptions, visit: https://lab.dpdk.org/results/dashboard/preferences/subscriptions/