From mboxrd@z Thu Jan 1 00:00:00 1970 Return-Path: Received: from mails.dpdk.org (mails.dpdk.org [217.70.189.124]) by inbox.dpdk.org (Postfix) with ESMTP id 42A8746AF0 for ; Fri, 4 Jul 2025 23:33:30 +0200 (CEST) Received: from mails.dpdk.org (localhost [127.0.0.1]) by mails.dpdk.org (Postfix) with ESMTP id 254854028B; Fri, 4 Jul 2025 23:33:30 +0200 (CEST) Received: from mail-pf1-f226.google.com (mail-pf1-f226.google.com [209.85.210.226]) by mails.dpdk.org (Postfix) with ESMTP id C91234028B for ; Fri, 4 Jul 2025 23:33:28 +0200 (CEST) Received: by mail-pf1-f226.google.com with SMTP id d2e1a72fcca58-7490702fc7cso832919b3a.1 for ; Fri, 04 Jul 2025 14:33:28 -0700 (PDT) DKIM-Signature: v=1; a=rsa-sha256; c=relaxed/relaxed; d=iol.unh.edu; s=unh-iol; t=1751664808; x=1752269608; darn=dpdk.org; h=references:in-reply-to:cc:to:from:subject:message-id:date:from:to :cc:subject:date:message-id:reply-to; bh=+j7scH04jPOdpn7wx1PXRsLgDleZDy5q5u0P3siVBj4=; b=i2jz7EbU9XVAhSEmzClWW3aCAtBZE444M3W+rv5atswyK/DUCr58YCMii+Y5Xg80by 2rNlNmPhajJaCFbfpPnJcz66GU9NGQoYOtexXrPZQiBFfa7YmPzGPthdr6YXh/eEVopq TCIky7fHumL/PbySwgiOd+i9EbTlh5EvXT2Hg= X-Google-DKIM-Signature: v=1; a=rsa-sha256; c=relaxed/relaxed; d=1e100.net; s=20230601; t=1751664808; x=1752269608; h=references:in-reply-to:cc:to:from:subject:message-id:date :x-gm-message-state:from:to:cc:subject:date:message-id:reply-to; bh=+j7scH04jPOdpn7wx1PXRsLgDleZDy5q5u0P3siVBj4=; b=Pu5OKxxg6MnE4Pw3bPf5Csg8M2vj8kNJo0sOY3efgPkkLpAq1XAYXh9gBC+E7bNm33 q7G8JGHXyhJDVH/vkavW8sVCs7jpwQ07VjZcJRIxDt0wxhoPNz4gbR6FCCSjqWIsAY9O 9ORtR2bYJi8UnPEdWtsH5uO1hNiqSzu/ezFv1Ia/QOqjulZIyh1uORKd6ENusfBcHzqY q2YYNP4zbvF4OOjbZL1lafkbeapMY9076T3Qc4dnfmGoKOqm6vFNA4/2XwbHNEF9vMsD 6GSF/CpR1UEw20pmk0aBVe37p4tS167sVGCZ0FBIJrv+IdJwRqk5SDb6+Ynz+QkgsJt8 hdAw== X-Gm-Message-State: AOJu0Yw5UDLnsi1MBIws6ob0fCtJcNpBg7VYcrHQoGvgZvlSWVnXh8iH PTS73V0PfrpBtrD1Evgn1ZVLIK0Bws46cxXOX8uRkuYXvrMgTblh1yzMVfotvfslrIAGWhZ/5f8 rzEvY6CrQNz5TzBEJ9W1FDZRDM77zn9XrDycGoKWoj+lMH6+PXvMpo85Mj1H5 X-Gm-Gg: ASbGnct0n89C5t9CNTPpuqytwlVwNbcVuzHOByh3SfAu75MCEg3r222muud3arLlHZp XJzm+GaH3ynxxEpq3F/N5lGLuxdv5AeBreYKLpAkLX8MyAgo6WbB609SN1/V8yt7ABc4HTtCxjt 1q7VTC0sP7n+0FZ0s6Iggik1G8GRJJDFoGrTN6YjNexf6EmBjmAFh7Qk1LidQ6Y4NCzaR87yePx FEtXuJDUYCoO/4AmaiH9e2F4AHANBv/xqzcHAQNjD4rYlV5UKsP+Q38kG1xkKcFlP4RpoTj3hfR lgH4MPsiXBfShHryQb7D3J6kmZMMXkCOj6EGRbqBoOkmWvM= X-Google-Smtp-Source: AGHT+IHGl2TYz8JZZIJPJ89jlnFcM3v8O8KoWtgoELQmvX9wrcHjC1j3gtV668w1c+nlW3nRaZ9PG8+ERwnS X-Received: by 2002:a05:6a00:2409:b0:749:112:c172 with SMTP id d2e1a72fcca58-74cf6fd8194mr202531b3a.16.1751664807826; Fri, 04 Jul 2025 14:33:27 -0700 (PDT) Received: from postal.iol.unh.edu (postal.iol.unh.edu. [2606:4100:3880:1234::84]) by smtp-relay.gmail.com with ESMTPS id d2e1a72fcca58-74ce3cfdd0dsm153401b3a.20.2025.07.04.14.33.27 (version=TLS1_2 cipher=ECDHE-ECDSA-AES128-GCM-SHA256 bits=128/128); Fri, 04 Jul 2025 14:33:27 -0700 (PDT) X-Relaying-Domain: iol.unh.edu Date: Fri, 04 Jul 2025 14:33:27 -0700 (PDT) Message-ID: <686848a7.050a0220.17c67a.7fecSMTPIN_ADDED_MISSING@mx.google.com> Received: from [172.21.0.5] (unknown [172.18.0.240]) by postal.iol.unh.edu (Postfix) with ESMTP id 0C72C6051830; Fri, 4 Jul 2025 17:33:27 -0400 (EDT) Subject: |SUCCESS| pw154978 [PATCH] [v3] net/iavf: fix VLAN offload strip fla From: dpdklab@iol.unh.edu To: Test Report Cc: dpdk-test-reports@iol.unh.edu In-Reply-To: <20250702183856.99326-1-amiyaranjan.mohakud@gmail.com> References: <20250702183856.99326-1-amiyaranjan.mohakud@gmail.com> Content-Type: text/plain X-BeenThere: test-report@dpdk.org X-Mailman-Version: 2.1.29 Precedence: list List-Id: automatic DPDK test reports List-Unsubscribe: , List-Archive: List-Post: List-Help: List-Subscribe: , Errors-To: test-report-bounces@dpdk.org Test-Label: iol-abi-testing Test-Status: SUCCESS http://dpdk.org/patch/154978 _Testing PASS_ Submitter: Amiya Ranjan Mohakud Date: Wednesday, July 02 2025 18:38:56 DPDK git baseline: Repo:dpdk Branch: master CommitID:0ae2a33d16a8727ac2935ac500e216906b50ac2c 154978 --> testing pass Upstream job id: Generic-DPDK-Compile-ABI#133074 Test environment and result as below: +-------------------------------+----------+ | Environment | abi_test | +===============================+==========+ | CentOS Stream 9 | PASS | +-------------------------------+----------+ | CentOS Stream 10 | PASS | +-------------------------------+----------+ | Fedora Linux 40 | PASS | +-------------------------------+----------+ | Fedora Linux 41 | PASS | +-------------------------------+----------+ | Ubuntu 22.04 | PASS | +-------------------------------+----------+ | Red Hat Enterprise Linux 9.5 | PASS | +-------------------------------+----------+ | Red Hat Enterprise Linux 8.10 | PASS | +-------------------------------+----------+ | openSUSE Leap 15.6 | PASS | +-------------------------------+----------+ | Ubuntu 24.04 | PASS | +-------------------------------+----------+ CentOS Stream 9 Kernel: 5.15 Compiler: gcc gcc (GCC) 11.5.0 20240719 (Red Hat 11.5.0-7) CentOS Stream 10 Kernel: 5.15 Compiler: gcc gcc (GCC) 14.2.1 20250110 (Red Hat 14.2.1-8) Fedora Linux 40 Kernel: 5.15 Compiler: clang gcc (GCC) 14.2.1 20240912 (Red Hat 14.2.1-3) Fedora Linux 41 Kernel: 5.15 Compiler: clang gcc (GCC) 14.3.1 20250523 (Red Hat 14.3.1-1) Ubuntu 22.04 Kernel: 5.15 Compiler: gcc gcc (Ubuntu 11.4.0-1ubuntu1~22.04) 11.4.0 Red Hat Enterprise Linux 9.5 Kernel: 5.15 Compiler: gcc gcc (GCC) 11.5.0 20240719 (Red Hat 11.5.0-2) Red Hat Enterprise Linux 8.10 Kernel: 5.15 Compiler: gcc gcc (GCC) 8.5.0 20210514 (Red Hat 8.5.0-22) openSUSE Leap 15.6 Kernel: 5.15 Compiler: gcc gcc (SUSE Linux) 7.5.0 Ubuntu 24.04 Kernel: 5.15 Compiler: gcc gcc (Ubuntu 13.3.0-6ubuntu2~24.04) 13.3.0 To view detailed results, visit: https://lab.dpdk.org/results/dashboard/patchsets/33575/ UNH-IOL DPDK Community Lab To manage your email subscriptions, visit: https://lab.dpdk.org/results/dashboard/preferences/subscriptions/