From mboxrd@z Thu Jan 1 00:00:00 1970 Return-Path: Received: from mails.dpdk.org (mails.dpdk.org [217.70.189.124]) by inbox.dpdk.org (Postfix) with ESMTP id 40C0646AF0 for ; Fri, 4 Jul 2025 23:33:46 +0200 (CEST) Received: from mails.dpdk.org (localhost [127.0.0.1]) by mails.dpdk.org (Postfix) with ESMTP id 3CF644028E; Fri, 4 Jul 2025 23:33:46 +0200 (CEST) Received: from mail-oi1-f226.google.com (mail-oi1-f226.google.com [209.85.167.226]) by mails.dpdk.org (Postfix) with ESMTP id 793F14028E for ; Fri, 4 Jul 2025 23:33:45 +0200 (CEST) Received: by mail-oi1-f226.google.com with SMTP id 5614622812f47-40d12821c1cso291984b6e.2 for ; Fri, 04 Jul 2025 14:33:45 -0700 (PDT) DKIM-Signature: v=1; a=rsa-sha256; c=relaxed/relaxed; d=iol.unh.edu; s=unh-iol; t=1751664824; x=1752269624; darn=dpdk.org; h=references:in-reply-to:cc:to:from:subject:message-id:date:from:to :cc:subject:date:message-id:reply-to; bh=nN5wcWXkmj+yOLyCxi19TvJAPiyLfx0ITm9pfpRBhAY=; b=UObiC79MiPkPn0KX3Z+bbpVcjmdfRihnrA4+a+bepV+rTL5ZeYC1SlLAdovZIp7ZoN nt8Kpa01wZYWgNwa0BgLMPzmkGJ7Ad1mBra1/opk3YXRviP7fo2fPNpiN+IfdBDVMVvM z2V+59Zk3ET8LKanQHMfOkt1Ak4lvYCxqrteE= X-Google-DKIM-Signature: v=1; a=rsa-sha256; c=relaxed/relaxed; d=1e100.net; s=20230601; t=1751664824; x=1752269624; h=references:in-reply-to:cc:to:from:subject:message-id:date :x-gm-message-state:from:to:cc:subject:date:message-id:reply-to; bh=nN5wcWXkmj+yOLyCxi19TvJAPiyLfx0ITm9pfpRBhAY=; b=eHU6tzSZn+i+O97bqk09KWyVJXaKUl8RIN1e+dK1/oGjsI8LvUhne2hplhondp9YZ0 B84GE8nslRKB698luldzbmDMK4/5k6JGTLbfVeMrteb4ZzK2C9JrOEKmTTucox5xnYWk Su7VTk/S9gUxdXsno+M+mopvJ9OYifvhNePdGUuFJjIQ4gWJKu42wUvHtLFEcIXFWuEE pSJ8rBz1shGkpmu/sfOkyj0yM18hKOqWS7uQCf1dxlqB9DICjGhN3AI0mKXsgl7/JHUe uUxnigemoWwlPGDe3xg+oC0POrUNPlEAPO078rCQ1cry71UR/4F9A9scD8ASmtkly1DC 6K1A== X-Gm-Message-State: AOJu0YybF0cZ8uWbVL87NGRL8/GXb+HAzE6pMglQW1rKcXlBeo2JjJ7H mFQjOteIC6IGxxB8YLNDRfIbMmSshAmhBIq0K/36j5vlP+xSW+L6np+fqH2n2LhjLRUvsd9blra UA0D7rVG6i+/FOQeXYBMtxzxa8tpv/1ZNiutThh1tPYWF X-Gm-Gg: ASbGnctLF/ulvRE3KqrznNxm72cHbRqzkzVh31UOOD0t23yeN8A/44Y8/O+aHKI06hY mJpZ5jnVHZSIdLSyPDJE2XPq+OqqoUXcV3N/+oDQSVbLU77QP2DqqhWiPS2fJ5qxC2GazXbPFWa hi/x1sQhAcVx6yqp2xF84yz1n7N4t8roAS3zbrgnMVyegsxtChYvSgBypt4X9WATomOHLWN3p0O osVF8lGZqdU626Q9bByCvSMjVTjVWQEhkpvYKg7gujXBOJ1LoFkEGVwcqZRe8V1GWiUtzEsDgAP RqUcY6nZWhSCkJcw1pjkClyyri0XHyFF43MDlPjU2aH1EohSphxovaW7f5hu2NAGWPuxnw== X-Google-Smtp-Source: AGHT+IFcyKLuYttcwiBrRkV7MJp7nCwmZehPRsGmJ2igtLkLf5jpjsPO2xyTC1d2J6QqCNem7U1K/oSFNI/K X-Received: by 2002:a05:6808:3028:b0:40a:525d:6220 with SMTP id 5614622812f47-40d043e6d65mr3057206b6e.22.1751664824734; Fri, 04 Jul 2025 14:33:44 -0700 (PDT) Received: from postal.iol.unh.edu (postal.iol.unh.edu. [132.177.123.84]) by smtp-relay.gmail.com with ESMTPS id 006d021491bc7-6138e5b758fsm106956eaf.24.2025.07.04.14.33.44 (version=TLS1_2 cipher=ECDHE-ECDSA-AES128-GCM-SHA256 bits=128/128); Fri, 04 Jul 2025 14:33:44 -0700 (PDT) X-Relaying-Domain: iol.unh.edu Date: Fri, 04 Jul 2025 14:33:44 -0700 (PDT) Message-ID: <686848b8.050a0220.2298b8.5a97SMTPIN_ADDED_MISSING@mx.google.com> Received: from [172.21.0.7] (unknown [172.18.0.240]) by postal.iol.unh.edu (Postfix) with ESMTP id 2A87F6051830; Fri, 4 Jul 2025 17:33:44 -0400 (EDT) Subject: |WARNING| pw154978 [PATCH] [v3] net/iavf: fix VLAN offload strip fla From: dpdklab@iol.unh.edu To: Test Report Cc: dpdk-test-reports@iol.unh.edu In-Reply-To: <20250702183856.99326-1-amiyaranjan.mohakud@gmail.com> References: <20250702183856.99326-1-amiyaranjan.mohakud@gmail.com> Content-Type: text/plain X-BeenThere: test-report@dpdk.org X-Mailman-Version: 2.1.29 Precedence: list List-Id: automatic DPDK test reports List-Unsubscribe: , List-Archive: List-Post: List-Help: List-Subscribe: , Errors-To: test-report-bounces@dpdk.org Test-Label: iol-compile-amd64-testing Test-Status: WARNING http://dpdk.org/patch/154978 _Testing issues_ Submitter: Amiya Ranjan Mohakud Date: Wednesday, July 02 2025 18:38:56 DPDK git baseline: Repo:dpdk Branch: master CommitID:0ae2a33d16a8727ac2935ac500e216906b50ac2c 154978 --> testing issues Upstream job id: Generic-DPDK-Compile-Meson#405461 Test environment and result as below: +-------------------------------+--------------------+-------------------+------------------+-------------------------+-------------------+----------------------+ | Environment | dpdk_meson_compile | dpdk_compile_spdk | dpdk_compile_ovs | dpdk_llvm_clang_compile | dpdk_msvc_compile | dpdk_mingw64_compile | +===============================+====================+===================+==================+=========================+===================+======================+ | CentOS Stream 9 | PASS | PASS | SKIPPED | SKIPPED | SKIPPED | SKIPPED | +-------------------------------+--------------------+-------------------+------------------+-------------------------+-------------------+----------------------+ | CentOS Stream 10 | PASS | SKIPPED | SKIPPED | SKIPPED | SKIPPED | SKIPPED | +-------------------------------+--------------------+-------------------+------------------+-------------------------+-------------------+----------------------+ | Debian GNU/Linux 12 | PEND | PEND | SKIPPED | SKIPPED | SKIPPED | SKIPPED | +-------------------------------+--------------------+-------------------+------------------+-------------------------+-------------------+----------------------+ | Fedora Linux 40 | PEND | PEND | SKIPPED | SKIPPED | SKIPPED | SKIPPED | +-------------------------------+--------------------+-------------------+------------------+-------------------------+-------------------+----------------------+ | Fedora Linux 41 | PEND | PEND | PEND | SKIPPED | SKIPPED | SKIPPED | +-------------------------------+--------------------+-------------------+------------------+-------------------------+-------------------+----------------------+ | openSUSE Leap 15.6 | PASS | SKIPPED | SKIPPED | SKIPPED | SKIPPED | SKIPPED | +-------------------------------+--------------------+-------------------+------------------+-------------------------+-------------------+----------------------+ | Ubuntu 20.04 | PEND | SKIPPED | SKIPPED | SKIPPED | SKIPPED | SKIPPED | +-------------------------------+--------------------+-------------------+------------------+-------------------------+-------------------+----------------------+ | Red Hat Enterprise Linux 8.10 | PEND | SKIPPED | SKIPPED | SKIPPED | SKIPPED | SKIPPED | +-------------------------------+--------------------+-------------------+------------------+-------------------------+-------------------+----------------------+ | Red Hat Enterprise Linux 9.5 | PEND | SKIPPED | SKIPPED | SKIPPED | SKIPPED | SKIPPED | +-------------------------------+--------------------+-------------------+------------------+-------------------------+-------------------+----------------------+ | Ubuntu 22.04 | PEND | PEND | SKIPPED | SKIPPED | SKIPPED | SKIPPED | +-------------------------------+--------------------+-------------------+------------------+-------------------------+-------------------+----------------------+ | Alpine Linux 3.22.0 | PEND | SKIPPED | SKIPPED | SKIPPED | SKIPPED | SKIPPED | +-------------------------------+--------------------+-------------------+------------------+-------------------------+-------------------+----------------------+ | Ubuntu 24.04 | PEND | PEND | PEND | SKIPPED | SKIPPED | SKIPPED | +-------------------------------+--------------------+-------------------+------------------+-------------------------+-------------------+----------------------+ | Windows Server 2022 | SKIPPED | SKIPPED | SKIPPED | PASS | PASS | PASS | +-------------------------------+--------------------+-------------------+------------------+-------------------------+-------------------+----------------------+ CentOS Stream 9 Kernel: 5.15 Compiler: gcc gcc (GCC) 11.5.0 20240719 (Red Hat 11.5.0-7) CentOS Stream 10 Kernel: 5.15 Compiler: gcc gcc (GCC) 14.2.1 20250110 (Red Hat 14.2.1-8) Debian GNU/Linux 12 Kernel: 5.15 Compiler: gcc gcc (Debian 12.2.0-14+deb12u1) 12.2.0 Fedora Linux 40 Kernel: 5.15 Compiler: gcc gcc (GCC) 14.2.1 20240912 (Red Hat 14.2.1-3) Fedora Linux 41 Kernel: 5.15 Compiler: clang gcc (GCC) 14.3.1 20250523 (Red Hat 14.3.1-1) openSUSE Leap 15.6 Kernel: 5.15 Compiler: gcc gcc (SUSE Linux) 7.5.0 Ubuntu 20.04 Kernel: 4.19 Compiler: gcc gcc (Ubuntu 9.4.0-1ubuntu1~20.04.2) 9.4.0 Red Hat Enterprise Linux 8.10 Kernel: 5.15 Compiler: gcc gcc (GCC) 8.5.0 20210514 (Red Hat 8.5.0-22) Red Hat Enterprise Linux 9.5 Kernel: 5.15 Compiler: gcc gcc (GCC) 11.5.0 20240719 (Red Hat 11.5.0-2) Ubuntu 22.04 Kernel: 5.15 Compiler: gcc gcc (Ubuntu 11.4.0-1ubuntu1~22.04) 11.4.0 Alpine Linux 3.22.0 Kernel: 5.15 Compiler: gcc gcc (Alpine 14.2.0) 14.2.0 Ubuntu 24.04 Kernel: 5.15 Compiler: gcc gcc (Ubuntu 13.3.0-6ubuntu2~24.04) 13.3.0 Windows Server 2022 Kernel: 10.0.20348.2031 Compiler: clang 15.0.7, gcc 14.1.0 (MinGW), and MSVC VS 19.39.33521 To view detailed results, visit: https://lab.dpdk.org/results/dashboard/patchsets/33575/ UNH-IOL DPDK Community Lab To manage your email subscriptions, visit: https://lab.dpdk.org/results/dashboard/preferences/subscriptions/