From mboxrd@z Thu Jan 1 00:00:00 1970 Return-Path: Received: from mails.dpdk.org (mails.dpdk.org [217.70.189.124]) by inbox.dpdk.org (Postfix) with ESMTP id 521CB46AF0 for ; Fri, 4 Jul 2025 23:33:48 +0200 (CEST) Received: from mails.dpdk.org (localhost [127.0.0.1]) by mails.dpdk.org (Postfix) with ESMTP id 4C2BC4028B; Fri, 4 Jul 2025 23:33:48 +0200 (CEST) Received: from mail-pl1-f225.google.com (mail-pl1-f225.google.com [209.85.214.225]) by mails.dpdk.org (Postfix) with ESMTP id D96E84028E for ; Fri, 4 Jul 2025 23:33:46 +0200 (CEST) Received: by mail-pl1-f225.google.com with SMTP id d9443c01a7336-2349f096605so18385775ad.3 for ; Fri, 04 Jul 2025 14:33:46 -0700 (PDT) DKIM-Signature: v=1; a=rsa-sha256; c=relaxed/relaxed; d=iol.unh.edu; s=unh-iol; t=1751664826; x=1752269626; darn=dpdk.org; h=references:in-reply-to:cc:to:from:subject:message-id:date:from:to :cc:subject:date:message-id:reply-to; bh=s8+0V3/iaxDNwf9V0tFZ+1fFt+k04JZp7z0C7FrdGcI=; b=eGy7ZyPkK92vn3HbJXxGkGDvjmx2JnI08TU5uD/rIvqlQNhjBUhb+onj5XuYLBnUbv mBWoKNPG86yi6fJrt7QTLH2/hsbHThovffFLNy8MxJXrtQzOnPi44RzFgoFE6NJ4TG08 y6zyiZY4CdexLzShNPZJDgEykIu9CjlB7CA48= X-Google-DKIM-Signature: v=1; a=rsa-sha256; c=relaxed/relaxed; d=1e100.net; s=20230601; t=1751664826; x=1752269626; h=references:in-reply-to:cc:to:from:subject:message-id:date :x-gm-message-state:from:to:cc:subject:date:message-id:reply-to; bh=s8+0V3/iaxDNwf9V0tFZ+1fFt+k04JZp7z0C7FrdGcI=; b=E/v81BDL2mNYCRyVfFN9zVnKbW2IUKpewOFEWm0jfXSNmjIE6pUVEUShVxyq5GqrS6 URBN1Q2wS5gKC0dlsuDZ1pHtPu11jIL+q2Sniqn9F3ZNJ2hnrbYHSVexBgGrG7WaIQ0P eqK+pV9Vti0xxctzRjN4FpRSbu0MOBSYdGFPMT+IV0b+mEaH2gAut0rRo9UPRoZ2N6wR Xu0jOm8lqrFV3ayn7XqKznLGclzAXitYBqPudEsLRelWOP9EUK8uLRfojvkOhAXtCKmc gRZNPnKauJzIH+jF0b0w+YhcyvwGdbGHe3PQa68W1al+66H0bj6xKyQG23mgszfIo9Gf HO6g== X-Gm-Message-State: AOJu0Yzx+gy9kqBRuhIhPVRm3Xs9LsIQOCSA0A2+Nzfi+l7MkmawNqZ3 82LUI9u6K3RCE5xzsC7K0J8eAn7PTmcQtPfkTFbh6zkLTWLGiosUwpvMs0hiFKYZjK9aCsv+BWd k5VvGohG9pYOJTB7UXvvMW8uMg1pyLND+VdJT933k0me3 X-Gm-Gg: ASbGncvJ9iM2j1EyhwlW19F4kDFI9ytuXIkEXND7+/3GpjLNzk43uc5A1h4TEDeIFEs f5Fkb6br9VUgH50l1c35bUdwS+uQMxACfPaxY6Rih+tXSwb5zcmbRj9oUA+slmqwiDvHsG8Qtmx CWawjVirbzY7Z4+481eZhl9239sbJPM/dGM9ias3FFpwUkq3D63FcQE19w/rA/euYlxrgIeWrCa mTS8B4GhGjxm2KywrgDslUku7W0YjLXfgYqiUB+ppYlTBYQuR9yPaOb0u5MNnbHWYeggt1nF9sO VjkOddW/SvspoYzxQWwTUqy8NT2Hqu9nGlhfTxWkgTg0MJzR2DU6/FxjVnBbgg+SJpg86Q== X-Google-Smtp-Source: AGHT+IGlBI5WgGPnlgVRHQiKwR9AWdlL3BnPqQazHluUpU+OjnGnzi4UsgCpbafZfXnN2vZMaxBqTDa8g5YV X-Received: by 2002:a17:903:240a:b0:234:e655:a632 with SMTP id d9443c01a7336-23c875e1eeemr56715675ad.51.1751664826089; Fri, 04 Jul 2025 14:33:46 -0700 (PDT) Received: from postal.iol.unh.edu (postal.iol.unh.edu. [132.177.123.84]) by smtp-relay.gmail.com with ESMTPS id d9443c01a7336-23c84507cb9sm1316305ad.93.2025.07.04.14.33.45 (version=TLS1_2 cipher=ECDHE-ECDSA-AES128-GCM-SHA256 bits=128/128); Fri, 04 Jul 2025 14:33:46 -0700 (PDT) X-Relaying-Domain: iol.unh.edu Date: Fri, 04 Jul 2025 14:33:46 -0700 (PDT) Message-ID: <686848ba.170a0220.21a34f.7b22SMTPIN_ADDED_MISSING@mx.google.com> Received: from [172.21.0.9] (unknown [172.18.0.240]) by postal.iol.unh.edu (Postfix) with ESMTP id 503986051830; Fri, 4 Jul 2025 17:33:45 -0400 (EDT) Subject: |SUCCESS| pw154943-154944 [PATCH] [v4,2/2] crypto/uadk: use async mo From: dpdklab@iol.unh.edu To: Test Report Cc: dpdk-test-reports@iol.unh.edu In-Reply-To: <20250702024216.49587-3-zhangfei.gao@linaro.org> References: <20250702024216.49587-3-zhangfei.gao@linaro.org> Content-Type: text/plain X-BeenThere: test-report@dpdk.org X-Mailman-Version: 2.1.29 Precedence: list List-Id: automatic DPDK test reports List-Unsubscribe: , List-Archive: List-Post: List-Help: List-Subscribe: , Errors-To: test-report-bounces@dpdk.org Test-Label: iol-abi-testing Test-Status: SUCCESS http://dpdk.org/patch/154944 _Testing PASS_ Submitter: Zhangfei Gao Date: Wednesday, July 02 2025 02:42:16 DPDK git baseline: Repo:dpdk Branch: master CommitID:5b132556bd54881bc69d413b0b8fbedb0efcb774 154943-154944 --> testing pass Upstream job id: Generic-DPDK-Compile-ABI#133059 Test environment and result as below: +-------------------------------+----------+ | Environment | abi_test | +===============================+==========+ | Fedora Linux 40 | PASS | +-------------------------------+----------+ | Debian GNU/Linux 12 | PASS | +-------------------------------+----------+ | CentOS Stream 9 | PASS | +-------------------------------+----------+ | Red Hat Enterprise Linux 8.10 | PASS | +-------------------------------+----------+ | CentOS Stream 10 | PASS | +-------------------------------+----------+ | openSUSE Leap 15.6 | PASS | +-------------------------------+----------+ | Fedora Linux 41 | PASS | +-------------------------------+----------+ | Red Hat Enterprise Linux 9.5 | PASS | +-------------------------------+----------+ Fedora Linux 40 Kernel: 5.15 Compiler: clang gcc (GCC) 14.2.1 20240912 (Red Hat 14.2.1-3) Debian GNU/Linux 12 Kernel: 5.15 Compiler: gcc gcc (Debian 12.2.0-14+deb12u1) 12.2.0 CentOS Stream 9 Kernel: 5.15 Compiler: gcc gcc (GCC) 11.5.0 20240719 (Red Hat 11.5.0-7) Red Hat Enterprise Linux 8.10 Kernel: 5.15 Compiler: gcc gcc (GCC) 8.5.0 20210514 (Red Hat 8.5.0-22) CentOS Stream 10 Kernel: 5.15 Compiler: gcc gcc (GCC) 14.2.1 20250110 (Red Hat 14.2.1-8) openSUSE Leap 15.6 Kernel: 5.15 Compiler: gcc gcc (SUSE Linux) 7.5.0 Fedora Linux 41 Kernel: 5.15 Compiler: clang gcc (GCC) 14.3.1 20250523 (Red Hat 14.3.1-1) Red Hat Enterprise Linux 9.5 Kernel: 5.15 Compiler: gcc gcc (GCC) 11.5.0 20240719 (Red Hat 11.5.0-2) To view detailed results, visit: https://lab.dpdk.org/results/dashboard/patchsets/33561/ UNH-IOL DPDK Community Lab To manage your email subscriptions, visit: https://lab.dpdk.org/results/dashboard/preferences/subscriptions/