automatic DPDK test reports
 help / color / mirror / Atom feed
From: dpdklab@iol.unh.edu
To: Test Report <test-report@dpdk.org>
Cc: dpdk-test-reports@iol.unh.edu
Subject: |WARNING| pw154978 [PATCH] [v3] net/iavf: fix VLAN offload strip fla
Date: Fri, 04 Jul 2025 14:34:44 -0700 (PDT)	[thread overview]
Message-ID: <686848f4.050a0220.1d85e2.a6c0SMTPIN_ADDED_MISSING@mx.google.com> (raw)
In-Reply-To: <20250702183856.99326-1-amiyaranjan.mohakud@gmail.com>

Test-Label: iol-compile-amd64-testing
Test-Status: WARNING
http://dpdk.org/patch/154978

_Testing issues_

Submitter: Amiya Ranjan Mohakud <amiyaranjan.mohakud@gmail.com>
Date: Wednesday, July 02 2025 18:38:56 
DPDK git baseline: Repo:dpdk
  Branch: master
  CommitID:0ae2a33d16a8727ac2935ac500e216906b50ac2c

154978 --> testing issues

Upstream job id: Generic-DPDK-Compile-Meson#405459

Test environment and result as below:

+-------------------------------+--------------------+-------------------+------------------+-------------------------+-------------------+----------------------+
|          Environment          | dpdk_meson_compile | dpdk_compile_spdk | dpdk_compile_ovs | dpdk_llvm_clang_compile | dpdk_msvc_compile | dpdk_mingw64_compile |
+===============================+====================+===================+==================+=========================+===================+======================+
| CentOS Stream 9               | PASS               | PASS              | SKIPPED          | SKIPPED                 | SKIPPED           | SKIPPED              |
+-------------------------------+--------------------+-------------------+------------------+-------------------------+-------------------+----------------------+
| CentOS Stream 10              | PASS               | SKIPPED           | SKIPPED          | SKIPPED                 | SKIPPED           | SKIPPED              |
+-------------------------------+--------------------+-------------------+------------------+-------------------------+-------------------+----------------------+
| Debian GNU/Linux 12           | PEND               | PEND              | SKIPPED          | SKIPPED                 | SKIPPED           | SKIPPED              |
+-------------------------------+--------------------+-------------------+------------------+-------------------------+-------------------+----------------------+
| Fedora Linux 40               | PEND               | PEND              | SKIPPED          | SKIPPED                 | SKIPPED           | SKIPPED              |
+-------------------------------+--------------------+-------------------+------------------+-------------------------+-------------------+----------------------+
| Fedora Linux 41               | PEND               | PEND              | PEND             | SKIPPED                 | SKIPPED           | SKIPPED              |
+-------------------------------+--------------------+-------------------+------------------+-------------------------+-------------------+----------------------+
| openSUSE Leap 15.6            | PASS               | SKIPPED           | SKIPPED          | SKIPPED                 | SKIPPED           | SKIPPED              |
+-------------------------------+--------------------+-------------------+------------------+-------------------------+-------------------+----------------------+
| Ubuntu 20.04                  | PEND               | SKIPPED           | SKIPPED          | SKIPPED                 | SKIPPED           | SKIPPED              |
+-------------------------------+--------------------+-------------------+------------------+-------------------------+-------------------+----------------------+
| Red Hat Enterprise Linux 8.10 | PEND               | SKIPPED           | SKIPPED          | SKIPPED                 | SKIPPED           | SKIPPED              |
+-------------------------------+--------------------+-------------------+------------------+-------------------------+-------------------+----------------------+
| Red Hat Enterprise Linux 9.5  | PEND               | SKIPPED           | SKIPPED          | SKIPPED                 | SKIPPED           | SKIPPED              |
+-------------------------------+--------------------+-------------------+------------------+-------------------------+-------------------+----------------------+
| Ubuntu 22.04                  | PEND               | PEND              | SKIPPED          | SKIPPED                 | SKIPPED           | SKIPPED              |
+-------------------------------+--------------------+-------------------+------------------+-------------------------+-------------------+----------------------+
| Alpine Linux 3.22.0           | PEND               | SKIPPED           | SKIPPED          | SKIPPED                 | SKIPPED           | SKIPPED              |
+-------------------------------+--------------------+-------------------+------------------+-------------------------+-------------------+----------------------+
| Ubuntu 24.04                  | PEND               | PEND              | PEND             | SKIPPED                 | SKIPPED           | SKIPPED              |
+-------------------------------+--------------------+-------------------+------------------+-------------------------+-------------------+----------------------+
| Windows Server 2022           | SKIPPED            | SKIPPED           | SKIPPED          | PASS                    | PASS              | PASS                 |
+-------------------------------+--------------------+-------------------+------------------+-------------------------+-------------------+----------------------+


CentOS Stream 9
	Kernel: 5.15
	Compiler: gcc gcc (GCC) 11.5.0 20240719 (Red Hat 11.5.0-7)

CentOS Stream 10
	Kernel: 5.15
	Compiler: gcc gcc (GCC) 14.2.1 20250110 (Red Hat 14.2.1-8)

Debian GNU/Linux 12
	Kernel: 5.15
	Compiler: gcc gcc (Debian 12.2.0-14+deb12u1) 12.2.0

Fedora Linux 40
	Kernel: 5.15
	Compiler: gcc gcc (GCC) 14.2.1 20240912 (Red Hat 14.2.1-3)

Fedora Linux 41
	Kernel: 5.15
	Compiler: clang gcc (GCC) 14.3.1 20250523 (Red Hat 14.3.1-1)

openSUSE Leap 15.6
	Kernel: 5.15
	Compiler: gcc gcc (SUSE Linux) 7.5.0

Ubuntu 20.04
	Kernel: 4.19
	Compiler: gcc gcc (Ubuntu 9.4.0-1ubuntu1~20.04.2) 9.4.0

Red Hat Enterprise Linux 8.10
	Kernel: 5.15
	Compiler: gcc gcc (GCC) 8.5.0 20210514 (Red Hat 8.5.0-22)

Red Hat Enterprise Linux 9.5
	Kernel: 5.15
	Compiler: gcc gcc (GCC) 11.5.0 20240719 (Red Hat 11.5.0-2)

Ubuntu 22.04
	Kernel: 5.15
	Compiler: gcc gcc (Ubuntu 11.4.0-1ubuntu1~22.04) 11.4.0

Alpine Linux 3.22.0
	Kernel: 5.15
	Compiler: gcc gcc (Alpine 14.2.0) 14.2.0

Ubuntu 24.04
	Kernel: 5.15
	Compiler: gcc gcc (Ubuntu 13.3.0-6ubuntu2~24.04) 13.3.0

Windows Server 2022
	Kernel: 10.0.20348.2031
	Compiler: clang 15.0.7, gcc 14.1.0 (MinGW), and MSVC VS 19.39.33521

To view detailed results, visit:
https://lab.dpdk.org/results/dashboard/patchsets/33575/

UNH-IOL DPDK Community Lab

To manage your email subscriptions, visit: 
https://lab.dpdk.org/results/dashboard/preferences/subscriptions/

  parent reply	other threads:[~2025-07-04 21:34 UTC|newest]

Thread overview: 29+ messages / expand[flat|nested]  mbox.gz  Atom feed  top
     [not found] <20250702183856.99326-1-amiyaranjan.mohakud@gmail.com>
2025-07-02 18:05 ` |SUCCESS| pw154978 [PATCH v3] net/iavf: fix VLAN offload strip flag qemudev
2025-07-02 18:09 ` qemudev
2025-07-02 18:38 ` checkpatch
2025-07-02 19:43 ` 0-day Robot
2025-07-02 20:29 ` |PENDING| pw154978 [PATCH] [v3] net/iavf: fix VLAN offload strip fla dpdklab
2025-07-02 20:30 ` |SUCCESS| " dpdklab
2025-07-02 20:36 ` dpdklab
2025-07-02 20:45 ` dpdklab
2025-07-02 21:30 ` |PENDING| " dpdklab
2025-07-03  1:48 ` dpdklab
2025-07-04 18:51 ` |SUCCESS| " dpdklab
2025-07-04 19:16 ` |PENDING| " dpdklab
2025-07-04 19:22 ` dpdklab
2025-07-04 19:25 ` |SUCCESS| " dpdklab
2025-07-04 19:44 ` |PENDING| " dpdklab
2025-07-04 20:04 ` dpdklab
2025-07-04 20:14 ` |SUCCESS| " dpdklab
2025-07-04 20:30 ` dpdklab
2025-07-04 20:45 ` |PENDING| " dpdklab
2025-07-04 21:05 ` |SUCCESS| " dpdklab
2025-07-04 21:17 ` dpdklab
2025-07-04 21:33 ` dpdklab
2025-07-04 21:33 ` |WARNING| " dpdklab
2025-07-04 21:34 ` dpdklab [this message]
2025-07-04 22:19 ` |SUCCESS| " dpdklab
2025-07-04 23:58 ` |WARNING| " dpdklab
2025-07-05  1:06 ` |SUCCESS| " dpdklab
2025-07-05  1:09 ` dpdklab
2025-07-05  3:47 ` dpdklab

Reply instructions:

You may reply publicly to this message via plain-text email
using any one of the following methods:

* Save the following mbox file, import it into your mail client,
  and reply-to-all from there: mbox

  Avoid top-posting and favor interleaved quoting:
  https://en.wikipedia.org/wiki/Posting_style#Interleaved_style

* Reply using the --to, --cc, and --in-reply-to
  switches of git-send-email(1):

  git send-email \
    --in-reply-to=686848f4.050a0220.1d85e2.a6c0SMTPIN_ADDED_MISSING@mx.google.com \
    --to=dpdklab@iol.unh.edu \
    --cc=dpdk-test-reports@iol.unh.edu \
    --cc=test-report@dpdk.org \
    /path/to/YOUR_REPLY

  https://kernel.org/pub/software/scm/git/docs/git-send-email.html

* If your mail client supports setting the In-Reply-To header
  via mailto: links, try the mailto: link
Be sure your reply has a Subject: header at the top and a blank line before the message body.
This is a public inbox, see mirroring instructions
for how to clone and mirror all data and code used for this inbox;
as well as URLs for NNTP newsgroup(s).