From mboxrd@z Thu Jan 1 00:00:00 1970 Return-Path: Received: from mails.dpdk.org (mails.dpdk.org [217.70.189.124]) by inbox.dpdk.org (Postfix) with ESMTP id 6B5F846AF0 for ; Fri, 4 Jul 2025 23:34:46 +0200 (CEST) Received: from mails.dpdk.org (localhost [127.0.0.1]) by mails.dpdk.org (Postfix) with ESMTP id 65F354028B; Fri, 4 Jul 2025 23:34:46 +0200 (CEST) Received: from mail-il1-f225.google.com (mail-il1-f225.google.com [209.85.166.225]) by mails.dpdk.org (Postfix) with ESMTP id A49D54028B for ; Fri, 4 Jul 2025 23:34:45 +0200 (CEST) Received: by mail-il1-f225.google.com with SMTP id e9e14a558f8ab-3e058c64a76so7334105ab.0 for ; Fri, 04 Jul 2025 14:34:45 -0700 (PDT) DKIM-Signature: v=1; a=rsa-sha256; c=relaxed/relaxed; d=iol.unh.edu; s=unh-iol; t=1751664885; x=1752269685; darn=dpdk.org; h=references:in-reply-to:cc:to:from:subject:message-id:date:from:to :cc:subject:date:message-id:reply-to; bh=bouD4faI1/2me0g1m1T84/i870MZ5/EaQAgEU4jZfE8=; b=XWRhZrkOKmsfhfx7y64yqkT+tnNK/duLMEm02RRffDZTu/fvQaeqVv05Gu+6gGY1a7 0BhOK3OJIM6q+o9CbJxwd8kt2vY77ObgGUTUjJFR59JQqKoVhLoruZOBRqfsVf1siLla KxBF9c8twbmTCOIS0D6cchREmmXk6L+ZmJDLQ= X-Google-DKIM-Signature: v=1; a=rsa-sha256; c=relaxed/relaxed; d=1e100.net; s=20230601; t=1751664885; x=1752269685; h=references:in-reply-to:cc:to:from:subject:message-id:date :x-gm-message-state:from:to:cc:subject:date:message-id:reply-to; bh=bouD4faI1/2me0g1m1T84/i870MZ5/EaQAgEU4jZfE8=; b=avWPSi8LyNjTAzemLUzFpWUkJ8fUaog8EZtytIpGMp9N9ALPRcAKRLGdA6ZNn3k58n swI6ttSw3oD1wNdfdUh5NvHF289pacggZnO8+Qmdyk3NuDF6GEewfhoCRWEqiy3cKiof W7bLp29BEolC3uDld+NsRqU8tzreRT7vvFiJt8Pb+/R2v0mwioX+MNS4818OKcUt4MBU 7gKOdlofAMZAvDypsjtHhNWMD1x46EaImBIsPOIyQY44uEY/WcOdjNgsWGeJiAGE/kPR pl1Yo+Xul96bdgCMOq6+5iFPWsHeN0M3rElIi3wM81IbHhv/57/SDnuC04qsKV3/iqiG 3M+w== X-Gm-Message-State: AOJu0Yyb7wP92X1vZADBD59Dsnfsxm5fsUBNGcCXuSN83yydGbv3tZkl 1EgbGlK7CHS9WDuG9h8t5iCwxOCVd1BlacrMD5RBo+ZSi8Tk38dmterEneGV3s0eHswC/5Sgdl9 TL+s+zeHZ57gD1DepvGcizm0G1SNLfmtlyjSe+Bu2kBI1 X-Gm-Gg: ASbGncu/E7ZhqBkKgUBqADc+5kb8tdOjuBrbHJU38wzTq18382+ThdVwiRNpmXLBp/U +gRNDN5KKBUw3sgMzN2vH/VqUafMJFkHFLTvN2D3rx+fhZ4gHZ7XQ1GgAgmCH7x4VBH0UGxZrKI RUIAC2YN2helvM/xvNHxIDPurMRTm+vePlpgPsYaLomKDakb8FCAm5Hrq4p066GrAe+YUM0McFZ EihMwhrJ+qYptLYWWRWzzY/4sju7sktxc/Umg16haW9ojiirSZdBmwV1BVoONtQ8/zITlZIBJfY uO76rOu1852eqEUGTzC8j1OEZFGvSnZCOMjp2RKu8m7Lu6ggGiuHxnqEUXuxp6I3AfdzGQ== X-Google-Smtp-Source: AGHT+IGD8sCGMGx8xRqpkYjJsh0qtGsdKc2i/SSm0/VApzuCQ8nvdImA79cGno3u/sFkVCedYPXoH/CFepBD X-Received: by 2002:a05:6e02:17cb:b0:3df:3271:6aba with SMTP id e9e14a558f8ab-3e1371e7f45mr34470425ab.15.1751664884849; Fri, 04 Jul 2025 14:34:44 -0700 (PDT) Received: from postal.iol.unh.edu (postal.iol.unh.edu. [132.177.123.84]) by smtp-relay.gmail.com with ESMTPS id e9e14a558f8ab-3e1004ba3a8sm1966505ab.67.2025.07.04.14.34.44 (version=TLS1_2 cipher=ECDHE-ECDSA-AES128-GCM-SHA256 bits=128/128); Fri, 04 Jul 2025 14:34:44 -0700 (PDT) X-Relaying-Domain: iol.unh.edu Date: Fri, 04 Jul 2025 14:34:44 -0700 (PDT) Message-ID: <686848f4.050a0220.1d85e2.a6c0SMTPIN_ADDED_MISSING@mx.google.com> Received: from [172.21.0.5] (unknown [172.18.0.240]) by postal.iol.unh.edu (Postfix) with ESMTP id 520FA6051830; Fri, 4 Jul 2025 17:34:44 -0400 (EDT) Subject: |WARNING| pw154978 [PATCH] [v3] net/iavf: fix VLAN offload strip fla From: dpdklab@iol.unh.edu To: Test Report Cc: dpdk-test-reports@iol.unh.edu In-Reply-To: <20250702183856.99326-1-amiyaranjan.mohakud@gmail.com> References: <20250702183856.99326-1-amiyaranjan.mohakud@gmail.com> Content-Type: text/plain X-BeenThere: test-report@dpdk.org X-Mailman-Version: 2.1.29 Precedence: list List-Id: automatic DPDK test reports List-Unsubscribe: , List-Archive: List-Post: List-Help: List-Subscribe: , Errors-To: test-report-bounces@dpdk.org Test-Label: iol-compile-amd64-testing Test-Status: WARNING http://dpdk.org/patch/154978 _Testing issues_ Submitter: Amiya Ranjan Mohakud Date: Wednesday, July 02 2025 18:38:56 DPDK git baseline: Repo:dpdk Branch: master CommitID:0ae2a33d16a8727ac2935ac500e216906b50ac2c 154978 --> testing issues Upstream job id: Generic-DPDK-Compile-Meson#405459 Test environment and result as below: +-------------------------------+--------------------+-------------------+------------------+-------------------------+-------------------+----------------------+ | Environment | dpdk_meson_compile | dpdk_compile_spdk | dpdk_compile_ovs | dpdk_llvm_clang_compile | dpdk_msvc_compile | dpdk_mingw64_compile | +===============================+====================+===================+==================+=========================+===================+======================+ | CentOS Stream 9 | PASS | PASS | SKIPPED | SKIPPED | SKIPPED | SKIPPED | +-------------------------------+--------------------+-------------------+------------------+-------------------------+-------------------+----------------------+ | CentOS Stream 10 | PASS | SKIPPED | SKIPPED | SKIPPED | SKIPPED | SKIPPED | +-------------------------------+--------------------+-------------------+------------------+-------------------------+-------------------+----------------------+ | Debian GNU/Linux 12 | PEND | PEND | SKIPPED | SKIPPED | SKIPPED | SKIPPED | +-------------------------------+--------------------+-------------------+------------------+-------------------------+-------------------+----------------------+ | Fedora Linux 40 | PEND | PEND | SKIPPED | SKIPPED | SKIPPED | SKIPPED | +-------------------------------+--------------------+-------------------+------------------+-------------------------+-------------------+----------------------+ | Fedora Linux 41 | PEND | PEND | PEND | SKIPPED | SKIPPED | SKIPPED | +-------------------------------+--------------------+-------------------+------------------+-------------------------+-------------------+----------------------+ | openSUSE Leap 15.6 | PASS | SKIPPED | SKIPPED | SKIPPED | SKIPPED | SKIPPED | +-------------------------------+--------------------+-------------------+------------------+-------------------------+-------------------+----------------------+ | Ubuntu 20.04 | PEND | SKIPPED | SKIPPED | SKIPPED | SKIPPED | SKIPPED | +-------------------------------+--------------------+-------------------+------------------+-------------------------+-------------------+----------------------+ | Red Hat Enterprise Linux 8.10 | PEND | SKIPPED | SKIPPED | SKIPPED | SKIPPED | SKIPPED | +-------------------------------+--------------------+-------------------+------------------+-------------------------+-------------------+----------------------+ | Red Hat Enterprise Linux 9.5 | PEND | SKIPPED | SKIPPED | SKIPPED | SKIPPED | SKIPPED | +-------------------------------+--------------------+-------------------+------------------+-------------------------+-------------------+----------------------+ | Ubuntu 22.04 | PEND | PEND | SKIPPED | SKIPPED | SKIPPED | SKIPPED | +-------------------------------+--------------------+-------------------+------------------+-------------------------+-------------------+----------------------+ | Alpine Linux 3.22.0 | PEND | SKIPPED | SKIPPED | SKIPPED | SKIPPED | SKIPPED | +-------------------------------+--------------------+-------------------+------------------+-------------------------+-------------------+----------------------+ | Ubuntu 24.04 | PEND | PEND | PEND | SKIPPED | SKIPPED | SKIPPED | +-------------------------------+--------------------+-------------------+------------------+-------------------------+-------------------+----------------------+ | Windows Server 2022 | SKIPPED | SKIPPED | SKIPPED | PASS | PASS | PASS | +-------------------------------+--------------------+-------------------+------------------+-------------------------+-------------------+----------------------+ CentOS Stream 9 Kernel: 5.15 Compiler: gcc gcc (GCC) 11.5.0 20240719 (Red Hat 11.5.0-7) CentOS Stream 10 Kernel: 5.15 Compiler: gcc gcc (GCC) 14.2.1 20250110 (Red Hat 14.2.1-8) Debian GNU/Linux 12 Kernel: 5.15 Compiler: gcc gcc (Debian 12.2.0-14+deb12u1) 12.2.0 Fedora Linux 40 Kernel: 5.15 Compiler: gcc gcc (GCC) 14.2.1 20240912 (Red Hat 14.2.1-3) Fedora Linux 41 Kernel: 5.15 Compiler: clang gcc (GCC) 14.3.1 20250523 (Red Hat 14.3.1-1) openSUSE Leap 15.6 Kernel: 5.15 Compiler: gcc gcc (SUSE Linux) 7.5.0 Ubuntu 20.04 Kernel: 4.19 Compiler: gcc gcc (Ubuntu 9.4.0-1ubuntu1~20.04.2) 9.4.0 Red Hat Enterprise Linux 8.10 Kernel: 5.15 Compiler: gcc gcc (GCC) 8.5.0 20210514 (Red Hat 8.5.0-22) Red Hat Enterprise Linux 9.5 Kernel: 5.15 Compiler: gcc gcc (GCC) 11.5.0 20240719 (Red Hat 11.5.0-2) Ubuntu 22.04 Kernel: 5.15 Compiler: gcc gcc (Ubuntu 11.4.0-1ubuntu1~22.04) 11.4.0 Alpine Linux 3.22.0 Kernel: 5.15 Compiler: gcc gcc (Alpine 14.2.0) 14.2.0 Ubuntu 24.04 Kernel: 5.15 Compiler: gcc gcc (Ubuntu 13.3.0-6ubuntu2~24.04) 13.3.0 Windows Server 2022 Kernel: 10.0.20348.2031 Compiler: clang 15.0.7, gcc 14.1.0 (MinGW), and MSVC VS 19.39.33521 To view detailed results, visit: https://lab.dpdk.org/results/dashboard/patchsets/33575/ UNH-IOL DPDK Community Lab To manage your email subscriptions, visit: https://lab.dpdk.org/results/dashboard/preferences/subscriptions/