From mboxrd@z Thu Jan 1 00:00:00 1970 Return-Path: Received: from mails.dpdk.org (mails.dpdk.org [217.70.189.124]) by inbox.dpdk.org (Postfix) with ESMTP id 1316246AF0 for ; Fri, 4 Jul 2025 23:40:37 +0200 (CEST) Received: from mails.dpdk.org (localhost [127.0.0.1]) by mails.dpdk.org (Postfix) with ESMTP id 0F8484028B; Fri, 4 Jul 2025 23:40:37 +0200 (CEST) Received: from mail-io1-f98.google.com (mail-io1-f98.google.com [209.85.166.98]) by mails.dpdk.org (Postfix) with ESMTP id 168114028B for ; Fri, 4 Jul 2025 23:40:36 +0200 (CEST) Received: by mail-io1-f98.google.com with SMTP id ca18e2360f4ac-86d013c5e79so110367039f.0 for ; Fri, 04 Jul 2025 14:40:36 -0700 (PDT) DKIM-Signature: v=1; a=rsa-sha256; c=relaxed/relaxed; d=iol.unh.edu; s=unh-iol; t=1751665235; x=1752270035; darn=dpdk.org; h=references:in-reply-to:cc:to:from:subject:message-id:date:from:to :cc:subject:date:message-id:reply-to; bh=Vr4QtB1u/GJvcnkxDz+JHlXJ3wzhE8cRUv3UFiVJLJw=; b=RvNFEY8O4B2ny5Qx1yrl8c+/2uUBWVNVTqLVNVEUk1g4VWXf9JGOgwiHe3vDv0cx6n BVm+YWjtkgymUjvfYwBnBY/Fm/0xLa0pqZTNjlj3fFhqSZAqfvLC/5PBZLktmpvPCyFA vMB55ZX5LKRdCEuSWePBOzv5Km/HwSWqVhyic= X-Google-DKIM-Signature: v=1; a=rsa-sha256; c=relaxed/relaxed; d=1e100.net; s=20230601; t=1751665235; x=1752270035; h=references:in-reply-to:cc:to:from:subject:message-id:date :x-gm-message-state:from:to:cc:subject:date:message-id:reply-to; bh=Vr4QtB1u/GJvcnkxDz+JHlXJ3wzhE8cRUv3UFiVJLJw=; b=Rd3Tm4aCxzNuRKw7Lb+mXCE1VlnHGkzGALKo7iMz/FFoIfR5CnRgfLqVdZ4nwlDJDm 5pvpYYjo2IU0hhOCVgqjM9MgNS4scEk6KUCovPxPCpM8OUEsZfP40KYRG9BXcuUgQDrD e3zVQ0HxN8v5L6eIiNnYE9LyHVRxNzVMlV91j0/NUGT7Hyd4vosBYSp+HXY+/R6/P1Ot 6ThlnxJwh7TfcDPDsKjKSv7V7HI6ydVb6AU88lvjP8nGVnirn/lE+XNSuHlu+vk6wjlz +D0qaLdHWlJOJ5KZwvdYamOtl2IaU80o+0jtph2q+yZ7SSAYhLq3sPNN0F5pxzr1c/uC 0DpA== X-Gm-Message-State: AOJu0Yzriepw4r6NaujJsEw/KlcDtcAAeMyX99nl7MeIs4ObFght59WY Kq0xBsoo5dWr6xBq//NzUKN4ldPpz5bsuwxTC+b3V+Nix9vfcvVook9+wAK2lxvbfAbyRM0JBer QheSz9p6hRHYc68UF7q6Rfk6cfz7n6w7DYlbTblwJOjPWyGnAQHrdl/J2qoaE X-Gm-Gg: ASbGncsr9iPm42xnzwcSi2GPDTJ903R/l0BLRCZ7ymRmUX3uMKsym/PUzG1lu8hdins 3iAQghCf3eicNKxYYc08JOi284pwEJTsSkunpeNLsrRBhoxtPfzWt3eAID13OvFLAHARfLbtZ04 LfjVdbnLEjDbaRYwo75DGhxMXZISXvZFvhIVxaFBtSkcQ3KVsC71PVsR+VzTH1yAw00fgGTY7GJ fxKDtCCCDYDPPwKJAp4NUlTi7+XHyYpDAh/1urAC4jar27CWyw9k0y3QdEMVVNv9kaUVP9Oeq7Y 2zCQDa1kRug6Sn9GKx5T2uMCuEoYI3Ik63AzI/EyKI60Q3Q= X-Google-Smtp-Source: AGHT+IFPE5rbD34wf3kSF1ZkSAr8vbXsKwf1/GJPSlHSb4C/A6Ds95GZx39jUi/zqsG8Uh+SABSZbV8jjAhw X-Received: by 2002:a05:6602:1512:b0:864:a228:92b4 with SMTP id ca18e2360f4ac-876e15d75a0mr433519939f.7.1751665235375; Fri, 04 Jul 2025 14:40:35 -0700 (PDT) Received: from postal.iol.unh.edu (postal.iol.unh.edu. [2606:4100:3880:1234::84]) by smtp-relay.gmail.com with ESMTPS id 8926c6da1cb9f-503b5bb041fsm106602173.53.2025.07.04.14.40.35 (version=TLS1_2 cipher=ECDHE-ECDSA-AES128-GCM-SHA256 bits=128/128); Fri, 04 Jul 2025 14:40:35 -0700 (PDT) X-Relaying-Domain: iol.unh.edu Date: Fri, 04 Jul 2025 14:40:35 -0700 (PDT) Message-ID: <68684a53.050a0220.21558.5c6eSMTPIN_ADDED_MISSING@mx.google.com> Received: from [172.21.0.6] (unknown [172.18.0.240]) by postal.iol.unh.edu (Postfix) with ESMTP id D979B6051830; Fri, 4 Jul 2025 17:40:34 -0400 (EDT) Subject: |SUCCESS| pw154997 [PATCH] net: support VLAN stacking packet type pa From: dpdklab@iol.unh.edu To: Test Report Cc: dpdk-test-reports@iol.unh.edu In-Reply-To: <20250703093027.1259459-1-huangdengdui@huawei.com> References: <20250703093027.1259459-1-huangdengdui@huawei.com> Content-Type: text/plain X-BeenThere: test-report@dpdk.org X-Mailman-Version: 2.1.29 Precedence: list List-Id: automatic DPDK test reports List-Unsubscribe: , List-Archive: List-Post: List-Help: List-Subscribe: , Errors-To: test-report-bounces@dpdk.org Test-Label: iol-compile-amd64-testing Test-Status: SUCCESS http://dpdk.org/patch/154997 _Testing PASS_ Submitter: Dengdui Huang Date: Thursday, July 03 2025 09:30:27 DPDK git baseline: Repo:dpdk Branch: master CommitID:70c2297528e7c7789af452f78de1932e9a20c8a2 154997 --> testing pass Upstream job id: Windows-Compile-DPDK-Native#29576 Test environment and result as below: +---------------------+--------------------+-------------------+-------------------------+ | Environment | dpdk_meson_compile | dpdk_msvc_compile | dpdk_llvm_clang_compile | +=====================+====================+===================+=========================+ | Ubuntu 20.04 | PASS | SKIPPED | SKIPPED | +---------------------+--------------------+-------------------+-------------------------+ | Windows Server 2022 | SKIPPED | PASS | PASS | +---------------------+--------------------+-------------------+-------------------------+ Ubuntu 20.04 Kernel: 4.19 Compiler: gcc gcc (Ubuntu 9.4.0-1ubuntu1~20.04.2) 9.4.0 Windows Server 2022 Kernel: 10.0.20348.2031 Compiler: clang 15.0.7, gcc 14.1.0 (MinGW), and MSVC VS 19.39.33521 To view detailed results, visit: https://lab.dpdk.org/results/dashboard/patchsets/33580/ UNH-IOL DPDK Community Lab To manage your email subscriptions, visit: https://lab.dpdk.org/results/dashboard/preferences/subscriptions/