From mboxrd@z Thu Jan 1 00:00:00 1970 Return-Path: Received: from mails.dpdk.org (mails.dpdk.org [217.70.189.124]) by inbox.dpdk.org (Postfix) with ESMTP id D8C4C46AEC for ; Sat, 5 Jul 2025 00:13:08 +0200 (CEST) Received: from mails.dpdk.org (localhost [127.0.0.1]) by mails.dpdk.org (Postfix) with ESMTP id D0DE84028B; Sat, 5 Jul 2025 00:13:08 +0200 (CEST) Received: from mail-pg1-f227.google.com (mail-pg1-f227.google.com [209.85.215.227]) by mails.dpdk.org (Postfix) with ESMTP id DA17D4028B for ; Sat, 5 Jul 2025 00:13:07 +0200 (CEST) Received: by mail-pg1-f227.google.com with SMTP id 41be03b00d2f7-b2fca9dc5f8so1268200a12.1 for ; Fri, 04 Jul 2025 15:13:07 -0700 (PDT) DKIM-Signature: v=1; a=rsa-sha256; c=relaxed/relaxed; d=iol.unh.edu; s=unh-iol; t=1751667187; x=1752271987; darn=dpdk.org; h=references:in-reply-to:cc:to:from:subject:message-id:date:from:to :cc:subject:date:message-id:reply-to; bh=Gy5nk7jeAjlieb/PEvfnsn6DIIJb/ocu/3mNUwfJRcY=; b=fvyBaXttmga/Kn+PwMfV7mRZvjF68KmErO0kWb4xLSzWnWgvUR/HJfUf/2omEZfPFA nNPuoacgVgAc9h0Cqfv+/m8YGTTcIyhQYErKryrn7dwRzOdnj8Q9F9uN8GgGuueU60gn II4Sti1k+OUM27C10auqcFKJMUl93/gpQhHnA= X-Google-DKIM-Signature: v=1; a=rsa-sha256; c=relaxed/relaxed; d=1e100.net; s=20230601; t=1751667187; x=1752271987; h=references:in-reply-to:cc:to:from:subject:message-id:date :x-gm-message-state:from:to:cc:subject:date:message-id:reply-to; bh=Gy5nk7jeAjlieb/PEvfnsn6DIIJb/ocu/3mNUwfJRcY=; b=XasNnAqT3f6cGjnuCV7QIvebxZyNEt2LOdgtPNnKc6FxexMrsvZK8a8wuRHIeteaca jmJWRi/k0cJxjRakxD80rmFQpQFk3OHKAS2DIqqiU2C7+YRw9O5mdtKaJgUVfu22GCeJ AiUHW2lsl4DjPRVzirJnAn8IrKlTsBRAZGrt017POkqrNBzVSyav3/zDi6y9wSfp9uNF e4dpv19DPyzynU699EXTNsgeKU1Q3wCApoSmGMWVJlJ/8F2Y9UMbEujQnnRmg2HrQ7sC f3cCuWawUc4ok3VpUyCayrHrlYIrHB8VEBEzt+QmDDQIDdYPSFeePM6wSu2yB40QucnE uuVg== X-Gm-Message-State: AOJu0YyutF5JzwoaB7LaOwpfLKyZRuz1AO35/nBg+61ImFkNf32HqRCL L0uS2msforG1DAY/2+KZy9Rsou76Vr+alvh2bOuupuVNriXDHJoiBibl9Gtk2sGcfuesvRQo9l1 hbiCIuh7B1v/BiQMTWismhfaenwlANr8Rf9UoKCn8Ni1VvIGSVB+TuGV0cwQ4 X-Gm-Gg: ASbGncuVyGietPUwtMFR4SNRwsemkFWQiwpMogfSip4iBu25fVVHywavLFL+uJD07L2 Agr8dtH3TE4+RPlXFN00UWvUIvxwuuzXaRMJuP43ZHGAJKSRQ/wLrBHTTkmysJB54wYMdOGP7vm q5FE98WlbVrCzU3inv06oS0cUYCQjRZyeZETnEACfeSsAA+IDiVzyjBHrwN6Seg0ezs1T7s3pWB ZDdkQ+/j8O0uTc1uSW95n90D88ugW3Mm3I3xnywf6PrjxziKG4MkZhJQzdSZmkEdjuOSY8eiXvZ 0pRCZ8xxCFgX2txkdGZSBhFH+uzC1fY4Uh7TiTxFx3cXL9M= X-Google-Smtp-Source: AGHT+IGQtvTSGmmUqlIi7cI+mMjhrpBRI69dizAHkzLU6loEqkyboL2oGdSmAfxH8nug1mSgJxegZiTm3zt3 X-Received: by 2002:a17:90b:4b02:b0:312:1dc9:9f67 with SMTP id 98e67ed59e1d1-31aba825b65mr510537a91.2.1751667186959; Fri, 04 Jul 2025 15:13:06 -0700 (PDT) Received: from postal.iol.unh.edu (postal.iol.unh.edu. [2606:4100:3880:1234::84]) by smtp-relay.gmail.com with ESMTPS id 41be03b00d2f7-b38ee5200e0sm147075a12.30.2025.07.04.15.13.06 (version=TLS1_2 cipher=ECDHE-ECDSA-AES128-GCM-SHA256 bits=128/128); Fri, 04 Jul 2025 15:13:06 -0700 (PDT) X-Relaying-Domain: iol.unh.edu Date: Fri, 04 Jul 2025 15:13:06 -0700 (PDT) Message-ID: <686851f2.630a0220.3185ee.8558SMTPIN_ADDED_MISSING@mx.google.com> Received: from [172.21.0.5] (unknown [172.18.0.240]) by postal.iol.unh.edu (Postfix) with ESMTP id 3F4E86051830; Fri, 4 Jul 2025 18:13:06 -0400 (EDT) Subject: |SUCCESS| pw154969 [PATCH] [v2] build/x86: fix support for older com From: dpdklab@iol.unh.edu To: Test Report Cc: dpdk-test-reports@iol.unh.edu In-Reply-To: <20250702160138.3441279-1-bruce.richardson@intel.com> References: <20250702160138.3441279-1-bruce.richardson@intel.com> Content-Type: text/plain X-BeenThere: test-report@dpdk.org X-Mailman-Version: 2.1.29 Precedence: list List-Id: automatic DPDK test reports List-Unsubscribe: , List-Archive: List-Post: List-Help: List-Subscribe: , Errors-To: test-report-bounces@dpdk.org Test-Label: iol-compile-arm64-testing Test-Status: SUCCESS http://dpdk.org/patch/154969 _Testing PASS_ Submitter: Bruce Richardson Date: Wednesday, July 02 2025 16:00:45 DPDK git baseline: Repo:dpdk Branch: master CommitID:70c2297528e7c7789af452f78de1932e9a20c8a2 154969 --> testing pass Upstream job id: Generic-DPDK-Compile-Meson#405411 Test environment and result as below: +------------------------------+--------------------+ | Environment | dpdk_meson_compile | +==============================+====================+ | Ubuntu 20.04 | PASS | +------------------------------+--------------------+ | Fedora Linux 41 | PASS | +------------------------------+--------------------+ | Debian GNU/Linux 12 | PASS | +------------------------------+--------------------+ | Fedora Linux 40 | PASS | +------------------------------+--------------------+ | Ubuntu 24.04 | PASS | +------------------------------+--------------------+ | Ubuntu 22.04 | PASS | +------------------------------+--------------------+ | CentOS Stream 9 | PASS | +------------------------------+--------------------+ | CentOS Stream 10 | PASS | +------------------------------+--------------------+ | Red Hat Enterprise Linux 9.5 | PASS | +------------------------------+--------------------+ Ubuntu 20.04 Kernel: 5.15 Compiler: aarch64-linux-gnu-gcc gcc (Ubuntu 9.4.0-1ubuntu1~20.04.2) 9.4.0 Fedora Linux 41 Kernel: 5.4 Compiler: clang gcc (GCC) 14.3.1 20250523 (Red Hat 14.3.1-1) Debian GNU/Linux 12 Kernel: 5.4 Compiler: gcc gcc (Debian 12.2.0-14+deb12u1) 12.2.0 Fedora Linux 40 Kernel: 5.4 Compiler: clang gcc (GCC) 14.2.1 20240912 (Red Hat 14.2.1-3) Ubuntu 24.04 Kernel: 5.4 Compiler: gcc gcc (Ubuntu 13.3.0-6ubuntu2~24.04) 13.3.0 Ubuntu 22.04 Kernel: 5.4 Compiler: gcc gcc (Ubuntu 11.4.0-1ubuntu1~22.04) 11.4.0 CentOS Stream 9 Kernel: 5.4 Compiler: gcc gcc (GCC) 11.5.0 20240719 (Red Hat 11.5.0-7) CentOS Stream 10 Kernel: 5.4 Compiler: gcc gcc (GCC) 14.2.1 20250110 (Red Hat 14.2.1-8) Red Hat Enterprise Linux 9.5 Kernel: 5.4 Compiler: gcc gcc (GCC) 11.5.0 20240719 (Red Hat 11.5.0-2) To view detailed results, visit: https://lab.dpdk.org/results/dashboard/patchsets/33570/ UNH-IOL DPDK Community Lab To manage your email subscriptions, visit: https://lab.dpdk.org/results/dashboard/preferences/subscriptions/