From mboxrd@z Thu Jan 1 00:00:00 1970 Return-Path: Received: from mails.dpdk.org (mails.dpdk.org [217.70.189.124]) by inbox.dpdk.org (Postfix) with ESMTP id F098846AEC for ; Sat, 5 Jul 2025 00:13:51 +0200 (CEST) Received: from mails.dpdk.org (localhost [127.0.0.1]) by mails.dpdk.org (Postfix) with ESMTP id E9ABF4028B; Sat, 5 Jul 2025 00:13:51 +0200 (CEST) Received: from mail-il1-f228.google.com (mail-il1-f228.google.com [209.85.166.228]) by mails.dpdk.org (Postfix) with ESMTP id 48D794028B for ; Sat, 5 Jul 2025 00:13:51 +0200 (CEST) Received: by mail-il1-f228.google.com with SMTP id e9e14a558f8ab-3de1875bf9dso13221685ab.2 for ; Fri, 04 Jul 2025 15:13:51 -0700 (PDT) DKIM-Signature: v=1; a=rsa-sha256; c=relaxed/relaxed; d=iol.unh.edu; s=unh-iol; t=1751667230; x=1752272030; darn=dpdk.org; h=references:in-reply-to:cc:to:from:subject:message-id:date:from:to :cc:subject:date:message-id:reply-to; bh=SWqkxbbf2j4Kz0+ea+O3PfgOK+rnezpSGqmtjqFSerY=; b=OKyJ70J1KihKzDPJ6NWIUrZOlhCAV+Zm//3xa/m0HcPNnzI1s5cjnTP5Vg7faF8QnX W9XqQ50/X0Q9myZnxOslHRsuTIgcF2d+ojZunlWU3V2wWH2fWH+HKA1Ila6UCuIoou+b P1HX0uwiOT4Z3fLqaYUDw6SfhyI9PD5vbVsh8= X-Google-DKIM-Signature: v=1; a=rsa-sha256; c=relaxed/relaxed; d=1e100.net; s=20230601; t=1751667230; x=1752272030; h=references:in-reply-to:cc:to:from:subject:message-id:date :x-gm-message-state:from:to:cc:subject:date:message-id:reply-to; bh=SWqkxbbf2j4Kz0+ea+O3PfgOK+rnezpSGqmtjqFSerY=; b=eV8MArUvFjQTQLln7YmyAJbZzG+lIbgK8C8m51xPf6OE5gBZ2iufkgpyVy/shhy6tj urb4+ct9JGrpGscGkTm6fSZ/5ELzAhIjLALnTZzC6ckql4OlbrTm0ApOp7Ynh3VMc8dc qD+iILeB8Z4dZZsyJCnS/x6pBOwi/JhPcR0qYM32HnhGnY8KAqR4ecA34Z6BX4LgiqxR 0eaqU+jnsU9pCWizPbJVIPYej0H9CKdYwIDC861Duwv5oyUwPoy9vUbQtQq9aPfQ173A HVPIZbnDcUyXsOQ7aHxwSe1KgTh8Fivf4nJwIEoeGE03ihMUkcxyRhRrcqMhbQ/K0vaf FE4Q== X-Gm-Message-State: AOJu0YyohIsRDQuGRcPdyWyB0yMI5hcH/sBf6hEfKWTAuMR2lNQxyYB9 xU759ca1mzP/NWw7Dgcr/U9F3N9k4TVMtsNmymfdjTyIvzSyM+PcvDogcHxOQwc63/c85TsKbrd qvzi+OLcP3/zUJ7RSqa8d7fC6FLjk+Je9CmK/auGLTHpC X-Gm-Gg: ASbGncsX5cKT8VTxg+Gl2Yv7jBHKI3YclQ9GNHuWmzDtdkqrTJjLyDb2RUKmFF5Ve70 9BXMg9FwjREM8HQ04IkY70G5+dC3u39N+NkJdND64fp2teWU+AhNkQDwlTaTqNgSlQgSweh2RMD cJqHaeyIAySzj+NwUS6QUW3LIZ5am4JJrRGUI2NyAOvGnnMc5uTAEMAHSQR2HwJntu4ui6AiG4c IxtZYxRep81f1qqXwxuf/edYhJg2vf3x9DwN4M1HjBzNdGjIOgvX7NNbQ5Lhs7+VwXApwBjItGF SFSoEeuLOoUJvbxp3+pLoAE6jstyUVuo189QxAF7CBgcMwZ4h2o5bVnk+6ZH3ZORrag0Qw== X-Google-Smtp-Source: AGHT+IFKIbo5bO8q60f399lvNzXlB58haPhOL4oSkzUI8c5ZRlEDCnXFg50T80uhmPNWOXvsFj7p+c4SdgJ/ X-Received: by 2002:a05:6e02:3e03:b0:3dd:b706:b7d3 with SMTP id e9e14a558f8ab-3e135497a4bmr39759595ab.7.1751667230524; Fri, 04 Jul 2025 15:13:50 -0700 (PDT) Received: from postal.iol.unh.edu (postal.iol.unh.edu. [132.177.123.84]) by smtp-relay.gmail.com with ESMTPS id 8926c6da1cb9f-503b5a14ca4sm106034173.26.2025.07.04.15.13.50 (version=TLS1_2 cipher=ECDHE-ECDSA-AES128-GCM-SHA256 bits=128/128); Fri, 04 Jul 2025 15:13:50 -0700 (PDT) X-Relaying-Domain: iol.unh.edu Date: Fri, 04 Jul 2025 15:13:50 -0700 (PDT) Message-ID: <6868521e.050a0220.92d6e.6180SMTPIN_ADDED_MISSING@mx.google.com> Received: from [172.21.0.7] (unknown [172.18.0.240]) by postal.iol.unh.edu (Postfix) with ESMTP id 03F516051830; Fri, 4 Jul 2025 18:13:50 -0400 (EDT) Subject: |SUCCESS| pw154969 [PATCH] [v2] build/x86: fix support for older com From: dpdklab@iol.unh.edu To: Test Report Cc: dpdk-test-reports@iol.unh.edu In-Reply-To: <20250702160138.3441279-1-bruce.richardson@intel.com> References: <20250702160138.3441279-1-bruce.richardson@intel.com> Content-Type: text/plain X-BeenThere: test-report@dpdk.org X-Mailman-Version: 2.1.29 Precedence: list List-Id: automatic DPDK test reports List-Unsubscribe: , List-Archive: List-Post: List-Help: List-Subscribe: , Errors-To: test-report-bounces@dpdk.org Test-Label: iol-compile-arm64-testing Test-Status: SUCCESS http://dpdk.org/patch/154969 _Testing PASS_ Submitter: Bruce Richardson Date: Wednesday, July 02 2025 16:00:45 DPDK git baseline: Repo:dpdk Branch: master CommitID:70c2297528e7c7789af452f78de1932e9a20c8a2 154969 --> testing pass Upstream job id: Generic-DPDK-Compile-Meson#405413 Test environment and result as below: +------------------------------+--------------------+ | Environment | dpdk_meson_compile | +==============================+====================+ | Ubuntu 20.04 | PASS | +------------------------------+--------------------+ | Fedora Linux 41 | PASS | +------------------------------+--------------------+ | Debian GNU/Linux 12 | PASS | +------------------------------+--------------------+ | Fedora Linux 40 | PASS | +------------------------------+--------------------+ | Ubuntu 24.04 | PASS | +------------------------------+--------------------+ | Ubuntu 22.04 | PASS | +------------------------------+--------------------+ | CentOS Stream 9 | PASS | +------------------------------+--------------------+ | CentOS Stream 10 | PASS | +------------------------------+--------------------+ | Red Hat Enterprise Linux 9.5 | PASS | +------------------------------+--------------------+ Ubuntu 20.04 Kernel: 5.15 Compiler: aarch64-linux-gnu-gcc gcc (Ubuntu 9.4.0-1ubuntu1~20.04.2) 9.4.0 Fedora Linux 41 Kernel: 5.4 Compiler: clang gcc (GCC) 14.3.1 20250523 (Red Hat 14.3.1-1) Debian GNU/Linux 12 Kernel: 5.4 Compiler: gcc gcc (Debian 12.2.0-14+deb12u1) 12.2.0 Fedora Linux 40 Kernel: 5.4 Compiler: clang gcc (GCC) 14.2.1 20240912 (Red Hat 14.2.1-3) Ubuntu 24.04 Kernel: 5.4 Compiler: gcc gcc (Ubuntu 13.3.0-6ubuntu2~24.04) 13.3.0 Ubuntu 22.04 Kernel: 5.4 Compiler: gcc gcc (Ubuntu 11.4.0-1ubuntu1~22.04) 11.4.0 CentOS Stream 9 Kernel: 5.4 Compiler: gcc gcc (GCC) 11.5.0 20240719 (Red Hat 11.5.0-7) CentOS Stream 10 Kernel: 5.4 Compiler: gcc gcc (GCC) 14.2.1 20250110 (Red Hat 14.2.1-8) Red Hat Enterprise Linux 9.5 Kernel: 5.4 Compiler: gcc gcc (GCC) 11.5.0 20240719 (Red Hat 11.5.0-2) To view detailed results, visit: https://lab.dpdk.org/results/dashboard/patchsets/33570/ UNH-IOL DPDK Community Lab To manage your email subscriptions, visit: https://lab.dpdk.org/results/dashboard/preferences/subscriptions/