From mboxrd@z Thu Jan 1 00:00:00 1970 Return-Path: Received: from mails.dpdk.org (mails.dpdk.org [217.70.189.124]) by inbox.dpdk.org (Postfix) with ESMTP id 7600246AD8 for ; Sat, 5 Jul 2025 00:19:08 +0200 (CEST) Received: from mails.dpdk.org (localhost [127.0.0.1]) by mails.dpdk.org (Postfix) with ESMTP id 6E5864028B; Sat, 5 Jul 2025 00:19:08 +0200 (CEST) Received: from mail-il1-f227.google.com (mail-il1-f227.google.com [209.85.166.227]) by mails.dpdk.org (Postfix) with ESMTP id 69EF54028B for ; Sat, 5 Jul 2025 00:19:07 +0200 (CEST) Received: by mail-il1-f227.google.com with SMTP id e9e14a558f8ab-3df30d542caso5976825ab.1 for ; Fri, 04 Jul 2025 15:19:07 -0700 (PDT) DKIM-Signature: v=1; a=rsa-sha256; c=relaxed/relaxed; d=iol.unh.edu; s=unh-iol; t=1751667546; x=1752272346; darn=dpdk.org; h=references:in-reply-to:cc:to:from:subject:message-id:date:from:to :cc:subject:date:message-id:reply-to; bh=+pfFvQVQ2cr61adqYPrCI7ZzTCPTaSgYD8OVenki5XQ=; b=R0ZHkSaBOgYjiU3oQx14MT0kjFpiCRgC2R1yk8aI/v6FaqRFytpT+jN2qWwVc6RL2i rsODM4waEnBi99zNaXcXwL3E2aYV5Pm4ZhQqBzFJjDNOmA6bXxdpQlZ/u1HGvheg+DNL aH70klhlOp58etDd0WhHN80MPxI7AJumfxYX8= X-Google-DKIM-Signature: v=1; a=rsa-sha256; c=relaxed/relaxed; d=1e100.net; s=20230601; t=1751667546; x=1752272346; h=references:in-reply-to:cc:to:from:subject:message-id:date :x-gm-message-state:from:to:cc:subject:date:message-id:reply-to; bh=+pfFvQVQ2cr61adqYPrCI7ZzTCPTaSgYD8OVenki5XQ=; b=pcnd4/lTBWyJy+p1Au8B3H9efKO/Oo1R2BRWlon2WhOsftefVUjkUplbRbAboYSPB0 jpRHC8pDGRlir9oDOuVwy5A6UjqvURvFdf0MtmJR3DNwXR42pWcqRTH9ShkqDtyJmQhN viPlc9tqwpF311B21ZfMc3p7yucp8aySu5H0jsxeCgpN9j5T7Q7xPmvtbFCH6eGG1PZD WWfS03wyZtoK4vx5qT8FHgPwExDkTTd7NMpyX+S6BQhpkHqlwnsALu5wlBpOOzWLJ1Ae W3NqiNI4DFDyPSnchn4kECAsF+Wd0DCYjYJJEMgXqtlM8qW6gz/HpTAAdRvi5s1EIr8u eZ5A== X-Gm-Message-State: AOJu0Yxdd9pyL0N3ZD4jqb+bFeUs2WrKo+yq+A7wl4fdKMLMP8yAuKja VwJg5djnJjKM0NML8owYQEvLXTy5/fmL58dj39/eZ7muqbwXH3GSgIHhvzFSc/mT+C12rZKcsUL eWrAWLngoWeR3UHL6JlA6ajlrbSfDFIfdNtKp5wdySw9qaI0YhuasrrpKHJgD X-Gm-Gg: ASbGncs8joAu/oS3oKTiZXFgePn6dtKeT1c/oEkAQQaf/GMs1+iNzUy94daqx3UyhBD Z/Si0TZ7RnAgGE0+z3i4x5PGukbKuxnyR8m93LRxPZryhhEaCIwbpWusQ62EYLWGqEm5bBFFLpz ikzKeGG87hW/B1TEVk7QHcnIIvyKhWzh3g/yY/z+ieXf8bxZMACGSKWwpdPgD/N+tynwgFpC2no /ZCN6VUV/4622NP02idcr8WMmr3g0XEHfCSjp1n67+k7QvwOfiH/Qu+WnwHEANvewGeAj00kKs5 Y8xU+h8FnqkSZ8CrK+bIym3xnjuEycX843Vh3g/CnfV8w6A= X-Google-Smtp-Source: AGHT+IHYWAhJ3OS/J0T43XX7RX3bc2QNDHSgjqi4s5MlmKmGlQ54oSSFocvLYf9lWozYTZuQSaeoiYJt0uDX X-Received: by 2002:a05:6e02:3e90:b0:3df:3154:2e90 with SMTP id e9e14a558f8ab-3e1371e91bfmr31977785ab.19.1751667546644; Fri, 04 Jul 2025 15:19:06 -0700 (PDT) Received: from postal.iol.unh.edu (postal.iol.unh.edu. [2606:4100:3880:1234::84]) by smtp-relay.gmail.com with ESMTPS id 8926c6da1cb9f-503b5a2062fsm113470173.29.2025.07.04.15.19.06 (version=TLS1_2 cipher=ECDHE-ECDSA-AES128-GCM-SHA256 bits=128/128); Fri, 04 Jul 2025 15:19:06 -0700 (PDT) X-Relaying-Domain: iol.unh.edu Date: Fri, 04 Jul 2025 15:19:06 -0700 (PDT) Message-ID: <6868535a.050a0220.50f78.5fb5SMTPIN_ADDED_MISSING@mx.google.com> Received: from [172.21.0.5] (unknown [172.18.0.240]) by postal.iol.unh.edu (Postfix) with ESMTP id 1B56C6051830; Fri, 4 Jul 2025 18:19:06 -0400 (EDT) Subject: |SUCCESS| pw154978 [PATCH] [v3] net/iavf: fix VLAN offload strip fla From: dpdklab@iol.unh.edu To: Test Report Cc: dpdk-test-reports@iol.unh.edu In-Reply-To: <20250702183856.99326-1-amiyaranjan.mohakud@gmail.com> References: <20250702183856.99326-1-amiyaranjan.mohakud@gmail.com> Content-Type: text/plain X-BeenThere: test-report@dpdk.org X-Mailman-Version: 2.1.29 Precedence: list List-Id: automatic DPDK test reports List-Unsubscribe: , List-Archive: List-Post: List-Help: List-Subscribe: , Errors-To: test-report-bounces@dpdk.org Test-Label: iol-unit-arm64-testing Test-Status: SUCCESS http://dpdk.org/patch/154978 _Testing PASS_ Submitter: Amiya Ranjan Mohakud Date: Wednesday, July 02 2025 18:38:56 DPDK git baseline: Repo:dpdk Branch: master CommitID:0ae2a33d16a8727ac2935ac500e216906b50ac2c 154978 --> testing pass Upstream job id: Generic-Unit-Test-DPDK#352626 Test environment and result as below: +------------------------------+---------------------------+--------------+------------------------------+----------------+ | Environment | cryptodev_sw_zuc_autotest | lpm_autotest | cryptodev_sw_snow3g_autotest | dpdk_unit_test | +==============================+===========================+==============+==============================+================+ | Debian 12 (arm) | PASS | SKIPPED | PASS | SKIPPED | +------------------------------+---------------------------+--------------+------------------------------+----------------+ | Ubuntu 20.04 | SKIPPED | PASS | SKIPPED | PASS | +------------------------------+---------------------------+--------------+------------------------------+----------------+ | Ubuntu 22.04 | SKIPPED | SKIPPED | SKIPPED | PASS | +------------------------------+---------------------------+--------------+------------------------------+----------------+ | Debian GNU/Linux 12 | SKIPPED | SKIPPED | SKIPPED | PASS | +------------------------------+---------------------------+--------------+------------------------------+----------------+ | Fedora Linux 40 | SKIPPED | SKIPPED | SKIPPED | PASS | +------------------------------+---------------------------+--------------+------------------------------+----------------+ | CentOS Stream 9 | SKIPPED | SKIPPED | SKIPPED | PASS | +------------------------------+---------------------------+--------------+------------------------------+----------------+ | CentOS Stream 10 | SKIPPED | SKIPPED | SKIPPED | PASS | +------------------------------+---------------------------+--------------+------------------------------+----------------+ | Fedora Linux 41 | SKIPPED | SKIPPED | SKIPPED | PASS | +------------------------------+---------------------------+--------------+------------------------------+----------------+ | Red Hat Enterprise Linux 9.5 | SKIPPED | SKIPPED | SKIPPED | PASS | +------------------------------+---------------------------+--------------+------------------------------+----------------+ | Ubuntu 24.04 | SKIPPED | SKIPPED | SKIPPED | PASS | +------------------------------+---------------------------+--------------+------------------------------+----------------+ Debian 12 (arm) Kernel: Depends on container host Compiler: gcc (Debian 12.2.0-14) 12.2.0 Ubuntu 20.04 Kernel: 5.4 Compiler: gcc gcc (Ubuntu 9.4.0-1ubuntu1~20.04.2) 9.4.0 Ubuntu 22.04 Kernel: 5.15 Compiler: gcc gcc (Ubuntu 11.4.0-1ubuntu1~22.04) 11.4.0 Debian GNU/Linux 12 Kernel: 5.4 Compiler: gcc gcc (Debian 12.2.0-14+deb12u1) 12.2.0 Fedora Linux 40 Kernel: 5.4 Compiler: gcc gcc (GCC) 14.2.1 20240912 (Red Hat 14.2.1-3) CentOS Stream 9 Kernel: 5.4 Compiler: gcc gcc (GCC) 11.5.0 20240719 (Red Hat 11.5.0-7) CentOS Stream 10 Kernel: 5.4 Compiler: gcc gcc (GCC) 14.2.1 20250110 (Red Hat 14.2.1-8) Fedora Linux 41 Kernel: 5.4 Compiler: gcc gcc (GCC) 14.3.1 20250523 (Red Hat 14.3.1-1) Red Hat Enterprise Linux 9.5 Kernel: 5.4 Compiler: gcc gcc (GCC) 11.5.0 20240719 (Red Hat 11.5.0-2) Ubuntu 24.04 Kernel: 5.4 Compiler: gcc gcc (Ubuntu 13.3.0-6ubuntu2~24.04) 13.3.0 To view detailed results, visit: https://lab.dpdk.org/results/dashboard/patchsets/33575/ UNH-IOL DPDK Community Lab To manage your email subscriptions, visit: https://lab.dpdk.org/results/dashboard/preferences/subscriptions/