From mboxrd@z Thu Jan 1 00:00:00 1970 Return-Path: Received: from mails.dpdk.org (mails.dpdk.org [217.70.189.124]) by inbox.dpdk.org (Postfix) with ESMTP id 33B8346AEC for ; Sat, 5 Jul 2025 00:36:21 +0200 (CEST) Received: from mails.dpdk.org (localhost [127.0.0.1]) by mails.dpdk.org (Postfix) with ESMTP id 2ABE14028B; Sat, 5 Jul 2025 00:36:21 +0200 (CEST) Received: from mail-il1-f226.google.com (mail-il1-f226.google.com [209.85.166.226]) by mails.dpdk.org (Postfix) with ESMTP id 6296A4028B for ; Sat, 5 Jul 2025 00:36:20 +0200 (CEST) Received: by mail-il1-f226.google.com with SMTP id e9e14a558f8ab-3de2b02c69eso7957755ab.1 for ; Fri, 04 Jul 2025 15:36:20 -0700 (PDT) DKIM-Signature: v=1; a=rsa-sha256; c=relaxed/relaxed; d=iol.unh.edu; s=unh-iol; t=1751668579; x=1752273379; darn=dpdk.org; h=references:in-reply-to:cc:to:from:subject:message-id:date:from:to :cc:subject:date:message-id:reply-to; bh=HKC14mQPsy/ZknZpOPxMAWsizJkakrHfzPwL1X3MzHs=; b=hiooWeqgNPOIQI7hs7BKepXzsxQfu5rmaQ78cR4JHMlgQmtKFzlq9oYlz1/g2bjmMb Wc9iD17RXU7buw4gEsADNclXi1iVTUtvvr4NavAkkOk2U6jEJNtTpK1dLnfZ8ulUP60P oNLSSJTraNicUf/sycysqQVml3q1TvULUGoIw= X-Google-DKIM-Signature: v=1; a=rsa-sha256; c=relaxed/relaxed; d=1e100.net; s=20230601; t=1751668579; x=1752273379; h=references:in-reply-to:cc:to:from:subject:message-id:date :x-gm-message-state:from:to:cc:subject:date:message-id:reply-to; bh=HKC14mQPsy/ZknZpOPxMAWsizJkakrHfzPwL1X3MzHs=; b=uqPatk1wueyfq/Wgg+hyEkWALpwNwPGPIIMQZeUWsLHJvVWlBcXnX8VpFS1dv/CLpO PaS6KBUtcDKVe5p2dz3NWfsqmQV3xGVIu8K7MPZzvVQ5M/qFLd+HEO8L0uqPK/mdn3d0 iFJ+hUMYNvDSEQl2QuWAG41f9QC3JO4oqnzMlQE9Jvo9f2obqMq7gnP8zZA9oMHNyKKX K7KaypGLoY/UHYaiDf7iRuGQicqrVc6sjHcpmLM277OXxE3KVQr1axI5ULDKURJx5/cD uTsv4QJwHpIGRmwrf/rlro+JBAJeHy8x/l6qk8kTEkgNrvUq4Y0CfWx/VwGr09n4yt+Y KSag== X-Gm-Message-State: AOJu0Yz+an3TfswhgIJ8kEtxkQ0d/3CIsa06lg7kF26zjb1BHBccXXdf gBPb2yfiQV0byDe1HIuHylRzIfw/tzt5CO8YLR/uwfeVBQtVzPgJ6oRO2a/8DcbiAna/nO64FqL gAM+52p0KUp0QSwldCh3WHA1yISo6jLUsQxqGDhQiRD2s X-Gm-Gg: ASbGncsHhxH54k6509dMIQzej3jd5qjsglzKqZcP/pm4ymKVFLG4K+DNQpLZ8rGOdOI cX4u8HjGEQJB1aASgz9x1LHUPOAufU2zmelmckXC/JB36IFpo4vWYsuv9143gSmkA9L/6fFvWz7 n18lw033t1HhBfziag3SzEDSDP3v85vCkWCf582v6FwZQMBSFtT4fDtmtQY4vlcUAkaV96MSafd Thck7P/SRZEpr1lcibvJYvUvmCnqdh1RqCFYl2nnU1n1XcZ2YngLJ6Ck1oYEiu2BGxCRq+6H8xz rx1an5HyF30PMYh+9fyFfTUAlxE+e3UlgOt0FEn7DNrF2qE7kRtSl99QyAlLUevF3xuPHg== X-Google-Smtp-Source: AGHT+IHxTYQqmnT71Vu2s9egx9VIz6B50s6uxAAHZucYhZtCv8Nk3vQO/dVB20UAHtAo6wWJH9U9koCOdqc1 X-Received: by 2002:a05:6e02:1949:b0:3df:2cd5:80c1 with SMTP id e9e14a558f8ab-3e136ea27b2mr37659285ab.4.1751668579678; Fri, 04 Jul 2025 15:36:19 -0700 (PDT) Received: from postal.iol.unh.edu (postal.iol.unh.edu. [132.177.123.84]) by smtp-relay.gmail.com with ESMTPS id e9e14a558f8ab-3e0f3434755sm1924095ab.12.2025.07.04.15.36.19 (version=TLS1_2 cipher=ECDHE-ECDSA-AES128-GCM-SHA256 bits=128/128); Fri, 04 Jul 2025 15:36:19 -0700 (PDT) X-Relaying-Domain: iol.unh.edu Date: Fri, 04 Jul 2025 15:36:19 -0700 (PDT) Message-ID: <68685763.050a0220.206690.a232SMTPIN_ADDED_MISSING@mx.google.com> Received: from [172.21.0.6] (unknown [172.18.0.240]) by postal.iol.unh.edu (Postfix) with ESMTP id 2BCBC6051830; Fri, 4 Jul 2025 18:36:19 -0400 (EDT) Subject: |SUCCESS| pw154921-154923 [PATCH] [v2,5/5] riscv: override machine_a From: dpdklab@iol.unh.edu To: Test Report Cc: dpdk-test-reports@iol.unh.edu In-Reply-To: References: Content-Type: text/plain X-BeenThere: test-report@dpdk.org X-Mailman-Version: 2.1.29 Precedence: list List-Id: automatic DPDK test reports List-Unsubscribe: , List-Archive: List-Post: List-Help: List-Subscribe: , Errors-To: test-report-bounces@dpdk.org Test-Label: iol-unit-amd64-testing Test-Status: SUCCESS http://dpdk.org/patch/154923 _Testing PASS_ Submitter: None Date: Tuesday, July 01 2025 18:20:33 DPDK git baseline: Repo:dpdk Branch: master CommitID:70c2297528e7c7789af452f78de1932e9a20c8a2 154921-154923 --> testing pass Upstream job id: Generic-Unit-Test-DPDK#352664 Test environment and result as below: +-------------------------------+----------------+ | Environment | dpdk_unit_test | +===============================+================+ | CentOS Stream 9 | PASS | +-------------------------------+----------------+ | Debian GNU/Linux 12 | PASS | +-------------------------------+----------------+ | CentOS Stream 10 | PASS | +-------------------------------+----------------+ | Fedora Linux 40 | PASS | +-------------------------------+----------------+ | Ubuntu 20.04 | PASS | +-------------------------------+----------------+ | Fedora Linux 41 | PASS | +-------------------------------+----------------+ | Red Hat Enterprise Linux 9.5 | PASS | +-------------------------------+----------------+ | Ubuntu 22.04 | PASS | +-------------------------------+----------------+ | Red Hat Enterprise Linux 8.10 | PASS | +-------------------------------+----------------+ | Ubuntu 24.04 | PASS | +-------------------------------+----------------+ | Windows Server 2022 | PASS | +-------------------------------+----------------+ CentOS Stream 9 Kernel: 5.15 Compiler: gcc gcc (GCC) 11.5.0 20240719 (Red Hat 11.5.0-7) Debian GNU/Linux 12 Kernel: 5.15 Compiler: gcc gcc (Debian 12.2.0-14+deb12u1) 12.2.0 CentOS Stream 10 Kernel: 5.15 Compiler: gcc gcc (GCC) 14.2.1 20250110 (Red Hat 14.2.1-8) Fedora Linux 40 Kernel: 5.15 Compiler: clang gcc (GCC) 14.2.1 20240912 (Red Hat 14.2.1-3) Ubuntu 20.04 Kernel: 5.15 Compiler: gcc gcc (Ubuntu 9.4.0-1ubuntu1~20.04.2) 9.4.0 Fedora Linux 41 Kernel: 5.15 Compiler: clang gcc (GCC) 14.3.1 20250523 (Red Hat 14.3.1-1) Red Hat Enterprise Linux 9.5 Kernel: 5.15 Compiler: gcc gcc (GCC) 11.5.0 20240719 (Red Hat 11.5.0-2) Ubuntu 22.04 Kernel: 5.15 Compiler: gcc gcc (Ubuntu 11.4.0-1ubuntu1~22.04) 11.4.0 Red Hat Enterprise Linux 8.10 Kernel: 5.15 Compiler: gcc gcc (GCC) 8.5.0 20210514 (Red Hat 8.5.0-22) Ubuntu 24.04 Kernel: 5.15 Compiler: gcc gcc (Ubuntu 13.3.0-6ubuntu2~24.04) 13.3.0 Windows Server 2022 Kernel: 10.0.20348.2031 Compiler: clang 15.0.7, gcc 14.1.0 (MinGW), and MSVC VS 19.39.33521 To view detailed results, visit: https://lab.dpdk.org/results/dashboard/patchsets/33559/ UNH-IOL DPDK Community Lab To manage your email subscriptions, visit: https://lab.dpdk.org/results/dashboard/preferences/subscriptions/