From mboxrd@z Thu Jan 1 00:00:00 1970 Return-Path: Received: from mails.dpdk.org (mails.dpdk.org [217.70.189.124]) by inbox.dpdk.org (Postfix) with ESMTP id 1308446AEC for ; Sat, 5 Jul 2025 00:53:44 +0200 (CEST) Received: from mails.dpdk.org (localhost [127.0.0.1]) by mails.dpdk.org (Postfix) with ESMTP id EB2E640151; Sat, 5 Jul 2025 00:53:43 +0200 (CEST) Received: from mail-il1-f225.google.com (mail-il1-f225.google.com [209.85.166.225]) by mails.dpdk.org (Postfix) with ESMTP id 399CF40151 for ; Sat, 5 Jul 2025 00:53:42 +0200 (CEST) Received: by mail-il1-f225.google.com with SMTP id e9e14a558f8ab-3df2ccbb895so13938045ab.3 for ; Fri, 04 Jul 2025 15:53:42 -0700 (PDT) DKIM-Signature: v=1; a=rsa-sha256; c=relaxed/relaxed; d=iol.unh.edu; s=unh-iol; t=1751669621; x=1752274421; darn=dpdk.org; h=references:in-reply-to:cc:to:from:subject:message-id:date:from:to :cc:subject:date:message-id:reply-to; bh=5BCOSFl3wxSiNt9JcbR3qQExTwRNvUsG1SPmnwEbPe0=; b=LzVouO+aWue9KTcMKb1tQEjq9z4RfV4rSVijjXg33REE2RE2zePWRzP5kNiCEyVUrT HSq59dMYvm/MHFT9KoaGoddktMehVCRea8ouS0dbYrwLYWSIRRnpE8wO0UKgDyE7nlnx oWv90iEAEb4cjVggvBHllQm5HflS50LXxJctk= X-Google-DKIM-Signature: v=1; a=rsa-sha256; c=relaxed/relaxed; d=1e100.net; s=20230601; t=1751669621; x=1752274421; h=references:in-reply-to:cc:to:from:subject:message-id:date :x-gm-message-state:from:to:cc:subject:date:message-id:reply-to; bh=5BCOSFl3wxSiNt9JcbR3qQExTwRNvUsG1SPmnwEbPe0=; b=Q6Yhxm85gkRRDsbRMDJNxzJc1LtlpkLmEugTh0V06KQEU1FcQ1OKanJZ6PX0WpA30m c1RDpV9YEWANiKHc/oS9IzonrEkMDe2MgPBvLm+sKyN6mlo0ttepzL+TEEinmj+Mndz7 DoUxGDjx+jdXSXgxZErSwTFbOlf/TBXIjC4Y/mgTW3M1IgM0i7IBgQe9m5KqFkVBwKI4 GConKfvWFBrlhoHmb2UCcXrblolUDEiSv1uHGb2nmXgxw5E+cmaViVJ3m5WjVwLG6ygf TrURdA/4u4Fmq1K07t9NjmX/s+nHyJSWWu97Qde+XUC3vhTSaSYCVaVrfLlUSHdqMe3V 6BCA== X-Gm-Message-State: AOJu0Yyxyv6SAiusoDYKT0uRbxQanP5WdhuMpAb4ieG8JezUmTzE/G0s sQ3KysJGKpfbTIKcqnIbD7eXtbXIN/DgNZG+D2xIltUc5zoPQ0f3LDUuAu2ZFm9SgTrHYvhvcmb 1h8MhvB+MILrM4S54AjadW19Ve0kgk41GMxDIqdcDcPAD X-Gm-Gg: ASbGnct0RsK56IhDCTYIJsoSrYF4bn2UytW7CBULy/L3Y9j7cbkbJxKn8Lr4LKt0Yb1 FRiv5RW06oCAK1qqXYfub2vPYW7D4Vf/W1Fc+j8VAftg0jlCXV1mS9T6j9KZpZQdf6ZhKO1vuvF KXFqLsimKkmtkImrhBK4o6OAgvuC5PILjKiNgPunw6jTUiQyk14Q60XHoR5iH3RM6cJKK4l59v5 KAmoT6Y4/Ur01drmXpWu9Z7v8ta/ExjzM1DKoaDkxZnWPS5M0BuxRxkG1t3RxswmrBdRKJN6NNT L6+DK5gBmAgxBvhcbbgQTo5Mp753YC7fQS73w1f10sRDzoXv/eGw8eIGccIhTmFWlPDK9w== X-Google-Smtp-Source: AGHT+IFI6MZ5Tygb1xclN6AEOjIiUgtdDqO5VAsilGR+uV+K4k5tWhrx7gmWXsja7/pIyeVKAAHk7D+n+FCu X-Received: by 2002:a05:6e02:258c:b0:3da:71c7:5c7f with SMTP id e9e14a558f8ab-3e1371fcf1bmr36865165ab.15.1751669621585; Fri, 04 Jul 2025 15:53:41 -0700 (PDT) Received: from postal.iol.unh.edu (postal.iol.unh.edu. [132.177.123.84]) by smtp-relay.gmail.com with ESMTPS id e9e14a558f8ab-3e0f9c60f6bsm1961415ab.51.2025.07.04.15.53.41 (version=TLS1_2 cipher=ECDHE-ECDSA-AES128-GCM-SHA256 bits=128/128); Fri, 04 Jul 2025 15:53:41 -0700 (PDT) X-Relaying-Domain: iol.unh.edu Date: Fri, 04 Jul 2025 15:53:41 -0700 (PDT) Message-ID: <68685b75.050a0220.5ff61.a381SMTPIN_ADDED_MISSING@mx.google.com> Received: from [172.21.0.6] (unknown [172.18.0.240]) by postal.iol.unh.edu (Postfix) with ESMTP id 363FF6051830; Fri, 4 Jul 2025 18:53:41 -0400 (EDT) Subject: |SUCCESS| pw154952 [PATCH] net/mlx5: fix inline data size adjustment From: dpdklab@iol.unh.edu To: Test Report Cc: dpdk-test-reports@iol.unh.edu In-Reply-To: <20250702093459.102142-1-shperetz@nvidia.com> References: <20250702093459.102142-1-shperetz@nvidia.com> Content-Type: text/plain X-BeenThere: test-report@dpdk.org X-Mailman-Version: 2.1.29 Precedence: list List-Id: automatic DPDK test reports List-Unsubscribe: , List-Archive: List-Post: List-Help: List-Subscribe: , Errors-To: test-report-bounces@dpdk.org Test-Label: iol-compile-arm64-testing Test-Status: SUCCESS http://dpdk.org/patch/154952 _Testing PASS_ Submitter: Shani Peretz Date: Wednesday, July 02 2025 09:34:59 DPDK git baseline: Repo:dpdk Branch: master CommitID:5c0c1a13c34aa57c6e18f9ba852a9b5807c58b72 154952 --> testing pass Upstream job id: Generic-DPDK-Compile-Meson#405387 Test environment and result as below: +------------------------------+--------------------+ | Environment | dpdk_meson_compile | +==============================+====================+ | Ubuntu 20.04 | PASS | +------------------------------+--------------------+ | Fedora Linux 40 | PASS | +------------------------------+--------------------+ | Debian GNU/Linux 12 | PASS | +------------------------------+--------------------+ | Fedora Linux 41 | PASS | +------------------------------+--------------------+ | CentOS Stream 9 | PASS | +------------------------------+--------------------+ | Ubuntu 24.04 | PASS | +------------------------------+--------------------+ | CentOS Stream 10 | PASS | +------------------------------+--------------------+ | Red Hat Enterprise Linux 9.5 | PASS | +------------------------------+--------------------+ | Ubuntu 22.04 | PASS | +------------------------------+--------------------+ Ubuntu 20.04 Kernel: 5.4 Compiler: gcc gcc (Ubuntu 9.4.0-1ubuntu1~20.04.2) 9.4.0 Fedora Linux 40 Kernel: 5.4 Compiler: gcc gcc (GCC) 14.2.1 20240912 (Red Hat 14.2.1-3) Debian GNU/Linux 12 Kernel: 5.4 Compiler: gcc gcc (Debian 12.2.0-14+deb12u1) 12.2.0 Fedora Linux 41 Kernel: 5.4 Compiler: gcc gcc (GCC) 14.3.1 20250523 (Red Hat 14.3.1-1) CentOS Stream 9 Kernel: 5.4 Compiler: gcc gcc (GCC) 11.5.0 20240719 (Red Hat 11.5.0-7) Ubuntu 24.04 Kernel: 5.4 Compiler: gcc gcc (Ubuntu 13.3.0-6ubuntu2~24.04) 13.3.0 CentOS Stream 10 Kernel: 5.4 Compiler: gcc gcc (GCC) 14.2.1 20250110 (Red Hat 14.2.1-8) Red Hat Enterprise Linux 9.5 Kernel: 5.4 Compiler: gcc gcc (GCC) 11.5.0 20240719 (Red Hat 11.5.0-2) Ubuntu 22.04 Kernel: 5.4 Compiler: gcc gcc (Ubuntu 11.4.0-1ubuntu1~22.04) 11.4.0 To view detailed results, visit: https://lab.dpdk.org/results/dashboard/patchsets/33564/ UNH-IOL DPDK Community Lab To manage your email subscriptions, visit: https://lab.dpdk.org/results/dashboard/preferences/subscriptions/