From mboxrd@z Thu Jan 1 00:00:00 1970 Return-Path: Received: from mails.dpdk.org (mails.dpdk.org [217.70.189.124]) by inbox.dpdk.org (Postfix) with ESMTP id AB31B46AED for ; Sat, 5 Jul 2025 01:09:56 +0200 (CEST) Received: from mails.dpdk.org (localhost [127.0.0.1]) by mails.dpdk.org (Postfix) with ESMTP id A6AD840151; Sat, 5 Jul 2025 01:09:56 +0200 (CEST) Received: from mail-il1-f225.google.com (mail-il1-f225.google.com [209.85.166.225]) by mails.dpdk.org (Postfix) with ESMTP id 82ABF40151 for ; Sat, 5 Jul 2025 01:09:55 +0200 (CEST) Received: by mail-il1-f225.google.com with SMTP id e9e14a558f8ab-3de18fde9cfso7310445ab.3 for ; Fri, 04 Jul 2025 16:09:55 -0700 (PDT) DKIM-Signature: v=1; a=rsa-sha256; c=relaxed/relaxed; d=iol.unh.edu; s=unh-iol; t=1751670595; x=1752275395; darn=dpdk.org; h=references:in-reply-to:cc:to:from:subject:message-id:date:from:to :cc:subject:date:message-id:reply-to; bh=F6Ms/WdjTMlYyuE786qF840pJRwZPIxldOPCCxI9Xes=; b=ZpfX0LtRWT8b0jJ/uUZfkK97SbUChTpia1eA0OH9LcRSAxS38cZKAWzkBjdk9N25Tv zQkZbMz76k2JX/QaD4jL24CJ/otd3MLaHu/SC+1lwXk7RpmpPLh5mcTITENjW3rHr37p CUfYShppN/70/SyqxOf1XJ17ZD0BLt+7fjESU= X-Google-DKIM-Signature: v=1; a=rsa-sha256; c=relaxed/relaxed; d=1e100.net; s=20230601; t=1751670595; x=1752275395; h=references:in-reply-to:cc:to:from:subject:message-id:date :x-gm-message-state:from:to:cc:subject:date:message-id:reply-to; bh=F6Ms/WdjTMlYyuE786qF840pJRwZPIxldOPCCxI9Xes=; b=X613GoGSOwn4KO/gGV7esZIOcER1cgYS0P8PcmTAeqZftlmgNG9VatdQk536vFwCeG hJ6R5n8gyMoaRUKV4IQzQTyqukzHpwIGpvaSVJNxjJEfwxgCYBFWw6cIzCtHMX+AoMbv xpucxgY7fdaxv9z401QYGsATHL+s4rv57O0ZoxToor83q7pX3Z91WnVBV/I/rchwv72G 6fcNhoXiLsM5wwiu2iJwhqYcB2GUdL1UUqFI5WZG6Wzz5q0Cozyk/3FaHxIVtKG+h2Ys WodGUgmH84ReCzkXP+2fABNMTDMgSQzOvRKdne23MrimTVn0ebOIXH41jAlxwNtNAOLL VZGg== X-Gm-Message-State: AOJu0YwDxRv5bTfQ+5wLWeSuvg3SFJWK8TM3BkwdLPY7WXvIFQ5tNMzG fqaDExvUA1uuKFrhQdW8yWwyIhS4I2DgfW+WmKkdLhgQWe0vwtcWbWHpTE3IUj4FUiFdem0ozPk WkyYJpkHHGK/wTX+oyzCxeBzU8vy9Q3S+LhgIXZls4D1j X-Gm-Gg: ASbGnctBHuuq/K/PPE/PYu7nyRr/ZsAPSQSWSYML9YdXjndBR/NR8wxn0AYcqzhXxZ4 lyXrv5dTZb7lozQ2hjxx9Ix5hlNoyq6jCYfn+qRm2E9p+EomZafRbIsRxJoanYjSPe8PFccu/NW rvM5aZV/ycLUrTiPP8E02jia8h4CaihTaRHToSoAcyr8Y2yLzh49WUGTdo/8URfKIOvfJj/M6aH f+6DLmI1wcAujEGUNhpQwRa13OQhJEIK8Hz7PRSWp/qycFpPdoXFGcIZZ8Fk7YATFx7YnVVq6ZV QuFK9CwUIeqX+X4pbWSC8eUyeOvLT+RT9TKnTjR2llBzsHW6zQ3HO+AqH+Nbk+FUdroVvQ== X-Google-Smtp-Source: AGHT+IFHdLQ0OGHjiU+U7F0+nyP/4WO4BZxka2d7jLc21l3TF4qfVPLFyxPmeCutJ65QsNy1sdcLEjzV/aCV X-Received: by 2002:a05:6e02:144b:b0:3df:4783:e37 with SMTP id e9e14a558f8ab-3e1371e863dmr32063695ab.17.1751670594799; Fri, 04 Jul 2025 16:09:54 -0700 (PDT) Received: from postal.iol.unh.edu (postal.iol.unh.edu. [132.177.123.84]) by smtp-relay.gmail.com with ESMTPS id e9e14a558f8ab-3e0fe2212d5sm1966345ab.54.2025.07.04.16.09.54 (version=TLS1_2 cipher=ECDHE-ECDSA-AES128-GCM-SHA256 bits=128/128); Fri, 04 Jul 2025 16:09:54 -0700 (PDT) X-Relaying-Domain: iol.unh.edu Date: Fri, 04 Jul 2025 16:09:54 -0700 (PDT) Message-ID: <68685f42.050a0220.60e53.bb9aSMTPIN_ADDED_MISSING@mx.google.com> Received: from [172.21.0.5] (unknown [172.18.0.240]) by postal.iol.unh.edu (Postfix) with ESMTP id 4582F6051830; Fri, 4 Jul 2025 19:09:54 -0400 (EDT) Subject: |SUCCESS| pw154921-154923 [PATCH] [v2,5/5] riscv: override machine_a From: dpdklab@iol.unh.edu To: Test Report Cc: dpdk-test-reports@iol.unh.edu In-Reply-To: References: Content-Type: text/plain X-BeenThere: test-report@dpdk.org X-Mailman-Version: 2.1.29 Precedence: list List-Id: automatic DPDK test reports List-Unsubscribe: , List-Archive: List-Post: List-Help: List-Subscribe: , Errors-To: test-report-bounces@dpdk.org Test-Label: iol-unit-arm64-testing Test-Status: SUCCESS http://dpdk.org/patch/154923 _Testing PASS_ Submitter: None Date: Tuesday, July 01 2025 18:20:33 DPDK git baseline: Repo:dpdk Branch: master CommitID:70c2297528e7c7789af452f78de1932e9a20c8a2 154921-154923 --> testing pass Upstream job id: Generic-Unit-Test-DPDK#352652 Test environment and result as below: +------------------------------+--------------+------------------------------+---------------------------+----------------+ | Environment | lpm_autotest | cryptodev_sw_snow3g_autotest | cryptodev_sw_zuc_autotest | dpdk_unit_test | +==============================+==============+==============================+===========================+================+ | Ubuntu 20.04 | PASS | SKIPPED | SKIPPED | PASS | +------------------------------+--------------+------------------------------+---------------------------+----------------+ | Debian 12 (arm) | SKIPPED | PASS | PASS | SKIPPED | +------------------------------+--------------+------------------------------+---------------------------+----------------+ | Ubuntu 22.04 | SKIPPED | SKIPPED | SKIPPED | PASS | +------------------------------+--------------+------------------------------+---------------------------+----------------+ | CentOS Stream 10 | SKIPPED | SKIPPED | SKIPPED | PASS | +------------------------------+--------------+------------------------------+---------------------------+----------------+ | CentOS Stream 9 | SKIPPED | SKIPPED | SKIPPED | PASS | +------------------------------+--------------+------------------------------+---------------------------+----------------+ | Fedora Linux 40 | SKIPPED | SKIPPED | SKIPPED | PASS | +------------------------------+--------------+------------------------------+---------------------------+----------------+ | Red Hat Enterprise Linux 9.5 | SKIPPED | SKIPPED | SKIPPED | PASS | +------------------------------+--------------+------------------------------+---------------------------+----------------+ | Debian GNU/Linux 12 | SKIPPED | SKIPPED | SKIPPED | PASS | +------------------------------+--------------+------------------------------+---------------------------+----------------+ | Fedora Linux 41 | SKIPPED | SKIPPED | SKIPPED | PASS | +------------------------------+--------------+------------------------------+---------------------------+----------------+ | Ubuntu 24.04 | SKIPPED | SKIPPED | SKIPPED | PASS | +------------------------------+--------------+------------------------------+---------------------------+----------------+ Ubuntu 20.04 Kernel: 5.4 Compiler: gcc gcc (Ubuntu 9.4.0-1ubuntu1~20.04.2) 9.4.0 Debian 12 (arm) Kernel: Depends on container host Compiler: gcc (Debian 12.2.0-14) 12.2.0 Ubuntu 22.04 Kernel: 5.15 Compiler: gcc gcc (Ubuntu 11.4.0-1ubuntu1~22.04) 11.4.0 CentOS Stream 10 Kernel: 5.4 Compiler: gcc gcc (GCC) 14.2.1 20250110 (Red Hat 14.2.1-8) CentOS Stream 9 Kernel: 5.4 Compiler: gcc gcc (GCC) 11.5.0 20240719 (Red Hat 11.5.0-7) Fedora Linux 40 Kernel: 5.4 Compiler: gcc gcc (GCC) 14.2.1 20240912 (Red Hat 14.2.1-3) Red Hat Enterprise Linux 9.5 Kernel: 5.4 Compiler: gcc gcc (GCC) 11.5.0 20240719 (Red Hat 11.5.0-2) Debian GNU/Linux 12 Kernel: 5.4 Compiler: gcc gcc (Debian 12.2.0-14+deb12u1) 12.2.0 Fedora Linux 41 Kernel: 5.4 Compiler: gcc gcc (GCC) 14.3.1 20250523 (Red Hat 14.3.1-1) Ubuntu 24.04 Kernel: 5.4 Compiler: gcc gcc (Ubuntu 13.3.0-6ubuntu2~24.04) 13.3.0 To view detailed results, visit: https://lab.dpdk.org/results/dashboard/patchsets/33559/ UNH-IOL DPDK Community Lab To manage your email subscriptions, visit: https://lab.dpdk.org/results/dashboard/preferences/subscriptions/