From mboxrd@z Thu Jan 1 00:00:00 1970 Return-Path: Received: from mails.dpdk.org (mails.dpdk.org [217.70.189.124]) by inbox.dpdk.org (Postfix) with ESMTP id 8A16C46AED for ; Sat, 5 Jul 2025 01:17:53 +0200 (CEST) Received: from mails.dpdk.org (localhost [127.0.0.1]) by mails.dpdk.org (Postfix) with ESMTP id 6767740151; Sat, 5 Jul 2025 01:17:53 +0200 (CEST) Received: from mail-qv1-f100.google.com (mail-qv1-f100.google.com [209.85.219.100]) by mails.dpdk.org (Postfix) with ESMTP id 87EEB40151 for ; Sat, 5 Jul 2025 01:17:52 +0200 (CEST) Received: by mail-qv1-f100.google.com with SMTP id 6a1803df08f44-6fafdd322d3so16314086d6.3 for ; Fri, 04 Jul 2025 16:17:52 -0700 (PDT) DKIM-Signature: v=1; a=rsa-sha256; c=relaxed/relaxed; d=iol.unh.edu; s=unh-iol; t=1751671072; x=1752275872; darn=dpdk.org; h=references:in-reply-to:cc:to:from:subject:message-id:date:from:to :cc:subject:date:message-id:reply-to; bh=L/5Q0WvK5MiQurTPineYFttrXucoEHXI/EFFyAx11C0=; b=UugrWYVTOqzF2bDEouqtSVAW1+QjopOLlJlPynV0z7yndt++5AUiZjc5cTLLoEwDZf wctWyI37DI8RyUPZLDkt9trK/ikw4nsY7litHl2A3pTqNzJnFPE1YpmHmUjavWRcORL2 xzSLSQgZ5IMCYKYKcvzyQW5nerOenmyY4UDGw= X-Google-DKIM-Signature: v=1; a=rsa-sha256; c=relaxed/relaxed; d=1e100.net; s=20230601; t=1751671072; x=1752275872; h=references:in-reply-to:cc:to:from:subject:message-id:date :x-gm-message-state:from:to:cc:subject:date:message-id:reply-to; bh=L/5Q0WvK5MiQurTPineYFttrXucoEHXI/EFFyAx11C0=; b=vW7zCdA068I76iKstXTujulzln+LE6v1bQ7vhqwUCbK6DqBnjaWsYHxySVAZjObPIx zz4xmNc6j/onImrst/ixmaUgTD77sHirjSVN2JyCZ0ZRBrayCumuHijpxcGPx3Sozjxx FpCmTdB+DIft1Sjg3Gski+Xi47fs/HyWNbdZ0du2O721KNWxvmIuSJXADqgzq53Zg9bk sdIsM3grtaCivzWf2UgF2DbsBGuY33iqoFM4QcXbvs2qy/k9PJ0st0/ThYH0z1PJc8NT z9RD1jHWFZ0AIlxzOUW7WnHkVWkWiGMBFgbTp/oBSsDX2d2SpAVlCtPqtOr0xukl3+5J vK9Q== X-Gm-Message-State: AOJu0YyPyOBCPy+Uc/3MCsNwLP9qIplZyLie4YJgOKua73+4RZ+/Piar sy2qLLICnHGfVldRuFGh5gPyDjPaoDTgiUASeG5hdfuTGYTlAyq/33B8Y2+pC4Fiub9wapaGhhv VUC2Y52qFSVKF4HZJa8e+V7eHT956xtL7SjPCNd/EM4Iqd6tmv00uOvowoxDw X-Gm-Gg: ASbGncsF0PLeZh2PNFbkQRGaZrslZuGnUToDeoVoPUckarWTNVipCkxNUxLkjbKrj34 pYLAZ3iQJIZak5DGCpe5dYJ55VFd7fB7uyeJes7u4VDGz9FfnQ9zql9uVncfSOZAFBodz1+l6io 86vTs+eveYuQti2xqzlULVbBsiXpix2cwEVJF3gZoDUsvTBsvdSDKH18R4vEviWaAqTw1m2IoxK DTxNeG4gunY8jP/dWef/9bSnEiB4FnygATCOYdmRPmhVRBB3itvH//9IV60ZmNVCDsWdEBoJwJD WpGBGuNVpUZuB5w5ro7YdX+5OZDMqWPHjNPliCIFpGRyRuw= X-Google-Smtp-Source: AGHT+IErGg8fBmjG7FcOJ1aHUc0wI2tphx0J3vnAJU8ixuPisNFhsU/etgZP0PEJD9lxxhaPfFdIFsdim6Yj X-Received: by 2002:a05:6214:43c9:b0:6f5:ea0:3c07 with SMTP id 6a1803df08f44-702c8b59a34mr63072886d6.8.1751671071887; Fri, 04 Jul 2025 16:17:51 -0700 (PDT) Received: from postal.iol.unh.edu (postal.iol.unh.edu. [2606:4100:3880:1234::84]) by smtp-relay.gmail.com with ESMTPS id 6a1803df08f44-702c4cc4fdesm1357996d6.13.2025.07.04.16.17.51 (version=TLS1_2 cipher=ECDHE-ECDSA-AES128-GCM-SHA256 bits=128/128); Fri, 04 Jul 2025 16:17:51 -0700 (PDT) X-Relaying-Domain: iol.unh.edu Date: Fri, 04 Jul 2025 16:17:51 -0700 (PDT) Message-ID: <6868611f.d40a0220.3a2675.7795SMTPIN_ADDED_MISSING@mx.google.com> Received: from [172.21.0.5] (unknown [172.18.0.240]) by postal.iol.unh.edu (Postfix) with ESMTP id 969AB6051830; Fri, 4 Jul 2025 19:17:51 -0400 (EDT) Subject: |SUCCESS| pw154988-154994 [PATCH] [v8,8/8] bus/dpaa: optimize qman e From: dpdklab@iol.unh.edu To: Test Report Cc: dpdk-test-reports@iol.unh.edu In-Reply-To: <20250703053743.3710482-9-vanshika.shukla@nxp.com> References: <20250703053743.3710482-9-vanshika.shukla@nxp.com> Content-Type: text/plain X-BeenThere: test-report@dpdk.org X-Mailman-Version: 2.1.29 Precedence: list List-Id: automatic DPDK test reports List-Unsubscribe: , List-Archive: List-Post: List-Help: List-Subscribe: , Errors-To: test-report-bounces@dpdk.org Test-Label: iol-unit-amd64-testing Test-Status: SUCCESS http://dpdk.org/patch/154994 _Testing PASS_ Submitter: Vanshika Shukla Date: Thursday, July 03 2025 05:37:43 DPDK git baseline: Repo:dpdk Branch: master CommitID:b18c543ec30729ccc7708a6e064a1f9db5d8c11f 154988-154994 --> testing pass Upstream job id: Generic-VM-Unit-Test-DPDK#29726 Test environment and result as below: +-------------------------------+----------------+ | Environment | dpdk_unit_test | +===============================+================+ | CentOS Stream 9 | PASS | +-------------------------------+----------------+ | Debian GNU/Linux 12 | PASS | +-------------------------------+----------------+ | Fedora Linux 40 | PASS | +-------------------------------+----------------+ | CentOS Stream 10 | PASS | +-------------------------------+----------------+ | Fedora Linux 41 | PASS | +-------------------------------+----------------+ | Red Hat Enterprise Linux 9.5 | PASS | +-------------------------------+----------------+ | Ubuntu 20.04 | PASS | +-------------------------------+----------------+ | Red Hat Enterprise Linux 8.10 | PASS | +-------------------------------+----------------+ | Ubuntu 24.04 | PASS | +-------------------------------+----------------+ | Ubuntu 22.04 | PASS | +-------------------------------+----------------+ | Windows Server 2022 | PASS | +-------------------------------+----------------+ CentOS Stream 9 Kernel: 5.15 Compiler: gcc gcc (GCC) 11.5.0 20240719 (Red Hat 11.5.0-7) Debian GNU/Linux 12 Kernel: 5.15 Compiler: gcc gcc (Debian 12.2.0-14+deb12u1) 12.2.0 Fedora Linux 40 Kernel: 5.15 Compiler: clang gcc (GCC) 14.2.1 20240912 (Red Hat 14.2.1-3) CentOS Stream 10 Kernel: 5.15 Compiler: gcc gcc (GCC) 14.2.1 20250110 (Red Hat 14.2.1-8) Fedora Linux 41 Kernel: 5.15 Compiler: gcc gcc (GCC) 14.3.1 20250523 (Red Hat 14.3.1-1) Red Hat Enterprise Linux 9.5 Kernel: 5.15 Compiler: gcc gcc (GCC) 11.5.0 20240719 (Red Hat 11.5.0-2) Ubuntu 20.04 Kernel: 5.15 Compiler: gcc gcc (Ubuntu 9.4.0-1ubuntu1~20.04.2) 9.4.0 Red Hat Enterprise Linux 8.10 Kernel: 5.15 Compiler: gcc gcc (GCC) 8.5.0 20210514 (Red Hat 8.5.0-22) Ubuntu 24.04 Kernel: 5.15 Compiler: gcc gcc (Ubuntu 13.3.0-6ubuntu2~24.04) 13.3.0 Ubuntu 22.04 Kernel: 5.15 Compiler: gcc gcc (Ubuntu 11.4.0-1ubuntu1~22.04) 11.4.0 Windows Server 2022 Kernel: 10.0.20348.2031 Compiler: clang 15.0.7, gcc 14.1.0 (MinGW), and MSVC VS 19.39.33521 To view detailed results, visit: https://lab.dpdk.org/results/dashboard/patchsets/33577/ UNH-IOL DPDK Community Lab To manage your email subscriptions, visit: https://lab.dpdk.org/results/dashboard/preferences/subscriptions/