From mboxrd@z Thu Jan 1 00:00:00 1970 Return-Path: Received: from mails.dpdk.org (mails.dpdk.org [217.70.189.124]) by inbox.dpdk.org (Postfix) with ESMTP id 0133B46AF0 for ; Sat, 5 Jul 2025 01:58:29 +0200 (CEST) Received: from mails.dpdk.org (localhost [127.0.0.1]) by mails.dpdk.org (Postfix) with ESMTP id EABD04028E; Sat, 5 Jul 2025 01:58:28 +0200 (CEST) Received: from mail-pg1-f226.google.com (mail-pg1-f226.google.com [209.85.215.226]) by mails.dpdk.org (Postfix) with ESMTP id 332604028E for ; Sat, 5 Jul 2025 01:58:28 +0200 (CEST) Received: by mail-pg1-f226.google.com with SMTP id 41be03b00d2f7-b31d8dd18cbso1490973a12.3 for ; Fri, 04 Jul 2025 16:58:28 -0700 (PDT) DKIM-Signature: v=1; a=rsa-sha256; c=relaxed/relaxed; d=iol.unh.edu; s=unh-iol; t=1751673507; x=1752278307; darn=dpdk.org; h=references:in-reply-to:cc:to:from:subject:message-id:date:from:to :cc:subject:date:message-id:reply-to; bh=36V18QDMMfSHRNvspIiQQNRB59H65v0G55HKhmBaTUI=; b=Dea6EGnXOteV3zhnwhv0GwD4pzq7KnMhy5MUPqqFXcslCwIL3tLoHKIDwxuoXx0ZPs /XuwfamAZ/2JB4h2vXxdNMS3pcYzsnrXADYqwgFscGtDVeRdbV/3JhyMPdllD7l9TQEz qk9sZ+m35XgItfqn7NmNBdUPcJauK6L8Dcp8s= X-Google-DKIM-Signature: v=1; a=rsa-sha256; c=relaxed/relaxed; d=1e100.net; s=20230601; t=1751673507; x=1752278307; h=references:in-reply-to:cc:to:from:subject:message-id:date :x-gm-message-state:from:to:cc:subject:date:message-id:reply-to; bh=36V18QDMMfSHRNvspIiQQNRB59H65v0G55HKhmBaTUI=; b=gbK631tQXR9WnOLUr6MM2Rmp8sShwVW+EE6QdgWftx4kQ9DEzM2Ommb/nottdH7t7c EqgTDRH/t4IbVRMo4OyYGBxQWyoOYDggNpsNpvbu+DBe3mQvKeSYcWuB8Bz3AN1NAX70 fRbJHaBOWNopIxxRs9e3fVNxvKIqapsCArwGwVrzON+s1ECA3li/Q0Mvt0+aS71LiUvf H92cFO66NlFFPOicmweGwP/xnLA/DpejQMW1k/oeD6owYwdrzn42JSgmM8ocR/zlHz9W yDvdHP+d2ov0iebjuCqL+XV/5nY+xsloZnlwiM8ysAVfr57NsrMVP4LdP/CoXDg3ckVu jqwA== X-Gm-Message-State: AOJu0Yz/py4Vtdw1M+gHNK8Rx3ChvjrzbaQaPe0pEuYZlWcUDuEnLnXS Pundz7c/wJ4WMNau1aBRBq7EB2ftPaL6SWupXLYvG988j1Gb2MqM+wpFqt72BibHbIshAEEA3PJ RJsNxt/OYjA9+uwSd+1D2pxt5DeHvs2UTyEAFs9SrJKm6 X-Gm-Gg: ASbGnctgRaVLOPsz/OHxobyMHEnRo2LZEdv6Gc7sFZzCUJH1iYgC+yFxDLPVDv5l+tn IBJQX+J1ls8ig/z0K4gzulwfik12xfuuaVu9Jsz4HcKoEVjU9nzpcLvqeB1GK1vnKwJ/H05UCPY vGiWNp9D55apB/zonpX+k0eFwbdWIkDwiIHaFNcR06KA2YLdPK275+yR5MVN38Oi9ZNhdOIZ3oL Udv7bBc8XNG3hR4u8+Hu2DbGShx/LieekTLqZnvY6lT37SkPZc+hLbMgcIHBq7FpspjPU5HkhjK XCNu5Ne5KxZeg0b8EMm0SGMAe1mdLtCpQqAVIfx7ISX+Sg/Zn1vYhmFLIks8vXG7bu9jHw== X-Google-Smtp-Source: AGHT+IF5vWjtU+TsKKrJctQrAS3W7bAss7fpH+UKnpWCPSe+nhm7N4/Mq079uqjV36bmAmiGwouv+rrydWjV X-Received: by 2002:a05:6a21:32a3:b0:21f:53e4:1930 with SMTP id adf61e73a8af0-22720cbae10mr805045637.22.1751673507249; Fri, 04 Jul 2025 16:58:27 -0700 (PDT) Received: from postal.iol.unh.edu (postal.iol.unh.edu. [132.177.123.84]) by smtp-relay.gmail.com with ESMTPS id 41be03b00d2f7-b38ee3e1ed0sm83378a12.4.2025.07.04.16.58.27 (version=TLS1_2 cipher=ECDHE-ECDSA-AES128-GCM-SHA256 bits=128/128); Fri, 04 Jul 2025 16:58:27 -0700 (PDT) X-Relaying-Domain: iol.unh.edu Date: Fri, 04 Jul 2025 16:58:27 -0700 (PDT) Message-ID: <68686aa3.050a0220.15698f.43a4SMTPIN_ADDED_MISSING@mx.google.com> Received: from [172.21.0.5] (unknown [172.18.0.240]) by postal.iol.unh.edu (Postfix) with ESMTP id 554CF6051830; Fri, 4 Jul 2025 19:58:26 -0400 (EDT) Subject: |WARNING| pw154978 [PATCH] [v3] net/iavf: fix VLAN offload strip fla From: dpdklab@iol.unh.edu To: Test Report Cc: dpdk-test-reports@iol.unh.edu In-Reply-To: <20250702183856.99326-1-amiyaranjan.mohakud@gmail.com> References: <20250702183856.99326-1-amiyaranjan.mohakud@gmail.com> Content-Type: text/plain X-BeenThere: test-report@dpdk.org X-Mailman-Version: 2.1.29 Precedence: list List-Id: automatic DPDK test reports List-Unsubscribe: , List-Archive: List-Post: List-Help: List-Subscribe: , Errors-To: test-report-bounces@dpdk.org Test-Label: iol-compile-amd64-testing Test-Status: WARNING http://dpdk.org/patch/154978 _Testing issues_ Submitter: Amiya Ranjan Mohakud Date: Wednesday, July 02 2025 18:38:56 DPDK git baseline: Repo:dpdk Branch: master CommitID:0ae2a33d16a8727ac2935ac500e216906b50ac2c 154978 --> testing issues Upstream job id: Generic-DPDK-Compile-Meson#405466 Test environment and result as below: +-------------------------------+--------------------+-------------------+------------------+-------------------------+-------------------+----------------------+ | Environment | dpdk_meson_compile | dpdk_compile_spdk | dpdk_compile_ovs | dpdk_llvm_clang_compile | dpdk_msvc_compile | dpdk_mingw64_compile | +===============================+====================+===================+==================+=========================+===================+======================+ | CentOS Stream 9 | PASS | PASS | SKIPPED | SKIPPED | SKIPPED | SKIPPED | +-------------------------------+--------------------+-------------------+------------------+-------------------------+-------------------+----------------------+ | CentOS Stream 10 | PASS | SKIPPED | SKIPPED | SKIPPED | SKIPPED | SKIPPED | +-------------------------------+--------------------+-------------------+------------------+-------------------------+-------------------+----------------------+ | Debian GNU/Linux 12 | PASS | PASS | SKIPPED | SKIPPED | SKIPPED | SKIPPED | +-------------------------------+--------------------+-------------------+------------------+-------------------------+-------------------+----------------------+ | Fedora Linux 40 | PASS | WARN | SKIPPED | SKIPPED | SKIPPED | SKIPPED | +-------------------------------+--------------------+-------------------+------------------+-------------------------+-------------------+----------------------+ | Fedora Linux 41 | PASS | PASS | PASS | SKIPPED | SKIPPED | SKIPPED | +-------------------------------+--------------------+-------------------+------------------+-------------------------+-------------------+----------------------+ | openSUSE Leap 15.6 | PASS | SKIPPED | SKIPPED | SKIPPED | SKIPPED | SKIPPED | +-------------------------------+--------------------+-------------------+------------------+-------------------------+-------------------+----------------------+ | Ubuntu 20.04 | PASS | SKIPPED | SKIPPED | SKIPPED | SKIPPED | SKIPPED | +-------------------------------+--------------------+-------------------+------------------+-------------------------+-------------------+----------------------+ | Red Hat Enterprise Linux 8.10 | PASS | SKIPPED | SKIPPED | SKIPPED | SKIPPED | SKIPPED | +-------------------------------+--------------------+-------------------+------------------+-------------------------+-------------------+----------------------+ | Red Hat Enterprise Linux 9.5 | PASS | SKIPPED | SKIPPED | SKIPPED | SKIPPED | SKIPPED | +-------------------------------+--------------------+-------------------+------------------+-------------------------+-------------------+----------------------+ | Ubuntu 22.04 | PASS | PASS | SKIPPED | SKIPPED | SKIPPED | SKIPPED | +-------------------------------+--------------------+-------------------+------------------+-------------------------+-------------------+----------------------+ | Alpine Linux 3.22.0 | PASS | SKIPPED | SKIPPED | SKIPPED | SKIPPED | SKIPPED | +-------------------------------+--------------------+-------------------+------------------+-------------------------+-------------------+----------------------+ | Ubuntu 24.04 | PASS | PASS | PASS | SKIPPED | SKIPPED | SKIPPED | +-------------------------------+--------------------+-------------------+------------------+-------------------------+-------------------+----------------------+ | Windows Server 2022 | SKIPPED | SKIPPED | SKIPPED | PASS | PASS | PASS | +-------------------------------+--------------------+-------------------+------------------+-------------------------+-------------------+----------------------+ ==== 20 line log output for Fedora Linux 40 (dpdk_compile_spdk): ==== --- Failed to get log output --- ==== End log output ==== CentOS Stream 9 Kernel: 5.15 Compiler: gcc gcc (GCC) 11.5.0 20240719 (Red Hat 11.5.0-7) CentOS Stream 10 Kernel: 5.15 Compiler: gcc gcc (GCC) 14.2.1 20250110 (Red Hat 14.2.1-8) Debian GNU/Linux 12 Kernel: 5.15 Compiler: gcc gcc (Debian 12.2.0-14+deb12u1) 12.2.0 Fedora Linux 40 Kernel: 5.15 Compiler: gcc gcc (GCC) 14.2.1 20240912 (Red Hat 14.2.1-3) Fedora Linux 41 Kernel: 5.15 Compiler: clang gcc (GCC) 14.3.1 20250523 (Red Hat 14.3.1-1) openSUSE Leap 15.6 Kernel: 5.15 Compiler: gcc gcc (SUSE Linux) 7.5.0 Ubuntu 20.04 Kernel: 4.19 Compiler: gcc gcc (Ubuntu 9.4.0-1ubuntu1~20.04.2) 9.4.0 Red Hat Enterprise Linux 8.10 Kernel: 5.15 Compiler: gcc gcc (GCC) 8.5.0 20210514 (Red Hat 8.5.0-22) Red Hat Enterprise Linux 9.5 Kernel: 5.15 Compiler: gcc gcc (GCC) 11.5.0 20240719 (Red Hat 11.5.0-2) Ubuntu 22.04 Kernel: 5.15 Compiler: gcc gcc (Ubuntu 11.4.0-1ubuntu1~22.04) 11.4.0 Alpine Linux 3.22.0 Kernel: 5.15 Compiler: gcc gcc (Alpine 14.2.0) 14.2.0 Ubuntu 24.04 Kernel: 5.15 Compiler: gcc gcc (Ubuntu 13.3.0-6ubuntu2~24.04) 13.3.0 Windows Server 2022 Kernel: 10.0.20348.2031 Compiler: clang 15.0.7, gcc 14.1.0 (MinGW), and MSVC VS 19.39.33521 To view detailed results, visit: https://lab.dpdk.org/results/dashboard/patchsets/33575/ UNH-IOL DPDK Community Lab To manage your email subscriptions, visit: https://lab.dpdk.org/results/dashboard/preferences/subscriptions/