From mboxrd@z Thu Jan 1 00:00:00 1970 Return-Path: Received: from mails.dpdk.org (mails.dpdk.org [217.70.189.124]) by inbox.dpdk.org (Postfix) with ESMTP id 51BB746AF2 for ; Sat, 5 Jul 2025 02:01:35 +0200 (CEST) Received: from mails.dpdk.org (localhost [127.0.0.1]) by mails.dpdk.org (Postfix) with ESMTP id 4BD8D4028E; Sat, 5 Jul 2025 02:01:35 +0200 (CEST) Received: from mail-pg1-f225.google.com (mail-pg1-f225.google.com [209.85.215.225]) by mails.dpdk.org (Postfix) with ESMTP id 6AAF84028E for ; Sat, 5 Jul 2025 02:01:34 +0200 (CEST) Received: by mail-pg1-f225.google.com with SMTP id 41be03b00d2f7-b2fd091f826so1081018a12.1 for ; Fri, 04 Jul 2025 17:01:34 -0700 (PDT) DKIM-Signature: v=1; a=rsa-sha256; c=relaxed/relaxed; d=iol.unh.edu; s=unh-iol; t=1751673693; x=1752278493; darn=dpdk.org; h=references:in-reply-to:cc:to:from:subject:message-id:date:from:to :cc:subject:date:message-id:reply-to; bh=ttTTfQL008L19feIX48bNVQzOogvb7AUtyAN3iQJLXQ=; b=TqctixGYerbUKBSHOM+8eaag42IANSgDVX6whPPDB4CsiZh3XK/qj84/jZxQHP6gxT 96SJMWhvmKi9iJwA+6htyMk6vNfctP0kNpMl4FbeXv8rjQtciBx+yA8J2p8pbTM/fhHk rf+zJ4lRdkRhJ+HFPuemkL7qdno6W7DOfTelo= X-Google-DKIM-Signature: v=1; a=rsa-sha256; c=relaxed/relaxed; d=1e100.net; s=20230601; t=1751673693; x=1752278493; h=references:in-reply-to:cc:to:from:subject:message-id:date :x-gm-message-state:from:to:cc:subject:date:message-id:reply-to; bh=ttTTfQL008L19feIX48bNVQzOogvb7AUtyAN3iQJLXQ=; b=P2Al0VZB48qnpXhwx22aLCS6iu5WhAFVhftaREVmbu73qlhalMJ68wEqrte8ntqCId CiebGd1Ao1+eydNJoUn3Cq40K5u98Uuo6t73sRmjV/ceBwXEHaJKJDMyqh+6SIpSbHxI zjmSvrj190mny9nO/iRspnnV0Fa20yKD8dAH71Npd/ZbdYkVgcVlvPMOI0TI7MuBWKZi gT7aAb6THjvyL4p2vMnWaFIPIovOvrXK77cVG4osxBreI82x2c2UvnJsLs3OpftpZ6Dl f5SvOsEjf+aWMC9BwFOGM3ZI2XrtEzgUeGwoISNww1LJX3a/ECtLqPostrHYsBMD+vIP LDuQ== X-Gm-Message-State: AOJu0YzANV/pELSa38QIE6mz3+l5rxK2kDX/mAcs7inlnDnflKjn12Dc mWkR5CglRYv9xNlzQJ+YsXwm2w6ut7qZuHNpAAnHMLYqD0YGDTjbf+LBnj/qmwMVlxTscAqWlJW DhoDU6sIlji0gn4C0KTptEzuavRLz2INQisYcpPiCshQ3 X-Gm-Gg: ASbGncvK1z3Db4/XAtrNtjTo/tFfpuh6ew29pfuKb+mnNRxtWCden+I88brNLEWOZGP 3NkgRFv5dO42y21egVUDvyMFNklJcdKTLLhIFIyG1iy8p9LOao1wkjvkXwe/L+biVItWSYoBXRO +NaqrX6QM++Ba8NuBELh0JtAUfXqdFsOstjTvyCFLWLiFxLScYUuDqh1FYbI3SG8a7hDF7Mwb7u 0F2OCxjiweIZlFz7BAp2yYdQ+V2T/C3YSbDGpEB85Vy6OQB3kZy1aD9JumqAiIGM66A70Wa2fR9 27SeqlPfcnzs9QsjuqDOA1+X40s8uAPHAiPAQH4Lh2ZZEUcxV1FJZDQWO1GbjZDaPG41Og== X-Google-Smtp-Source: AGHT+IGaTSGI0Tb6VOWohzV6GbhBRQ6b2J/EIR5fBkRAhbyrVf0nLr9s0MTPs0M9RD2ENwiBoLMfB9ChXJqD X-Received: by 2002:a17:90b:5203:b0:2fa:2133:bc87 with SMTP id 98e67ed59e1d1-31aaaf92e19mr7041081a91.6.1751673693526; Fri, 04 Jul 2025 17:01:33 -0700 (PDT) Received: from postal.iol.unh.edu (postal.iol.unh.edu. [132.177.123.84]) by smtp-relay.gmail.com with ESMTPS id d9443c01a7336-23c842b5ed3sm1399275ad.10.2025.07.04.17.01.33 (version=TLS1_2 cipher=ECDHE-ECDSA-AES128-GCM-SHA256 bits=128/128); Fri, 04 Jul 2025 17:01:33 -0700 (PDT) X-Relaying-Domain: iol.unh.edu Date: Fri, 04 Jul 2025 17:01:33 -0700 (PDT) Message-ID: <68686b5d.170a0220.3437a5.760eSMTPIN_ADDED_MISSING@mx.google.com> Received: from [172.21.0.6] (unknown [172.18.0.240]) by postal.iol.unh.edu (Postfix) with ESMTP id B56206051830; Fri, 4 Jul 2025 20:01:32 -0400 (EDT) Subject: |SUCCESS| pw154988-154994 [PATCH] [v8,8/8] bus/dpaa: optimize qman e From: dpdklab@iol.unh.edu To: Test Report Cc: dpdk-test-reports@iol.unh.edu In-Reply-To: <20250703053743.3710482-9-vanshika.shukla@nxp.com> References: <20250703053743.3710482-9-vanshika.shukla@nxp.com> Content-Type: text/plain X-BeenThere: test-report@dpdk.org X-Mailman-Version: 2.1.29 Precedence: list List-Id: automatic DPDK test reports List-Unsubscribe: , List-Archive: List-Post: List-Help: List-Subscribe: , Errors-To: test-report-bounces@dpdk.org Test-Label: iol-unit-amd64-testing Test-Status: SUCCESS http://dpdk.org/patch/154994 _Testing PASS_ Submitter: Vanshika Shukla Date: Thursday, July 03 2025 05:37:43 DPDK git baseline: Repo:dpdk Branch: master CommitID:b18c543ec30729ccc7708a6e064a1f9db5d8c11f 154988-154994 --> testing pass Upstream job id: Generic-VM-Unit-Test-DPDK#29727 Test environment and result as below: +-------------------------------+----------------+ | Environment | dpdk_unit_test | +===============================+================+ | CentOS Stream 9 | PASS | +-------------------------------+----------------+ | Debian GNU/Linux 12 | PASS | +-------------------------------+----------------+ | Fedora Linux 40 | PASS | +-------------------------------+----------------+ | CentOS Stream 10 | PASS | +-------------------------------+----------------+ | Fedora Linux 41 | PASS | +-------------------------------+----------------+ | Red Hat Enterprise Linux 9.5 | PASS | +-------------------------------+----------------+ | Ubuntu 20.04 | PASS | +-------------------------------+----------------+ | Red Hat Enterprise Linux 8.10 | PASS | +-------------------------------+----------------+ | Ubuntu 24.04 | PASS | +-------------------------------+----------------+ | Ubuntu 22.04 | PASS | +-------------------------------+----------------+ | Windows Server 2022 | PASS | +-------------------------------+----------------+ CentOS Stream 9 Kernel: 5.15 Compiler: gcc gcc (GCC) 11.5.0 20240719 (Red Hat 11.5.0-7) Debian GNU/Linux 12 Kernel: 5.15 Compiler: gcc gcc (Debian 12.2.0-14+deb12u1) 12.2.0 Fedora Linux 40 Kernel: 5.15 Compiler: clang gcc (GCC) 14.2.1 20240912 (Red Hat 14.2.1-3) CentOS Stream 10 Kernel: 5.15 Compiler: gcc gcc (GCC) 14.2.1 20250110 (Red Hat 14.2.1-8) Fedora Linux 41 Kernel: 5.15 Compiler: gcc gcc (GCC) 14.3.1 20250523 (Red Hat 14.3.1-1) Red Hat Enterprise Linux 9.5 Kernel: 5.15 Compiler: gcc gcc (GCC) 11.5.0 20240719 (Red Hat 11.5.0-2) Ubuntu 20.04 Kernel: 5.15 Compiler: gcc gcc (Ubuntu 9.4.0-1ubuntu1~20.04.2) 9.4.0 Red Hat Enterprise Linux 8.10 Kernel: 5.15 Compiler: gcc gcc (GCC) 8.5.0 20210514 (Red Hat 8.5.0-22) Ubuntu 24.04 Kernel: 5.15 Compiler: gcc gcc (Ubuntu 13.3.0-6ubuntu2~24.04) 13.3.0 Ubuntu 22.04 Kernel: 5.15 Compiler: gcc gcc (Ubuntu 11.4.0-1ubuntu1~22.04) 11.4.0 Windows Server 2022 Kernel: 10.0.20348.2031 Compiler: clang 15.0.7, gcc 14.1.0 (MinGW), and MSVC VS 19.39.33521 To view detailed results, visit: https://lab.dpdk.org/results/dashboard/patchsets/33577/ UNH-IOL DPDK Community Lab To manage your email subscriptions, visit: https://lab.dpdk.org/results/dashboard/preferences/subscriptions/