From mboxrd@z Thu Jan 1 00:00:00 1970 Return-Path: Received: from mails.dpdk.org (mails.dpdk.org [217.70.189.124]) by inbox.dpdk.org (Postfix) with ESMTP id 2353846AF2 for ; Sat, 5 Jul 2025 02:07:52 +0200 (CEST) Received: from mails.dpdk.org (localhost [127.0.0.1]) by mails.dpdk.org (Postfix) with ESMTP id 12B344028E; Sat, 5 Jul 2025 02:07:52 +0200 (CEST) Received: from mail-oa1-f99.google.com (mail-oa1-f99.google.com [209.85.160.99]) by mails.dpdk.org (Postfix) with ESMTP id 30BA64028E for ; Sat, 5 Jul 2025 02:07:51 +0200 (CEST) Received: by mail-oa1-f99.google.com with SMTP id 586e51a60fabf-2ef493de975so1067439fac.1 for ; Fri, 04 Jul 2025 17:07:51 -0700 (PDT) DKIM-Signature: v=1; a=rsa-sha256; c=relaxed/relaxed; d=iol.unh.edu; s=unh-iol; t=1751674070; x=1752278870; darn=dpdk.org; h=references:in-reply-to:cc:to:from:subject:message-id:date:from:to :cc:subject:date:message-id:reply-to; bh=PmfymJCmUzfkaeJpcgpqofqzgr9oJeY/NbmmRx5VMEk=; b=HTCTelO+bDXx6IJlKLFSYokdSKUTQkrV38z3nZKT/DRyFYomvK0Qu0v7+6RueDAcrj f2DWto2eaCO37ehz0V6pJPTvXYMMiDMLPhZqa4gheYfu/HTTIw46xZY/obi/RMPvAZp4 jayPMN+n5j78O5FgfunoLbYjxEWKNOz4QRTLk= X-Google-DKIM-Signature: v=1; a=rsa-sha256; c=relaxed/relaxed; d=1e100.net; s=20230601; t=1751674070; x=1752278870; h=references:in-reply-to:cc:to:from:subject:message-id:date :x-gm-message-state:from:to:cc:subject:date:message-id:reply-to; bh=PmfymJCmUzfkaeJpcgpqofqzgr9oJeY/NbmmRx5VMEk=; b=WpdJDC/n3YD8EAZDE++g916X5ZIxniKn9RZxU9xSbreAaK5m3ntG5jAHGnalRTke4w 7Njww3vtTgFpdVn8/6pC1tx2fLW2XZGgRFwiScdvMxRyZ1ovcGKGf3G5KTqGgbB3EfBZ M1fd7ehOn5I89juvxj55dSQiLfD3SIUZ84aD3IPAsoMwqidhd9nWUEN8IIGb4Wr2qkt6 90lI1em+EaFKyTPgicQR594zvpOfCaSjFIcJkUJhI/DPSycfxQhOZOTtRCg2/ykMCmsg 3Rd1qD0lBW9TmL8umPxw8jQjsUWvmPSAn5z36SR6b1gXKmQKCwp0UC+TxlwScPWjVjID dw1g== X-Gm-Message-State: AOJu0YxWkOFkYdqC5PIArqxCdlmYcpS/hoevvpTNEW9EqyiZNn2bDYGI fLEUugG42WWPo2CdiADdBv6ATAqDN7rcf7EahX5Wdkz5ZvLSKQjRfMUw/Dy0Xmv2qgyGFP3Mr84 qc4h4aaRwXbrDTcZx1fpL6aaDxVtDTp90BXo3Pwc8dq1B X-Gm-Gg: ASbGncsESPrkXAKEv0S2CPI3Tsl9bynw8stGCEUwF3fs8qGjIxVsDPHJ6W3fGjN63yT 2mkT3n7QaY0YsKWh52g9VqAbIMptD2tHbMkSgh5d70RODnKe/b5HZds+UtoMKOti5bcxhkGMPzI dBA1HYF8/78vtlCzIAS7eJYoOR4HANBIdVo/BIopkoxIfdL48E+6Jn2Vu6nIFomje/bDqH0rkJa E7Gyl9wRKrGk+OPsJvYtN+WLMpJ5okq3B4KVFpGP7RHFBQMgMYCW4voEFIkhxZWvfmqhv32B/5J HwTgrMZEI1dsOwNUExzriws3W1xgeVAAle11CRdVsPnGSsNntNnw6hs2s4pClkkr7HShYg== X-Google-Smtp-Source: AGHT+IEasUGBqqAQ8nEhPjEySdnax05pFwm3S8bOdJVX6Q2sGUmKz1WZVvnyfReeJfR8LLxc+Cc2w4ZJBlO6 X-Received: by 2002:a05:6871:e026:b0:296:a67c:d239 with SMTP id 586e51a60fabf-2f796c0a276mr2960115fac.12.1751674070444; Fri, 04 Jul 2025 17:07:50 -0700 (PDT) Received: from postal.iol.unh.edu (postal.iol.unh.edu. [132.177.123.84]) by smtp-relay.gmail.com with ESMTPS id 586e51a60fabf-2f790165b3bsm188453fac.38.2025.07.04.17.07.50 (version=TLS1_2 cipher=ECDHE-ECDSA-AES128-GCM-SHA256 bits=128/128); Fri, 04 Jul 2025 17:07:50 -0700 (PDT) X-Relaying-Domain: iol.unh.edu Date: Fri, 04 Jul 2025 17:07:50 -0700 (PDT) Message-ID: <68686cd6.050a0220.dce0c.a059SMTPIN_ADDED_MISSING@mx.google.com> Received: from [172.21.0.7] (unknown [172.18.0.240]) by postal.iol.unh.edu (Postfix) with ESMTP id DCC776051830; Fri, 4 Jul 2025 20:07:49 -0400 (EDT) Subject: |SUCCESS| pw154943-154944 [PATCH] [v4,2/2] crypto/uadk: use async mo From: dpdklab@iol.unh.edu To: Test Report Cc: dpdk-test-reports@iol.unh.edu In-Reply-To: <20250702024216.49587-3-zhangfei.gao@linaro.org> References: <20250702024216.49587-3-zhangfei.gao@linaro.org> Content-Type: text/plain X-BeenThere: test-report@dpdk.org X-Mailman-Version: 2.1.29 Precedence: list List-Id: automatic DPDK test reports List-Unsubscribe: , List-Archive: List-Post: List-Help: List-Subscribe: , Errors-To: test-report-bounces@dpdk.org Test-Label: iol-compile-arm64-testing Test-Status: SUCCESS http://dpdk.org/patch/154944 _Testing PASS_ Submitter: Zhangfei Gao Date: Wednesday, July 02 2025 02:42:16 DPDK git baseline: Repo:dpdk Branch: master CommitID:5b132556bd54881bc69d413b0b8fbedb0efcb774 154943-154944 --> testing pass Upstream job id: Generic-DPDK-Compile-Meson#405428 Test environment and result as below: +------------------------------+--------------------+ | Environment | dpdk_meson_compile | +==============================+====================+ | Red Hat Enterprise Linux 9.5 | PASS | +------------------------------+--------------------+ | Ubuntu 20.04 | PASS | +------------------------------+--------------------+ | Debian GNU/Linux 12 | PASS | +------------------------------+--------------------+ | Ubuntu 22.04 | PASS | +------------------------------+--------------------+ | Fedora Linux 41 | PASS | +------------------------------+--------------------+ | Fedora Linux 40 | PASS | +------------------------------+--------------------+ | CentOS Stream 9 | PASS | +------------------------------+--------------------+ | CentOS Stream 10 | PASS | +------------------------------+--------------------+ | Ubuntu 24.04 | PASS | +------------------------------+--------------------+ Red Hat Enterprise Linux 9.5 Kernel: 5.4 Compiler: gcc gcc (GCC) 11.5.0 20240719 (Red Hat 11.5.0-2) Ubuntu 20.04 Kernel: 5.15 Compiler: aarch64-linux-gnu-gcc gcc (Ubuntu 9.4.0-1ubuntu1~20.04.2) 9.4.0 Debian GNU/Linux 12 Kernel: 5.4 Compiler: gcc gcc (Debian 12.2.0-14+deb12u1) 12.2.0 Ubuntu 22.04 Kernel: 5.4 Compiler: gcc gcc (Ubuntu 11.4.0-1ubuntu1~22.04) 11.4.0 Fedora Linux 41 Kernel: 5.4 Compiler: clang gcc (GCC) 14.3.1 20250523 (Red Hat 14.3.1-1) Fedora Linux 40 Kernel: 5.4 Compiler: clang gcc (GCC) 14.2.1 20240912 (Red Hat 14.2.1-3) CentOS Stream 9 Kernel: 5.4 Compiler: gcc gcc (GCC) 11.5.0 20240719 (Red Hat 11.5.0-7) CentOS Stream 10 Kernel: 5.4 Compiler: gcc gcc (GCC) 14.2.1 20250110 (Red Hat 14.2.1-8) Ubuntu 24.04 Kernel: 5.4 Compiler: gcc gcc (Ubuntu 13.3.0-6ubuntu2~24.04) 13.3.0 To view detailed results, visit: https://lab.dpdk.org/results/dashboard/patchsets/33561/ UNH-IOL DPDK Community Lab To manage your email subscriptions, visit: https://lab.dpdk.org/results/dashboard/preferences/subscriptions/