From mboxrd@z Thu Jan 1 00:00:00 1970 Return-Path: Received: from mails.dpdk.org (mails.dpdk.org [217.70.189.124]) by inbox.dpdk.org (Postfix) with ESMTP id 520A746AF2 for ; Sat, 5 Jul 2025 02:38:55 +0200 (CEST) Received: from mails.dpdk.org (localhost [127.0.0.1]) by mails.dpdk.org (Postfix) with ESMTP id 368334028E; Sat, 5 Jul 2025 02:38:55 +0200 (CEST) Received: from mail-pf1-f226.google.com (mail-pf1-f226.google.com [209.85.210.226]) by mails.dpdk.org (Postfix) with ESMTP id 616074028E for ; Sat, 5 Jul 2025 02:38:54 +0200 (CEST) Received: by mail-pf1-f226.google.com with SMTP id d2e1a72fcca58-74801bc6dc5so1122829b3a.1 for ; Fri, 04 Jul 2025 17:38:54 -0700 (PDT) DKIM-Signature: v=1; a=rsa-sha256; c=relaxed/relaxed; d=iol.unh.edu; s=unh-iol; t=1751675933; x=1752280733; darn=dpdk.org; h=references:in-reply-to:cc:to:from:subject:message-id:date:from:to :cc:subject:date:message-id:reply-to; bh=RIUxk7en7xNk9memrMDkvm+GUY4Bhj1cpFFNmc/ORS0=; b=UeDen8+oY2CqNgwvmx2YVDkjoM/rxLlaAjG717ARMAVgW88bVCjZ66dHRhiv77sply jmJX4mwqpwcHNOiNO1dxderGGw2MpzeL9I/+cQKKGU14zF6YXUcgEeJX2D+z6KTcYQM1 rZtTsN367yPdVmpf4ZVBsXc1MWYaLu72Liask= X-Google-DKIM-Signature: v=1; a=rsa-sha256; c=relaxed/relaxed; d=1e100.net; s=20230601; t=1751675933; x=1752280733; h=references:in-reply-to:cc:to:from:subject:message-id:date :x-gm-message-state:from:to:cc:subject:date:message-id:reply-to; bh=RIUxk7en7xNk9memrMDkvm+GUY4Bhj1cpFFNmc/ORS0=; b=fmQbG38nhdbh8fZeyeLN+7ZtV2SLJ//RLEJjgRCOxrcYdjkq/emhHVeSGPKrNDqKK2 oEZS0uK8a2y89UbtUA037D51RDwCyWF8cWyRMZ5pDG79kheTA3fmG7QyfimK2oEHSwUx Az1CczG6bEl88vkExe6zVtjYtxIT9Fqb0BfNFT0EYUm/5wkWmQ6Cov4GJ3GApG/6HknN MCmnvFj2WDtkaStfhJ2T2WnKgBmUD8cLFjtDV+W4Z0b30B3PhWvW7iwshBjiOdnA3moC DYqTudDEew6of2/pDGQOJfKq9SvpbqjNEn1Z98Dm+up1SxgZqJFCWSzT5UMFDPF3Zfjs GC5A== X-Gm-Message-State: AOJu0YzWEfGkC+zkP9ZUsU88vrcYwhh2U/dHEaihsXEduGjdcvwzyn9Q 1vM6aG9K2YmfsgDo+ux5CWMMpMC9h0xZtxwUy93T+hVSv5PiXEW+gZ+Ft79P6UA6UXX68jkp+GV 1ct76Gu+SoIPmTiPeI7BiyKn1/6Nt7xmt/p8eVjeK5MbIpi6YwJmLl9ofBE40 X-Gm-Gg: ASbGncuhNo5HXRzngfifAfyfprW83L6DTQG2g7Dqpwiriy76Ec73P+pZnDxg/4nxGpt L3IIUrTxeVkQahfXVf+Ow8flrVj3qLUFGqaurQKF5iPgPnc3IOaCryLvPZvSaKd686n8BxUTfEP P193HHP+mGoC3lwvRMEInmlhSd9sAqIUh1Co0bq5sACD14OUuN5mMTjUrzPo/OrHjduXMhR+93E vguBEJRSG03oMjjtqPJ4gbEhTNGkNco1/Bh9BvIEIR72QN+Egt3YAIK8Ri0lByGqkfluuKj8HlB tGx0Igljbq7pL7/gmFSuYz8xM/yT7zGzeIjVwZnCeE3blOI= X-Google-Smtp-Source: AGHT+IGtZjpjx+QTyJOw2rjAG8v0fB01U3Wkf/TJwA4x2GxFQdrBNBWs3rTm8+MCMEZ9mQEP27AR8sFCtPId X-Received: by 2002:a05:6a00:1a93:b0:744:a240:fb1b with SMTP id d2e1a72fcca58-74ce5f5f908mr6713979b3a.5.1751675933456; Fri, 04 Jul 2025 17:38:53 -0700 (PDT) Received: from postal.iol.unh.edu (postal.iol.unh.edu. [2606:4100:3880:1234::84]) by smtp-relay.gmail.com with ESMTPS id d2e1a72fcca58-74ce3510859sm178386b3a.9.2025.07.04.17.38.53 (version=TLS1_2 cipher=ECDHE-ECDSA-AES128-GCM-SHA256 bits=128/128); Fri, 04 Jul 2025 17:38:53 -0700 (PDT) X-Relaying-Domain: iol.unh.edu Date: Fri, 04 Jul 2025 17:38:53 -0700 (PDT) Message-ID: <6868741d.050a0220.1a313d.9ad6SMTPIN_ADDED_MISSING@mx.google.com> Received: from [172.21.0.13] (unknown [172.18.0.240]) by postal.iol.unh.edu (Postfix) with ESMTP id 65B966051830; Fri, 4 Jul 2025 20:38:52 -0400 (EDT) Subject: |SUCCESS| pw154988-154994 [PATCH] [v8,8/8] bus/dpaa: optimize qman e From: dpdklab@iol.unh.edu To: Test Report Cc: dpdk-test-reports@iol.unh.edu In-Reply-To: <20250703053743.3710482-9-vanshika.shukla@nxp.com> References: <20250703053743.3710482-9-vanshika.shukla@nxp.com> Content-Type: text/plain X-BeenThere: test-report@dpdk.org X-Mailman-Version: 2.1.29 Precedence: list List-Id: automatic DPDK test reports List-Unsubscribe: , List-Archive: List-Post: List-Help: List-Subscribe: , Errors-To: test-report-bounces@dpdk.org Test-Label: iol-unit-arm64-testing Test-Status: SUCCESS http://dpdk.org/patch/154994 _Testing PASS_ Submitter: Vanshika Shukla Date: Thursday, July 03 2025 05:37:43 DPDK git baseline: Repo:dpdk Branch: master CommitID:b18c543ec30729ccc7708a6e064a1f9db5d8c11f 154988-154994 --> testing pass Upstream job id: Generic-Unit-Test-DPDK#352682 Test environment and result as below: +------------------------------+--------------+------------------------------+---------------------------+----------------+ | Environment | lpm_autotest | cryptodev_sw_snow3g_autotest | cryptodev_sw_zuc_autotest | dpdk_unit_test | +==============================+==============+==============================+===========================+================+ | Ubuntu 20.04 | PASS | SKIPPED | SKIPPED | PASS | +------------------------------+--------------+------------------------------+---------------------------+----------------+ | Debian 12 (arm) | SKIPPED | PASS | PASS | SKIPPED | +------------------------------+--------------+------------------------------+---------------------------+----------------+ | CentOS Stream 9 | SKIPPED | SKIPPED | SKIPPED | PASS | +------------------------------+--------------+------------------------------+---------------------------+----------------+ | CentOS Stream 10 | SKIPPED | SKIPPED | SKIPPED | PASS | +------------------------------+--------------+------------------------------+---------------------------+----------------+ | Fedora Linux 40 | SKIPPED | SKIPPED | SKIPPED | PASS | +------------------------------+--------------+------------------------------+---------------------------+----------------+ | Fedora Linux 41 | SKIPPED | SKIPPED | SKIPPED | PASS | +------------------------------+--------------+------------------------------+---------------------------+----------------+ | Debian GNU/Linux 12 | SKIPPED | SKIPPED | SKIPPED | PASS | +------------------------------+--------------+------------------------------+---------------------------+----------------+ | Ubuntu 22.04 | SKIPPED | SKIPPED | SKIPPED | PASS | +------------------------------+--------------+------------------------------+---------------------------+----------------+ | Ubuntu 24.04 | SKIPPED | SKIPPED | SKIPPED | PASS | +------------------------------+--------------+------------------------------+---------------------------+----------------+ | Red Hat Enterprise Linux 9.5 | SKIPPED | SKIPPED | SKIPPED | PASS | +------------------------------+--------------+------------------------------+---------------------------+----------------+ Ubuntu 20.04 Kernel: 5.4 Compiler: gcc gcc (Ubuntu 9.4.0-1ubuntu1~20.04.2) 9.4.0 Debian 12 (arm) Kernel: Depends on container host Compiler: gcc (Debian 12.2.0-14) 12.2.0 CentOS Stream 9 Kernel: 5.4 Compiler: gcc gcc (GCC) 11.5.0 20240719 (Red Hat 11.5.0-7) CentOS Stream 10 Kernel: 5.4 Compiler: gcc gcc (GCC) 14.2.1 20250110 (Red Hat 14.2.1-8) Fedora Linux 40 Kernel: 5.4 Compiler: gcc gcc (GCC) 14.2.1 20240912 (Red Hat 14.2.1-3) Fedora Linux 41 Kernel: 5.4 Compiler: gcc gcc (GCC) 14.3.1 20250523 (Red Hat 14.3.1-1) Debian GNU/Linux 12 Kernel: 5.4 Compiler: gcc gcc (Debian 12.2.0-14+deb12u1) 12.2.0 Ubuntu 22.04 Kernel: 5.4 Compiler: gcc gcc (Ubuntu 11.4.0-1ubuntu1~22.04) 11.4.0 Ubuntu 24.04 Kernel: 5.4 Compiler: gcc gcc (Ubuntu 13.3.0-6ubuntu2~24.04) 13.3.0 Red Hat Enterprise Linux 9.5 Kernel: 5.4 Compiler: gcc gcc (GCC) 11.5.0 20240719 (Red Hat 11.5.0-2) To view detailed results, visit: https://lab.dpdk.org/results/dashboard/patchsets/33577/ UNH-IOL DPDK Community Lab To manage your email subscriptions, visit: https://lab.dpdk.org/results/dashboard/preferences/subscriptions/