From mboxrd@z Thu Jan 1 00:00:00 1970 Return-Path: Received: from mails.dpdk.org (mails.dpdk.org [217.70.189.124]) by inbox.dpdk.org (Postfix) with ESMTP id B0F8446AF2 for ; Sat, 5 Jul 2025 02:52:41 +0200 (CEST) Received: from mails.dpdk.org (localhost [127.0.0.1]) by mails.dpdk.org (Postfix) with ESMTP id 83A514028E; Sat, 5 Jul 2025 02:52:41 +0200 (CEST) Received: from mail-qv1-f100.google.com (mail-qv1-f100.google.com [209.85.219.100]) by mails.dpdk.org (Postfix) with ESMTP id 5EB434028E for ; Sat, 5 Jul 2025 02:52:40 +0200 (CEST) Received: by mail-qv1-f100.google.com with SMTP id 6a1803df08f44-6fac7147cb8so26869156d6.1 for ; Fri, 04 Jul 2025 17:52:40 -0700 (PDT) DKIM-Signature: v=1; a=rsa-sha256; c=relaxed/relaxed; d=iol.unh.edu; s=unh-iol; t=1751676759; x=1752281559; darn=dpdk.org; h=references:in-reply-to:cc:to:from:subject:message-id:date:from:to :cc:subject:date:message-id:reply-to; bh=MIV+kRuWOwgtVSEABYtZVn8Hx2eQdrgfRDuEO65sRYY=; b=Atp6nBafKfb6cOXvWXNDrhh0W9tL8+DGAEQpSCWELszWgZoixHJpwtssqxnJuuBFoI vqp1s4bBmDDWbRPSayNXgteNgw8l3N7ZEGvfsT5/WFxNCGTqGZi6fT/nGSe52yuBee2N rKL0A/Dp/khKvKS117TIWgd6eZnOQp9pChLWg= X-Google-DKIM-Signature: v=1; a=rsa-sha256; c=relaxed/relaxed; d=1e100.net; s=20230601; t=1751676759; x=1752281559; h=references:in-reply-to:cc:to:from:subject:message-id:date :x-gm-message-state:from:to:cc:subject:date:message-id:reply-to; bh=MIV+kRuWOwgtVSEABYtZVn8Hx2eQdrgfRDuEO65sRYY=; b=FQBHGK1jJJrlWeOmGfCScycWXZISKbmmMH39XP69uNSA8uZHu+MqImINprWr5zwwIh kGcV19lqrpK/TUxs1uuYQTh5uDwPauZMC49Y8G3JVUSZw6NjpoFPxNz00RSEQg7qk2yy FzOf0S+sgbpuCFRishNZErZLQU/mnaT+dD0xTttIzqNQc/XaWIMjRE9gPPkkDVRWNyDv JRLUpuEaqe+T6sJzwPSqrORkCvnSilajIZrWQwuI9BYpgGiSqBCsC3uegb8za6VQSBMH 3zMskuQRuG5ZkxypYboud444kxdwFc8Nt8pYkVNsXE56ijZT2lUDu2TzsC+fn+mMT8On NAfw== X-Gm-Message-State: AOJu0YwL9xcbXOYxj/RrLg8vLOskBw6sE+6LXi2WCJ/fTQ47WYEobtZ7 nKM7EZeBnJeZ1mnWXkQpbM/y8BlrrVLGKDRuLR77sjWoNjakhyTAl1TfZdaRp72Ts55mF/G1Xyg cs6n32akHSldO4WRIi6ELcuFN9CsRFgf/wnt4WoffemfdSFErftmZ8p/vusRw X-Gm-Gg: ASbGncv/77lNplXoCGtwBwMKl2Pi9FpKZ8I33C8LGhOREMR6QhpICS/2u/NNs8QL1Bf 72VpAc3mtKkKLP2XMOfNeINz6cw4K1tjrumMzs9xvkErA8g5Bo8QjHNVHDi+ipEj84ZcJtijUL5 wfSsL//frsGTrckIRS1PI7xeTynfLwKmlosM2kKfxTyGyj+dJNFyBS0ITGMQG7glfa1VO3N7h5n 9E1kJhKGT3Rw/JTDVBTmVHc021LO5YOXgvGthAJ4gKetXLHLFlOUvonPv4inqTDoN3Ne0cfOcHb Ueo0Lstcmm5+gdEZ8lk9GULLGY07m1dtityF4ZyIwIl9p7A= X-Google-Smtp-Source: AGHT+IGQZx2NWk+wPUCmZLhVsbhHDhytRPdXqhJD9OM5OgdHJBpf7jz0IeDjQ9hikNQBsQ1LLB3B9LscHMSK X-Received: by 2002:a05:6214:419e:b0:6ff:1542:6593 with SMTP id 6a1803df08f44-702d1535342mr9692836d6.17.1751676759740; Fri, 04 Jul 2025 17:52:39 -0700 (PDT) Received: from postal.iol.unh.edu (postal.iol.unh.edu. [2606:4100:3880:1234::84]) by smtp-relay.gmail.com with ESMTPS id 6a1803df08f44-702c4d53a6dsm1385826d6.48.2025.07.04.17.52.39 (version=TLS1_2 cipher=ECDHE-ECDSA-AES128-GCM-SHA256 bits=128/128); Fri, 04 Jul 2025 17:52:39 -0700 (PDT) X-Relaying-Domain: iol.unh.edu Date: Fri, 04 Jul 2025 17:52:39 -0700 (PDT) Message-ID: <68687757.050a0220.1f6020.737dSMTPIN_ADDED_MISSING@mx.google.com> Received: from [172.21.0.7] (unknown [172.18.0.240]) by postal.iol.unh.edu (Postfix) with ESMTP id 6F71F6051830; Fri, 4 Jul 2025 20:52:39 -0400 (EDT) Subject: |SUCCESS| pw154921-154923 [PATCH] [v2,5/5] riscv: override machine_a From: dpdklab@iol.unh.edu To: Test Report Cc: dpdk-test-reports@iol.unh.edu In-Reply-To: References: Content-Type: text/plain X-BeenThere: test-report@dpdk.org X-Mailman-Version: 2.1.29 Precedence: list List-Id: automatic DPDK test reports List-Unsubscribe: , List-Archive: List-Post: List-Help: List-Subscribe: , Errors-To: test-report-bounces@dpdk.org Test-Label: iol-abi-testing Test-Status: SUCCESS http://dpdk.org/patch/154923 _Testing PASS_ Submitter: None Date: Tuesday, July 01 2025 18:20:33 DPDK git baseline: Repo:dpdk Branch: master CommitID:70c2297528e7c7789af452f78de1932e9a20c8a2 154921-154923 --> testing pass Upstream job id: Generic-DPDK-Compile-ABI#133093 Test environment and result as below: +-------------------------------+----------+ | Environment | abi_test | +===============================+==========+ | Debian GNU/Linux 12 | PASS | +-------------------------------+----------+ | Fedora Linux 40 | PASS | +-------------------------------+----------+ | Fedora Linux 41 | PASS | +-------------------------------+----------+ | openSUSE Leap 15.6 | PASS | +-------------------------------+----------+ | Red Hat Enterprise Linux 9.5 | PASS | +-------------------------------+----------+ | Ubuntu 22.04 | PASS | +-------------------------------+----------+ | Red Hat Enterprise Linux 8.10 | PASS | +-------------------------------+----------+ | CentOS Stream 9 | PASS | +-------------------------------+----------+ | Ubuntu 24.04 | PASS | +-------------------------------+----------+ | CentOS Stream 10 | PASS | +-------------------------------+----------+ Debian GNU/Linux 12 Kernel: 5.15 Compiler: gcc gcc (Debian 12.2.0-14+deb12u1) 12.2.0 Fedora Linux 40 Kernel: 5.15 Compiler: clang gcc (GCC) 14.2.1 20240912 (Red Hat 14.2.1-3) Fedora Linux 41 Kernel: 5.15 Compiler: gcc gcc (GCC) 14.3.1 20250523 (Red Hat 14.3.1-1) openSUSE Leap 15.6 Kernel: 5.15 Compiler: gcc gcc (SUSE Linux) 7.5.0 Red Hat Enterprise Linux 9.5 Kernel: 5.15 Compiler: gcc gcc (GCC) 11.5.0 20240719 (Red Hat 11.5.0-2) Ubuntu 22.04 Kernel: 5.15 Compiler: gcc gcc (Ubuntu 11.4.0-1ubuntu1~22.04) 11.4.0 Red Hat Enterprise Linux 8.10 Kernel: 5.15 Compiler: gcc gcc (GCC) 8.5.0 20210514 (Red Hat 8.5.0-22) CentOS Stream 9 Kernel: 5.15 Compiler: gcc gcc (GCC) 11.5.0 20240719 (Red Hat 11.5.0-7) Ubuntu 24.04 Kernel: 5.15 Compiler: gcc gcc (Ubuntu 13.3.0-6ubuntu2~24.04) 13.3.0 CentOS Stream 10 Kernel: 5.15 Compiler: gcc gcc (GCC) 14.2.1 20250110 (Red Hat 14.2.1-8) To view detailed results, visit: https://lab.dpdk.org/results/dashboard/patchsets/33559/ UNH-IOL DPDK Community Lab To manage your email subscriptions, visit: https://lab.dpdk.org/results/dashboard/preferences/subscriptions/