From mboxrd@z Thu Jan 1 00:00:00 1970 Return-Path: Received: from mails.dpdk.org (mails.dpdk.org [217.70.189.124]) by inbox.dpdk.org (Postfix) with ESMTP id ABFB346AF2 for ; Sat, 5 Jul 2025 02:53:13 +0200 (CEST) Received: from mails.dpdk.org (localhost [127.0.0.1]) by mails.dpdk.org (Postfix) with ESMTP id 9FAAF4028C; Sat, 5 Jul 2025 02:53:13 +0200 (CEST) Received: from mail-qk1-f227.google.com (mail-qk1-f227.google.com [209.85.222.227]) by mails.dpdk.org (Postfix) with ESMTP id E63134028C for ; Sat, 5 Jul 2025 02:53:12 +0200 (CEST) Received: by mail-qk1-f227.google.com with SMTP id af79cd13be357-7d5df741f71so98357685a.3 for ; Fri, 04 Jul 2025 17:53:12 -0700 (PDT) DKIM-Signature: v=1; a=rsa-sha256; c=relaxed/relaxed; d=iol.unh.edu; s=unh-iol; t=1751676792; x=1752281592; darn=dpdk.org; h=references:in-reply-to:cc:to:from:subject:message-id:date:from:to :cc:subject:date:message-id:reply-to; bh=acOjZ5/YgGZxGBepjgCpi8pNsdijD9Dg7VlDnNsLf/o=; b=JZkhpPJsX7SypikS7dhJSfmxjhGpccSYcvh7QUQDsL1kUW3xno6PuTTjuJxDi5T0+7 5qXrF58UYhZzvc0L5Ou5jqC9F5l18GCkp17rzeqCFBfPMmvDPMKcKxBRMJ8sdY5umqiU 3O7sMoXp5vypxZbyRF+qhk2weEG80KBzKiUOg= X-Google-DKIM-Signature: v=1; a=rsa-sha256; c=relaxed/relaxed; d=1e100.net; s=20230601; t=1751676792; x=1752281592; h=references:in-reply-to:cc:to:from:subject:message-id:date :x-gm-message-state:from:to:cc:subject:date:message-id:reply-to; bh=acOjZ5/YgGZxGBepjgCpi8pNsdijD9Dg7VlDnNsLf/o=; b=mPA0GR0CpnlccsjcvjiI7isMu3vY5eKKgyHnCGUKbtRBVrVFB7BDAE3GoEFiLduPFv dYQVh6y0Q2sQ7ZlvMxlSC7sXxr7qOFrChs2vdBqkybbc+wQu7LFn2twqBf7Y21chkTcA Oai8YGuw11lu6el5ZiNX1Czkr2UB28R0HuV7KmWdOLW9mHKEa5TtH7wC3C4ckCO4Uj/1 1RPYl58LIZX+VbngSqHNywg2VcwQXjR/sruUEVLKs3vzXPZy2aD3LOijC53dNiAcbgKX wpG1KfijM4xG+EX5U6rkF7vK84KxlsuFnbsb9N5XjEONhokeDbcPJPfLPng8X68VL+LY StRQ== X-Gm-Message-State: AOJu0YwuTranO2qhs6lvQDvV5BsvfCPdVZbgJDjxS+d9KhOXQ1mc2nWE 67LBdQjoPYTh33o2u5Wum8XW/ZpTDx1aFVap41MgX616Ow63YX7zhVJDsCjyDfT/+o1g2vv2LqO bJKrtTpovZ3X/qJeWtRrJb/buz+VSYKb9jNCoUI03Ds5d X-Gm-Gg: ASbGnctt5jazpbTktobXmQNMZEqzgk9Jlsdx6/GEfNElvirB3qImifNKiWusQd4Xy3b ODxJfZcPZ+KEdp1ZHH9rXN/h9STe/ZyaAzhLTmNmDP+LXprYBgIyXnZZVFqn9r83Ha/KB1MAef0 fQ/5mUPqn8KcNjObmg65e5vJRxqJUePw8i1fNE5j7wd3Eh/I4qHY//9WYUF1PquON9apdVIyJnW l18P+EihZv5u3mrz6gkkKRecPMr/gQiVqGz9StjMM5copIc9iBJlzTv7zvn18V0xSGAzO9Hk1rh 400bfnQstCA5HZOCqoE7iZcPX/k6iZj7B18jceiN8icFzHEdraeXKXSOkhpM+HYjHHLadQ== X-Google-Smtp-Source: AGHT+IEWk0xhgmCHqbXK/zJIJrEYIbyX7NR1IZJeHcK+SAQnI3Uxfd8mrcCQ1wcQfX2yO7qPVw9bLYAVK5R+ X-Received: by 2002:a05:620a:27c2:b0:7c0:b523:e1b6 with SMTP id af79cd13be357-7d5dcc7603emr697589485a.11.1751676792302; Fri, 04 Jul 2025 17:53:12 -0700 (PDT) Received: from postal.iol.unh.edu (postal.iol.unh.edu. [132.177.123.84]) by smtp-relay.gmail.com with ESMTPS id 6a1803df08f44-702c4cc9ff0sm1418416d6.16.2025.07.04.17.53.12 (version=TLS1_2 cipher=ECDHE-ECDSA-AES128-GCM-SHA256 bits=128/128); Fri, 04 Jul 2025 17:53:12 -0700 (PDT) X-Relaying-Domain: iol.unh.edu Date: Fri, 04 Jul 2025 17:53:12 -0700 (PDT) Message-ID: <68687778.d40a0220.580c1.7a53SMTPIN_ADDED_MISSING@mx.google.com> Received: from [172.21.0.6] (unknown [172.18.0.240]) by postal.iol.unh.edu (Postfix) with ESMTP id 0C83C6051830; Fri, 4 Jul 2025 20:53:12 -0400 (EDT) Subject: |SUCCESS| pw154997 [PATCH] net: support VLAN stacking packet type pa From: dpdklab@iol.unh.edu To: Test Report Cc: dpdk-test-reports@iol.unh.edu In-Reply-To: <20250703093027.1259459-1-huangdengdui@huawei.com> References: <20250703093027.1259459-1-huangdengdui@huawei.com> Content-Type: text/plain X-BeenThere: test-report@dpdk.org X-Mailman-Version: 2.1.29 Precedence: list List-Id: automatic DPDK test reports List-Unsubscribe: , List-Archive: List-Post: List-Help: List-Subscribe: , Errors-To: test-report-bounces@dpdk.org Test-Label: iol-unit-amd64-testing Test-Status: SUCCESS http://dpdk.org/patch/154997 _Testing PASS_ Submitter: Dengdui Huang Date: Thursday, July 03 2025 09:30:27 DPDK git baseline: Repo:dpdk Branch: master CommitID:70c2297528e7c7789af452f78de1932e9a20c8a2 154997 --> testing pass Upstream job id: Generic-VM-Unit-Test-DPDK#29728 Test environment and result as below: +-------------------------------+----------------+ | Environment | dpdk_unit_test | +===============================+================+ | Debian GNU/Linux 12 | PASS | +-------------------------------+----------------+ | Fedora Linux 40 | PASS | +-------------------------------+----------------+ | CentOS Stream 9 | PASS | +-------------------------------+----------------+ | CentOS Stream 10 | PASS | +-------------------------------+----------------+ | Fedora Linux 41 | PASS | +-------------------------------+----------------+ | Red Hat Enterprise Linux 9.5 | PASS | +-------------------------------+----------------+ | Ubuntu 22.04 | PASS | +-------------------------------+----------------+ | Red Hat Enterprise Linux 8.10 | PASS | +-------------------------------+----------------+ | Ubuntu 20.04 | PASS | +-------------------------------+----------------+ | Ubuntu 24.04 | PASS | +-------------------------------+----------------+ | Windows Server 2022 | PASS | +-------------------------------+----------------+ Debian GNU/Linux 12 Kernel: 5.15 Compiler: gcc gcc (Debian 12.2.0-14+deb12u1) 12.2.0 Fedora Linux 40 Kernel: 5.15 Compiler: gcc gcc (GCC) 14.2.1 20240912 (Red Hat 14.2.1-3) CentOS Stream 9 Kernel: 5.15 Compiler: gcc gcc (GCC) 11.5.0 20240719 (Red Hat 11.5.0-7) CentOS Stream 10 Kernel: 5.15 Compiler: gcc gcc (GCC) 14.2.1 20250110 (Red Hat 14.2.1-8) Fedora Linux 41 Kernel: 5.15 Compiler: clang gcc (GCC) 14.3.1 20250523 (Red Hat 14.3.1-1) Red Hat Enterprise Linux 9.5 Kernel: 5.15 Compiler: gcc gcc (GCC) 11.5.0 20240719 (Red Hat 11.5.0-2) Ubuntu 22.04 Kernel: 5.15 Compiler: gcc gcc (Ubuntu 11.4.0-1ubuntu1~22.04) 11.4.0 Red Hat Enterprise Linux 8.10 Kernel: 5.15 Compiler: gcc gcc (GCC) 8.5.0 20210514 (Red Hat 8.5.0-22) Ubuntu 20.04 Kernel: 5.15 Compiler: gcc gcc (Ubuntu 9.4.0-1ubuntu1~20.04.2) 9.4.0 Ubuntu 24.04 Kernel: 5.15 Compiler: gcc gcc (Ubuntu 13.3.0-6ubuntu2~24.04) 13.3.0 Windows Server 2022 Kernel: 10.0.20348.2031 Compiler: clang 15.0.7, gcc 14.1.0 (MinGW), and MSVC VS 19.39.33521 To view detailed results, visit: https://lab.dpdk.org/results/dashboard/patchsets/33580/ UNH-IOL DPDK Community Lab To manage your email subscriptions, visit: https://lab.dpdk.org/results/dashboard/preferences/subscriptions/