From mboxrd@z Thu Jan 1 00:00:00 1970 Return-Path: Received: from mails.dpdk.org (mails.dpdk.org [217.70.189.124]) by inbox.dpdk.org (Postfix) with ESMTP id C289046AF2 for ; Sat, 5 Jul 2025 02:53:33 +0200 (CEST) Received: from mails.dpdk.org (localhost [127.0.0.1]) by mails.dpdk.org (Postfix) with ESMTP id B86404028C; Sat, 5 Jul 2025 02:53:33 +0200 (CEST) Received: from mail-io1-f100.google.com (mail-io1-f100.google.com [209.85.166.100]) by mails.dpdk.org (Postfix) with ESMTP id E37394028C for ; Sat, 5 Jul 2025 02:53:32 +0200 (CEST) Received: by mail-io1-f100.google.com with SMTP id ca18e2360f4ac-86cdb330b48so136366739f.0 for ; Fri, 04 Jul 2025 17:53:32 -0700 (PDT) DKIM-Signature: v=1; a=rsa-sha256; c=relaxed/relaxed; d=iol.unh.edu; s=unh-iol; t=1751676812; x=1752281612; darn=dpdk.org; h=references:in-reply-to:cc:to:from:subject:message-id:date:from:to :cc:subject:date:message-id:reply-to; bh=pctJBwCU3sEqiiUB1z6uDVYY6Q/L+TjLhXdWbljEwno=; b=IDP5kMgUr+hn/qfuOVGyGl+fsvIBuzeld6fGXX4/bHeniURrvRPBl6HnRC97e5MW3n umwA2gda/6eCvBGxVMn6grN5QxPIFVS+2Wh58XGsjPYWZPV0hI22Pes90AdT9tnmayTj p1LKolmIm9SQV2wY6s+m6YGa32CBmAyI0LUs0= X-Google-DKIM-Signature: v=1; a=rsa-sha256; c=relaxed/relaxed; d=1e100.net; s=20230601; t=1751676812; x=1752281612; h=references:in-reply-to:cc:to:from:subject:message-id:date :x-gm-message-state:from:to:cc:subject:date:message-id:reply-to; bh=pctJBwCU3sEqiiUB1z6uDVYY6Q/L+TjLhXdWbljEwno=; b=H0OFUJFbc+CnMwldPeyLCr6zv8wIVJTzxFDe9v+TugA/phKbZR38CLpf+Be0DLL9f+ CIcIbpa9pGEJ+qNC5yQv75OdVktrVwSPK7CV61kPVsu3iItO/9dX8a7+eRq3b19PVg1p g18krZ2IGQ00g1WO0kkHnORDGO+bODmBsXTKE5UjbU8tjiCV8d2yEB3kOTWZHX8Kv41O LLUQPWOOXb3aILMmeGQaFza9CT5GaemrFcrnlAbnzPXYrpuHIJ399joiIKS6lJ28LDaH BCikanhWHwIjjOk8hqM0WaKWgzNhnEaKOKPGk1HA/5Z4ZBj0roJH6qDRuQHxprJdqMLN 9oUA== X-Gm-Message-State: AOJu0Yw1brtvttTMWLXdLakuJvwdC6sEUqdFyNhf++bZJY0RP2W3hN7d Flkg/MMChuHhpKc5TstYv/dE/qUh+ze+68guOQ09c8brJIMgIvdiZp3liX3+MjynL2qb5nx+eqI YuTNlljhQcrN/clUM1ftZ1K9I6mLI3+ZJ8nH/SYp9uv1E X-Gm-Gg: ASbGncsYtx96boQ4+vlR9LNOrbsUJNOfADcP/e/33S2brNzli1OIDYnytH4CTcJ1Zxr kSlU0BOZpfrh10DLyPHqcdFU7F2Eu25nVhJzq2DzWOB14kHhF63FYhvJWlFG7EDwt6l4y45Pic4 yBeaO7jTMbAAmH4rgNKbrhSDvOCWO+ozgsV756yw3549mbHMkyvaTWd7Gw1NtqeaiEht2jiXR1Y xO49RZEjujlDKioFK+VngldaPoIMlztxtvJ0MSq0NCRVrYIlgGxATeGlV2jRneeFZRt7cMaVKUE TCt/peCBVZsug5LdPwLHwBgzP7dml6kr+12POJSoDiOU53gpFpEc06LorlG1YZtjEU8tqg== X-Google-Smtp-Source: AGHT+IE9Jh/L+1CQzhVeO/X74ux4A9ZyRriEe8eP2EPxsldh2TzKTXEskr1XKg4+81K004lLif7JbwbU5+TW X-Received: by 2002:a05:6602:2d92:b0:875:b255:e6af with SMTP id ca18e2360f4ac-8792a50f5dbmr73177639f.10.1751676812100; Fri, 04 Jul 2025 17:53:32 -0700 (PDT) Received: from postal.iol.unh.edu (postal.iol.unh.edu. [132.177.123.84]) by smtp-relay.gmail.com with ESMTPS id 8926c6da1cb9f-503b5beb26esm126573173.72.2025.07.04.17.53.32 (version=TLS1_2 cipher=ECDHE-ECDSA-AES128-GCM-SHA256 bits=128/128); Fri, 04 Jul 2025 17:53:32 -0700 (PDT) X-Relaying-Domain: iol.unh.edu Date: Fri, 04 Jul 2025 17:53:32 -0700 (PDT) Message-ID: <6868778c.050a0220.39a66e.74aeSMTPIN_ADDED_MISSING@mx.google.com> Received: from [172.21.0.5] (unknown [172.18.0.240]) by postal.iol.unh.edu (Postfix) with ESMTP id 994C36051830; Fri, 4 Jul 2025 20:53:31 -0400 (EDT) Subject: |SUCCESS| pw155014-155016 [PATCH] [v2,3/3] app/testpmd: improve outp From: dpdklab@iol.unh.edu To: Test Report Cc: dpdk-test-reports@iol.unh.edu In-Reply-To: <20250704183437.25901-4-bruce.richardson@intel.com> References: <20250704183437.25901-4-bruce.richardson@intel.com> Content-Type: text/plain X-BeenThere: test-report@dpdk.org X-Mailman-Version: 2.1.29 Precedence: list List-Id: automatic DPDK test reports List-Unsubscribe: , List-Archive: List-Post: List-Help: List-Subscribe: , Errors-To: test-report-bounces@dpdk.org Test-Label: iol-unit-amd64-testing Test-Status: SUCCESS http://dpdk.org/patch/155016 _Testing PASS_ Submitter: Bruce Richardson Date: Friday, July 04 2025 18:34:36 DPDK git baseline: Repo:dpdk Branch: master CommitID:b18c543ec30729ccc7708a6e064a1f9db5d8c11f 155014-155016 --> testing pass Upstream job id: Generic-Unit-Test-DPDK#352729 Test environment and result as below: +-------------------------------+----------------+ | Environment | dpdk_unit_test | +===============================+================+ | CentOS Stream 10 | PASS | +-------------------------------+----------------+ | Debian GNU/Linux 12 | PASS | +-------------------------------+----------------+ | Fedora Linux 41 | PASS | +-------------------------------+----------------+ | Fedora Linux 40 | PASS | +-------------------------------+----------------+ | CentOS Stream 9 | PASS | +-------------------------------+----------------+ | Red Hat Enterprise Linux 8.10 | PASS | +-------------------------------+----------------+ | Ubuntu 22.04 | PASS | +-------------------------------+----------------+ | Ubuntu 24.04 | PASS | +-------------------------------+----------------+ | Red Hat Enterprise Linux 9.5 | PASS | +-------------------------------+----------------+ | Ubuntu 20.04 | PASS | +-------------------------------+----------------+ CentOS Stream 10 Kernel: 5.15 Compiler: gcc gcc (GCC) 14.2.1 20250110 (Red Hat 14.2.1-8) Debian GNU/Linux 12 Kernel: 5.15 Compiler: gcc gcc (Debian 12.2.0-14+deb12u1) 12.2.0 Fedora Linux 41 Kernel: 5.15 Compiler: gcc gcc (GCC) 14.3.1 20250523 (Red Hat 14.3.1-1) Fedora Linux 40 Kernel: 5.15 Compiler: gcc gcc (GCC) 14.2.1 20240912 (Red Hat 14.2.1-3) CentOS Stream 9 Kernel: 5.15 Compiler: gcc gcc (GCC) 11.5.0 20240719 (Red Hat 11.5.0-7) Red Hat Enterprise Linux 8.10 Kernel: 5.15 Compiler: gcc gcc (GCC) 8.5.0 20210514 (Red Hat 8.5.0-22) Ubuntu 22.04 Kernel: 5.15 Compiler: gcc gcc (Ubuntu 11.4.0-1ubuntu1~22.04) 11.4.0 Ubuntu 24.04 Kernel: 5.15 Compiler: gcc gcc (Ubuntu 13.3.0-6ubuntu2~24.04) 13.3.0 Red Hat Enterprise Linux 9.5 Kernel: 5.15 Compiler: gcc gcc (GCC) 11.5.0 20240719 (Red Hat 11.5.0-2) Ubuntu 20.04 Kernel: 5.15 Compiler: gcc gcc (Ubuntu 9.4.0-1ubuntu1~20.04.2) 9.4.0 To view detailed results, visit: https://lab.dpdk.org/results/dashboard/patchsets/33596/ UNH-IOL DPDK Community Lab To manage your email subscriptions, visit: https://lab.dpdk.org/results/dashboard/preferences/subscriptions/