From mboxrd@z Thu Jan 1 00:00:00 1970 Return-Path: Received: from mails.dpdk.org (mails.dpdk.org [217.70.189.124]) by inbox.dpdk.org (Postfix) with ESMTP id 1536246AEF for ; Sat, 5 Jul 2025 03:06:55 +0200 (CEST) Received: from mails.dpdk.org (localhost [127.0.0.1]) by mails.dpdk.org (Postfix) with ESMTP id F313E4028C; Sat, 5 Jul 2025 03:06:54 +0200 (CEST) Received: from mail-qv1-f100.google.com (mail-qv1-f100.google.com [209.85.219.100]) by mails.dpdk.org (Postfix) with ESMTP id 9B53D4028C for ; Sat, 5 Jul 2025 03:06:53 +0200 (CEST) Received: by mail-qv1-f100.google.com with SMTP id 6a1803df08f44-70109af5f70so15083646d6.0 for ; Fri, 04 Jul 2025 18:06:53 -0700 (PDT) DKIM-Signature: v=1; a=rsa-sha256; c=relaxed/relaxed; d=iol.unh.edu; s=unh-iol; t=1751677613; x=1752282413; darn=dpdk.org; h=references:in-reply-to:cc:to:from:subject:message-id:date:from:to :cc:subject:date:message-id:reply-to; bh=7pNQm3Rr48HLB31gpRgJdiBrR/Dw44Dq59rteCp5Rxs=; b=EIjvsqCn7is0QbYBKa+KP8V5mPKlUZS70nmCuRCfZ30j6YQxPmBWZoVNw8a+9PZ3Qi dqP21iHpQusR7TP7oeLOdSTZsADaLmIR7FYP8SzhKSiSO5mQNKfNM0Omsy6lc8qj/itc sr+LcwldyIIXpt6f7Ok34WuHYi1hSBKdMqg10= X-Google-DKIM-Signature: v=1; a=rsa-sha256; c=relaxed/relaxed; d=1e100.net; s=20230601; t=1751677613; x=1752282413; h=references:in-reply-to:cc:to:from:subject:message-id:date :x-gm-message-state:from:to:cc:subject:date:message-id:reply-to; bh=7pNQm3Rr48HLB31gpRgJdiBrR/Dw44Dq59rteCp5Rxs=; b=ABZAEr9KsCG+8SElKEyAXZ4apFxs3P/RGNy6q4P5rRQnqYI375cqcE9HcUYVjL9PIc Q5+aKnQnfI9TvJsX98gj3HeSqUyeJ7Jtl3Tel3ouxd8k7ZeMOJRCqv+//RwFpg65sD0t RTAnSsu7+ZhmfEjxceRc601ptBXadIyZ55TjaS3wUKxohobKlDL1oeK+2HG9OTI7Fb0U U1mp+zZn9uW2piJVC6ZhjdxTAvUoJkpqjMw2ZvMEydwdo2JsrXbaQWTTAzcXQSDSDfgT 0Ui9zeUcXG0OdgowQ7HyeckunaTqAldmqCTR8BnX0Rmz1pQrx9jit+x3yaBGkofn305M YnuQ== X-Gm-Message-State: AOJu0YwCPHl38bWmdqopFATopE6XgBSBvk8r2J0Sm5OFdP4UrbYU1CIJ bXnuAE5AII/EVjhGX6e6puvUZKSsf6l0Eh690iGImL4znu7ccnVscns81zzjO537iyLwtvNhfpl kgbwezImzGF6cd3f/Vo+qAdcMfD0o+q2yARIca+POjLTh X-Gm-Gg: ASbGnct5KgT7RDwyGLoai1zW8dlXcs7WV6bREGyS6JS9tjNBaToO8CCth/U/mjQ6erM lxFEXgw6RoRh4CABf3V3UCL7NHy0XNdTsqDrnpkSKbMUFMg/gE82MVsTXHmJetEDE7josuXUJr+ +SkKFYJtcibMwG5+U3jjLM05gEIZW/7qnUQRrvJM85Y5H4PpiGTOrZffCKwDvjjSO1MSehRvJS5 pQmnMv7GlDIcuzff8/8aAxJlbuBncnnjrdvrAwCqbUpzwXRJkIkuJjgf5KMVtqoHOmQLV4/ykpx w/CMJtby2OsGAJK+7D2Wl/my+I9/GAHE7bUNYerb3r+rGztG4TNjm02rcb7PgstN9IxoFw== X-Google-Smtp-Source: AGHT+IE+p4Tdo+GlbgBhG/nxP4bVFynynsqynL+eqS5xRfXl+kui5nW4ep8ys1jEmyanv+1dBJt0JhC+o1eh X-Received: by 2002:a05:6214:5249:b0:6fa:bedb:f61d with SMTP id 6a1803df08f44-702d1697d5amr10050776d6.14.1751677612896; Fri, 04 Jul 2025 18:06:52 -0700 (PDT) Received: from postal.iol.unh.edu (postal.iol.unh.edu. [132.177.123.84]) by smtp-relay.gmail.com with ESMTPS id 6a1803df08f44-702c4d33fe9sm1400686d6.36.2025.07.04.18.06.52 (version=TLS1_2 cipher=ECDHE-ECDSA-AES128-GCM-SHA256 bits=128/128); Fri, 04 Jul 2025 18:06:52 -0700 (PDT) X-Relaying-Domain: iol.unh.edu Date: Fri, 04 Jul 2025 18:06:52 -0700 (PDT) Message-ID: <68687aac.050a0220.48f1f.7846SMTPIN_ADDED_MISSING@mx.google.com> Received: from [172.21.0.8] (unknown [172.18.0.240]) by postal.iol.unh.edu (Postfix) with ESMTP id 9CBEB6051830; Fri, 4 Jul 2025 21:06:52 -0400 (EDT) Subject: |SUCCESS| pw154978 [PATCH] [v3] net/iavf: fix VLAN offload strip fla From: dpdklab@iol.unh.edu To: Test Report Cc: dpdk-test-reports@iol.unh.edu In-Reply-To: <20250702183856.99326-1-amiyaranjan.mohakud@gmail.com> References: <20250702183856.99326-1-amiyaranjan.mohakud@gmail.com> Content-Type: text/plain X-BeenThere: test-report@dpdk.org X-Mailman-Version: 2.1.29 Precedence: list List-Id: automatic DPDK test reports List-Unsubscribe: , List-Archive: List-Post: List-Help: List-Subscribe: , Errors-To: test-report-bounces@dpdk.org Test-Label: iol-compile-arm64-testing Test-Status: SUCCESS http://dpdk.org/patch/154978 _Testing PASS_ Submitter: Amiya Ranjan Mohakud Date: Wednesday, July 02 2025 18:38:56 DPDK git baseline: Repo:dpdk Branch: master CommitID:0ae2a33d16a8727ac2935ac500e216906b50ac2c 154978 --> testing pass Upstream job id: Generic-DPDK-Compile-Meson#405443 Test environment and result as below: +------------------------------+--------------------+ | Environment | dpdk_meson_compile | +==============================+====================+ | Red Hat Enterprise Linux 9.5 | PASS | +------------------------------+--------------------+ | Ubuntu 20.04 | PASS | +------------------------------+--------------------+ | Debian GNU/Linux 12 | PASS | +------------------------------+--------------------+ | Ubuntu 24.04 | PASS | +------------------------------+--------------------+ | Fedora Linux 40 | PASS | +------------------------------+--------------------+ | Fedora Linux 41 | PASS | +------------------------------+--------------------+ | CentOS Stream 9 | PASS | +------------------------------+--------------------+ | CentOS Stream 10 | PASS | +------------------------------+--------------------+ | Ubuntu 22.04 | PASS | +------------------------------+--------------------+ Red Hat Enterprise Linux 9.5 Kernel: 5.4 Compiler: gcc gcc (GCC) 11.5.0 20240719 (Red Hat 11.5.0-2) Ubuntu 20.04 Kernel: 5.4 Compiler: gcc gcc (Ubuntu 9.4.0-1ubuntu1~20.04.2) 9.4.0 Debian GNU/Linux 12 Kernel: 5.4 Compiler: gcc gcc (Debian 12.2.0-14+deb12u1) 12.2.0 Ubuntu 24.04 Kernel: 5.4 Compiler: gcc gcc (Ubuntu 13.3.0-6ubuntu2~24.04) 13.3.0 Fedora Linux 40 Kernel: 5.4 Compiler: clang gcc (GCC) 14.2.1 20240912 (Red Hat 14.2.1-3) Fedora Linux 41 Kernel: 5.4 Compiler: gcc gcc (GCC) 14.3.1 20250523 (Red Hat 14.3.1-1) CentOS Stream 9 Kernel: 5.4 Compiler: gcc gcc (GCC) 11.5.0 20240719 (Red Hat 11.5.0-7) CentOS Stream 10 Kernel: 5.4 Compiler: gcc gcc (GCC) 14.2.1 20250110 (Red Hat 14.2.1-8) Ubuntu 22.04 Kernel: 5.4 Compiler: gcc gcc (Ubuntu 11.4.0-1ubuntu1~22.04) 11.4.0 To view detailed results, visit: https://lab.dpdk.org/results/dashboard/patchsets/33575/ UNH-IOL DPDK Community Lab To manage your email subscriptions, visit: https://lab.dpdk.org/results/dashboard/preferences/subscriptions/