From mboxrd@z Thu Jan 1 00:00:00 1970 Return-Path: Received: from mails.dpdk.org (mails.dpdk.org [217.70.189.124]) by inbox.dpdk.org (Postfix) with ESMTP id 69D7346AF2 for ; Sat, 5 Jul 2025 03:09:29 +0200 (CEST) Received: from mails.dpdk.org (localhost [127.0.0.1]) by mails.dpdk.org (Postfix) with ESMTP id 63D8B4028C; Sat, 5 Jul 2025 03:09:29 +0200 (CEST) Received: from mail-il1-f226.google.com (mail-il1-f226.google.com [209.85.166.226]) by mails.dpdk.org (Postfix) with ESMTP id ACD4D4028C for ; Sat, 5 Jul 2025 03:09:27 +0200 (CEST) Received: by mail-il1-f226.google.com with SMTP id e9e14a558f8ab-3e058c64a76so7833175ab.0 for ; Fri, 04 Jul 2025 18:09:27 -0700 (PDT) DKIM-Signature: v=1; a=rsa-sha256; c=relaxed/relaxed; d=iol.unh.edu; s=unh-iol; t=1751677767; x=1752282567; darn=dpdk.org; h=references:in-reply-to:cc:to:from:subject:message-id:date:from:to :cc:subject:date:message-id:reply-to; bh=fYr3DhZfCZiejBovyt126Gmsx3i3D8tQ74u8wvpFG0Y=; b=jw90FqpOG86aPqdLW2H/+erXETXGyaQNDr11wsCAw+KNS17O14MG7mTwrCg2t5QdbF kGX3nXGq0c4jH+S9cvoiBBMO/MzXDdtdzoRifuQNc6jdLtDWPCyYYl70crRxdqb+k906 Ze6AN/Ju6syxTIpxE0vbmSc9PTq+Y1E4kzReQ= X-Google-DKIM-Signature: v=1; a=rsa-sha256; c=relaxed/relaxed; d=1e100.net; s=20230601; t=1751677767; x=1752282567; h=references:in-reply-to:cc:to:from:subject:message-id:date :x-gm-message-state:from:to:cc:subject:date:message-id:reply-to; bh=fYr3DhZfCZiejBovyt126Gmsx3i3D8tQ74u8wvpFG0Y=; b=GAaXhGXCesQLZtre9urJhyzIteOd9Dii950BTMpVoJ8BK8QgBr/VW1HjUTTdLxOq/C DLXPyJ+Jsc4eayAvpCVF6kHwcHiHdJG1zQd39Jo0NoCqf4kC+HxpOdKc1/CQuq0/GCMs RQgFG8zgQUewvHp49tAgjjRwgMNLjq5DQE1lvERBPPvouc2T7lHmo7Y16iuabaB6BB4e 8LDdrzjhS8n6nZb5SlEfHmGzupgEhpqy0cK6jW9tc1q3oMDkc+7JzjForWH0gLPPxxl5 8j3x70/+rRAFLYK5MVqYrYVtcudREkY1a//KC5hTJQEWJW98vagL0/IzXFh6brC0jofB NwJA== X-Gm-Message-State: AOJu0Yz8BJunL+V6ePKdDUZUR0Z/Hwrol/sENPVecjF6Y6xC906ffuUR 4tjWVjl8sPK96t2K3iPePgj39gYISQBo99CZw+n09lpIxRh+01rOfNJoZr3GyjkbunidqKW8PhV YQL+cdlCAju1XB8DtDG7h0sRaZzgCBULWu/M89mJXC1NN X-Gm-Gg: ASbGncviqAin8UZ1bEN9Y/pH8XL+btNVVNKd4/B0HpQh3cM6BV5IJY6gs9WvjIxavy5 gJ4YN2WHRoGJicdO0Nc1VaRaPpaW3WIarqDhPlde4M8un4MeT40liG0P/QNFZ7HkI++xZCSCUc8 5yVxsKAiMRpuk0Gn0lHmKgRQ4yLrb6lgkKzebBl/uP8rhRwS5Zezrf1q6FozhFnyLQBkfCGYD+a J4ONTwpg2LeH9J2rz7QABH40ZVslbkPnsFNzLXZMzsodwb2iuMgvG0tloeGToZL5OgITLKvcyV3 H4RFMkcnatbg+O/rZtvubEx2Qnr4bUsbsvnkUEBCM4KA/Yhjkjt/FReIxhmpU1hQ6YXE9g== X-Google-Smtp-Source: AGHT+IGSxEm1zgsi+xm/XLK2pzqI/f4BHNuoJjphfFvfKHfbyJx915EhfoWGWpDQmfEe1aUe/czLvWjOBvFk X-Received: by 2002:a05:6e02:1a02:b0:3dd:cc26:61c7 with SMTP id e9e14a558f8ab-3e137212c1bmr41029545ab.20.1751677767011; Fri, 04 Jul 2025 18:09:27 -0700 (PDT) Received: from postal.iol.unh.edu (postal.iol.unh.edu. [132.177.123.84]) by smtp-relay.gmail.com with ESMTPS id e9e14a558f8ab-3e0f9b559d5sm1978495ab.16.2025.07.04.18.09.26 (version=TLS1_2 cipher=ECDHE-ECDSA-AES128-GCM-SHA256 bits=128/128); Fri, 04 Jul 2025 18:09:27 -0700 (PDT) X-Relaying-Domain: iol.unh.edu Date: Fri, 04 Jul 2025 18:09:27 -0700 (PDT) Message-ID: <68687b47.050a0220.27c42a.bc74SMTPIN_ADDED_MISSING@mx.google.com> Received: from [172.21.0.5] (unknown [172.18.0.240]) by postal.iol.unh.edu (Postfix) with ESMTP id 7D1506051830; Fri, 4 Jul 2025 21:09:26 -0400 (EDT) Subject: |SUCCESS| pw154978 [PATCH] [v3] net/iavf: fix VLAN offload strip fla From: dpdklab@iol.unh.edu To: Test Report Cc: dpdk-test-reports@iol.unh.edu In-Reply-To: <20250702183856.99326-1-amiyaranjan.mohakud@gmail.com> References: <20250702183856.99326-1-amiyaranjan.mohakud@gmail.com> Content-Type: text/plain X-BeenThere: test-report@dpdk.org X-Mailman-Version: 2.1.29 Precedence: list List-Id: automatic DPDK test reports List-Unsubscribe: , List-Archive: List-Post: List-Help: List-Subscribe: , Errors-To: test-report-bounces@dpdk.org Test-Label: iol-compile-arm64-testing Test-Status: SUCCESS http://dpdk.org/patch/154978 _Testing PASS_ Submitter: Amiya Ranjan Mohakud Date: Wednesday, July 02 2025 18:38:56 DPDK git baseline: Repo:dpdk Branch: master CommitID:0ae2a33d16a8727ac2935ac500e216906b50ac2c 154978 --> testing pass Upstream job id: Generic-DPDK-Compile-Meson#405445 Test environment and result as below: +------------------------------+--------------------+ | Environment | dpdk_meson_compile | +==============================+====================+ | Red Hat Enterprise Linux 9.5 | PASS | +------------------------------+--------------------+ | Ubuntu 20.04 | PASS | +------------------------------+--------------------+ | Debian GNU/Linux 12 | PASS | +------------------------------+--------------------+ | Ubuntu 24.04 | PASS | +------------------------------+--------------------+ | Fedora Linux 40 | PASS | +------------------------------+--------------------+ | Fedora Linux 41 | PASS | +------------------------------+--------------------+ | CentOS Stream 9 | PASS | +------------------------------+--------------------+ | CentOS Stream 10 | PASS | +------------------------------+--------------------+ | Ubuntu 22.04 | PASS | +------------------------------+--------------------+ Red Hat Enterprise Linux 9.5 Kernel: 5.4 Compiler: gcc gcc (GCC) 11.5.0 20240719 (Red Hat 11.5.0-2) Ubuntu 20.04 Kernel: 5.4 Compiler: gcc gcc (Ubuntu 9.4.0-1ubuntu1~20.04.2) 9.4.0 Debian GNU/Linux 12 Kernel: 5.4 Compiler: gcc gcc (Debian 12.2.0-14+deb12u1) 12.2.0 Ubuntu 24.04 Kernel: 5.4 Compiler: gcc gcc (Ubuntu 13.3.0-6ubuntu2~24.04) 13.3.0 Fedora Linux 40 Kernel: 5.4 Compiler: clang gcc (GCC) 14.2.1 20240912 (Red Hat 14.2.1-3) Fedora Linux 41 Kernel: 5.4 Compiler: gcc gcc (GCC) 14.3.1 20250523 (Red Hat 14.3.1-1) CentOS Stream 9 Kernel: 5.4 Compiler: gcc gcc (GCC) 11.5.0 20240719 (Red Hat 11.5.0-7) CentOS Stream 10 Kernel: 5.4 Compiler: gcc gcc (GCC) 14.2.1 20250110 (Red Hat 14.2.1-8) Ubuntu 22.04 Kernel: 5.4 Compiler: gcc gcc (Ubuntu 11.4.0-1ubuntu1~22.04) 11.4.0 To view detailed results, visit: https://lab.dpdk.org/results/dashboard/patchsets/33575/ UNH-IOL DPDK Community Lab To manage your email subscriptions, visit: https://lab.dpdk.org/results/dashboard/preferences/subscriptions/