From: dpdklab@iol.unh.edu
To: Test Report <test-report@dpdk.org>
Cc: dpdk-test-reports@iol.unh.edu
Subject: |SUCCESS| pw155012-155013 [PATCH] [v2,2/2] dts: add generic blocking
Date: Fri, 04 Jul 2025 18:24:59 -0700 (PDT) [thread overview]
Message-ID: <68687eeb.050a0220.e2b02.63ebSMTPIN_ADDED_MISSING@mx.google.com> (raw)
In-Reply-To: <20250704152908.683265-3-luca.vizzarro@arm.com>
Test-Label: iol-compile-amd64-testing
Test-Status: SUCCESS
http://dpdk.org/patch/155013
_Testing PASS_
Submitter: Luca Vizzarro <luca.vizzarro@arm.com>
Date: Friday, July 04 2025 15:29:08
DPDK git baseline: Repo:dpdk
Branch: master
CommitID:31ba785774d258d4c57b68dabdf544e575f3af83
155012-155013 --> testing pass
Upstream job id: Windows-Compile-DPDK-Native#29581
Test environment and result as below:
+---------------------+-------------------+--------------------+----------------------+
| Environment | dpdk_msvc_compile | dpdk_meson_compile | dpdk_mingw64_compile |
+=====================+===================+====================+======================+
| Windows Server 2022 | PASS | SKIPPED | PASS |
+---------------------+-------------------+--------------------+----------------------+
| Ubuntu 20.04 | SKIPPED | PASS | SKIPPED |
+---------------------+-------------------+--------------------+----------------------+
Windows Server 2022
Kernel: 10.0.20348.2031
Compiler: clang 15.0.7, gcc 14.1.0 (MinGW), and MSVC VS 19.39.33521
Ubuntu 20.04
Kernel: 4.19
Compiler: gcc gcc (Ubuntu 9.4.0-1ubuntu1~20.04.2) 9.4.0
To view detailed results, visit:
https://lab.dpdk.org/results/dashboard/patchsets/33595/
UNH-IOL DPDK Community Lab
To manage your email subscriptions, visit:
https://lab.dpdk.org/results/dashboard/preferences/subscriptions/
next prev parent reply other threads:[~2025-07-05 1:25 UTC|newest]
Thread overview: 44+ messages / expand[flat|nested] mbox.gz Atom feed top
[not found] <20250704152908.683265-3-luca.vizzarro@arm.com>
2025-07-04 14:57 ` |SUCCESS| pw155012-155013 [PATCH v2 2/2] dts: add generic blocking app class qemudev
2025-07-04 15:02 ` qemudev
2025-07-04 15:29 ` |SUCCESS| pw155013 " checkpatch
2025-07-04 16:42 ` 0-day Robot
2025-07-04 21:24 ` |SUCCESS| pw155012-155013 [PATCH] [v2,2/2] dts: add generic blocking dpdklab
2025-07-04 21:43 ` dpdklab
2025-07-04 21:50 ` dpdklab
2025-07-04 22:01 ` dpdklab
2025-07-04 23:02 ` dpdklab
2025-07-04 23:23 ` dpdklab
2025-07-04 23:30 ` dpdklab
2025-07-04 23:37 ` dpdklab
2025-07-04 23:46 ` |PENDING| " dpdklab
2025-07-05 0:03 ` dpdklab
2025-07-05 0:05 ` |SUCCESS| " dpdklab
2025-07-05 0:08 ` dpdklab
2025-07-05 0:32 ` dpdklab
2025-07-05 0:44 ` dpdklab
2025-07-05 1:06 ` |PENDING| " dpdklab
2025-07-05 1:20 ` |SUCCESS| " dpdklab
2025-07-05 1:24 ` dpdklab [this message]
2025-07-05 1:33 ` dpdklab
2025-07-05 1:42 ` dpdklab
2025-07-05 1:46 ` dpdklab
2025-07-05 1:56 ` dpdklab
2025-07-05 2:17 ` |PENDING| " dpdklab
2025-07-05 3:00 ` |SUCCESS| " dpdklab
2025-07-05 3:02 ` |PENDING| " dpdklab
2025-07-05 3:02 ` dpdklab
2025-07-05 3:33 ` |SUCCESS| " dpdklab
2025-07-05 3:52 ` dpdklab
2025-07-05 4:18 ` dpdklab
2025-07-05 4:19 ` dpdklab
2025-07-05 4:19 ` dpdklab
2025-07-05 4:19 ` dpdklab
2025-07-05 4:19 ` dpdklab
2025-07-05 4:20 ` dpdklab
2025-07-05 4:26 ` dpdklab
2025-07-05 5:26 ` dpdklab
2025-07-05 5:26 ` dpdklab
2025-07-05 5:27 ` dpdklab
2025-07-05 5:27 ` dpdklab
2025-07-05 5:27 ` dpdklab
2025-07-05 5:36 ` |PENDING| " dpdklab
Reply instructions:
You may reply publicly to this message via plain-text email
using any one of the following methods:
* Save the following mbox file, import it into your mail client,
and reply-to-all from there: mbox
Avoid top-posting and favor interleaved quoting:
https://en.wikipedia.org/wiki/Posting_style#Interleaved_style
* Reply using the --to, --cc, and --in-reply-to
switches of git-send-email(1):
git send-email \
--in-reply-to=68687eeb.050a0220.e2b02.63ebSMTPIN_ADDED_MISSING@mx.google.com \
--to=dpdklab@iol.unh.edu \
--cc=dpdk-test-reports@iol.unh.edu \
--cc=test-report@dpdk.org \
/path/to/YOUR_REPLY
https://kernel.org/pub/software/scm/git/docs/git-send-email.html
* If your mail client supports setting the In-Reply-To header
via mailto: links, try the mailto: link
Be sure your reply has a Subject: header at the top and a blank line
before the message body.
This is a public inbox, see mirroring instructions
for how to clone and mirror all data and code used for this inbox;
as well as URLs for NNTP newsgroup(s).