From mboxrd@z Thu Jan 1 00:00:00 1970 Return-Path: Received: from mails.dpdk.org (mails.dpdk.org [217.70.189.124]) by inbox.dpdk.org (Postfix) with ESMTP id F12A446AF2 for ; Sat, 5 Jul 2025 03:25:01 +0200 (CEST) Received: from mails.dpdk.org (localhost [127.0.0.1]) by mails.dpdk.org (Postfix) with ESMTP id EA3204028C; Sat, 5 Jul 2025 03:25:01 +0200 (CEST) Received: from mail-il1-f225.google.com (mail-il1-f225.google.com [209.85.166.225]) by mails.dpdk.org (Postfix) with ESMTP id 0123B4028C for ; Sat, 5 Jul 2025 03:25:00 +0200 (CEST) Received: by mail-il1-f225.google.com with SMTP id e9e14a558f8ab-3dda399db09so15377315ab.3 for ; Fri, 04 Jul 2025 18:24:59 -0700 (PDT) DKIM-Signature: v=1; a=rsa-sha256; c=relaxed/relaxed; d=iol.unh.edu; s=unh-iol; t=1751678699; x=1752283499; darn=dpdk.org; h=references:in-reply-to:cc:to:from:subject:message-id:date:from:to :cc:subject:date:message-id:reply-to; bh=5nGihRzZz5ZbuepB2IRjMb0TSH4mhJR6B2brnMQsIHE=; b=ZWYEzsX2ZFr0OfQnD1v+gC5aWRadwEtPuYWiadRdZavvnqZNiREHIXuPcXT9UvNDo/ d6JxfanedmNqqA9h2onpvzRkWXC+mDOlIWz/oLJQJKpGZdQ+VRq125TAV7XUjLDGnB2l ROYO+tnYNC5vsQZmDNvfWB/nAqrMD8YkoAB7c= X-Google-DKIM-Signature: v=1; a=rsa-sha256; c=relaxed/relaxed; d=1e100.net; s=20230601; t=1751678699; x=1752283499; h=references:in-reply-to:cc:to:from:subject:message-id:date :x-gm-message-state:from:to:cc:subject:date:message-id:reply-to; bh=5nGihRzZz5ZbuepB2IRjMb0TSH4mhJR6B2brnMQsIHE=; b=fIqP5I75Pashg8O4tr/1a+aPhupiZd/QBHN3rbAZsJPUiRlXf8sbSX+mYPlRBCMlMw cTMNTsjRZjn6UyVFG4rkD+BIlu4TsUxtvkPnfRcrV434tOLJhbnAZtJkUKzbTzf7PNtg 4zuXCrUwu4+e6xDhcZETzkXvXpopbJ0DX5yeiThFoMsD4/r2eFetW5J8vCHNv4bb5J5N Kl4DYxSM64Sll9k8WLXYJTMDjbsvfx0dYbTXpai43ktWg6vfb5jBtay196z8fqB+ZkZq quxRX7+v7n13plFMXOo4nQ7By9h08gBeRbeiW/ZKWLNtSYAQyCghxEFco6iFQc78vksv /X1A== X-Gm-Message-State: AOJu0YyWVXlerRcNGZd/mQfoKiI+/sNJMGg9tSJwQcXfxbe8e0yY+0VL Gd5JX1tsr0hH4ewShmwy4PZdQjohVv780FtS0yedj0hdATkrSOdlXWRxtcYS/mdnT74KRhHSdI3 NggRHJ4Etyl1Mga1PtYw6PBTgU3nqn0/gD+kggR+TyfT1uM75y0hLQ3hcDnIv X-Gm-Gg: ASbGnctN8cPPisYt4uMycFUHmAyRzTsRyHaYQeM3DGVr+ofS2Gz/EfAyP8FFgGpCJCU PPXCGZOe4ORcSTFXWjsdOhH8wW3AxMloo0mO6zYevG7q4zG/9a8iWSxInElibWA9LTTKTYRAxTe kD2t27oM3vj3VMHbavUpnNSwVrmm/vl3agT8COPNfkoYhE4q5TcLtJxZmgcjgE3/kbwMyXF8Th9 bxRBOFnMGv083ROcJ44lWKaG1gVfrKlM1S9yDs5L+G4qsDzRkoUG6kPoOlq1dXu20NE49qArqeX BttQ6Goso5pPY8uEjvp7uCrDrbyH+81jhMrdYBzb3jhdtqI= X-Google-Smtp-Source: AGHT+IHNNvARRtZSN29yMbgdmy0xjzjHTjqNjXbCuG0ak/fiCrkXxocVDs0CJMNDTXnLAAs8+UvjIl86TDhI X-Received: by 2002:a05:6e02:1c0b:b0:3dc:79e5:e6a8 with SMTP id e9e14a558f8ab-3e13ef0dc97mr7703855ab.15.1751678699241; Fri, 04 Jul 2025 18:24:59 -0700 (PDT) Received: from postal.iol.unh.edu (postal.iol.unh.edu. [2606:4100:3880:1234::84]) by smtp-relay.gmail.com with ESMTPS id 8926c6da1cb9f-503b5a1255fsm118327173.27.2025.07.04.18.24.59 (version=TLS1_2 cipher=ECDHE-ECDSA-AES128-GCM-SHA256 bits=128/128); Fri, 04 Jul 2025 18:24:59 -0700 (PDT) X-Relaying-Domain: iol.unh.edu Date: Fri, 04 Jul 2025 18:24:59 -0700 (PDT) Message-ID: <68687eeb.050a0220.e2b02.63ebSMTPIN_ADDED_MISSING@mx.google.com> Received: from [172.21.0.5] (unknown [172.18.0.240]) by postal.iol.unh.edu (Postfix) with ESMTP id A643E6051830; Fri, 4 Jul 2025 21:24:58 -0400 (EDT) Subject: |SUCCESS| pw155012-155013 [PATCH] [v2,2/2] dts: add generic blocking From: dpdklab@iol.unh.edu To: Test Report Cc: dpdk-test-reports@iol.unh.edu In-Reply-To: <20250704152908.683265-3-luca.vizzarro@arm.com> References: <20250704152908.683265-3-luca.vizzarro@arm.com> Content-Type: text/plain X-BeenThere: test-report@dpdk.org X-Mailman-Version: 2.1.29 Precedence: list List-Id: automatic DPDK test reports List-Unsubscribe: , List-Archive: List-Post: List-Help: List-Subscribe: , Errors-To: test-report-bounces@dpdk.org Test-Label: iol-compile-amd64-testing Test-Status: SUCCESS http://dpdk.org/patch/155013 _Testing PASS_ Submitter: Luca Vizzarro Date: Friday, July 04 2025 15:29:08 DPDK git baseline: Repo:dpdk Branch: master CommitID:31ba785774d258d4c57b68dabdf544e575f3af83 155012-155013 --> testing pass Upstream job id: Windows-Compile-DPDK-Native#29581 Test environment and result as below: +---------------------+-------------------+--------------------+----------------------+ | Environment | dpdk_msvc_compile | dpdk_meson_compile | dpdk_mingw64_compile | +=====================+===================+====================+======================+ | Windows Server 2022 | PASS | SKIPPED | PASS | +---------------------+-------------------+--------------------+----------------------+ | Ubuntu 20.04 | SKIPPED | PASS | SKIPPED | +---------------------+-------------------+--------------------+----------------------+ Windows Server 2022 Kernel: 10.0.20348.2031 Compiler: clang 15.0.7, gcc 14.1.0 (MinGW), and MSVC VS 19.39.33521 Ubuntu 20.04 Kernel: 4.19 Compiler: gcc gcc (Ubuntu 9.4.0-1ubuntu1~20.04.2) 9.4.0 To view detailed results, visit: https://lab.dpdk.org/results/dashboard/patchsets/33595/ UNH-IOL DPDK Community Lab To manage your email subscriptions, visit: https://lab.dpdk.org/results/dashboard/preferences/subscriptions/