From mboxrd@z Thu Jan 1 00:00:00 1970 Return-Path: Received: from mails.dpdk.org (mails.dpdk.org [217.70.189.124]) by inbox.dpdk.org (Postfix) with ESMTP id 07BB646AF2 for ; Sat, 5 Jul 2025 03:36:45 +0200 (CEST) Received: from mails.dpdk.org (localhost [127.0.0.1]) by mails.dpdk.org (Postfix) with ESMTP id EC8694028C; Sat, 5 Jul 2025 03:36:44 +0200 (CEST) Received: from mail-il1-f228.google.com (mail-il1-f228.google.com [209.85.166.228]) by mails.dpdk.org (Postfix) with ESMTP id AF9564028C for ; Sat, 5 Jul 2025 03:36:43 +0200 (CEST) Received: by mail-il1-f228.google.com with SMTP id e9e14a558f8ab-3df2f937370so5321675ab.3 for ; Fri, 04 Jul 2025 18:36:43 -0700 (PDT) DKIM-Signature: v=1; a=rsa-sha256; c=relaxed/relaxed; d=iol.unh.edu; s=unh-iol; t=1751679403; x=1752284203; darn=dpdk.org; h=references:in-reply-to:cc:to:from:subject:message-id:date:from:to :cc:subject:date:message-id:reply-to; bh=kE1zVb47Xhelfhnk/vCOczyKn6paQgdfS7KSnXvNYF0=; b=Gle4st+p5Xl5Mcuov6uPOSr0GJwjIuWbgRH/1O8n8dPENiwXAw5l29vfzpRyP13Lwd 8nvvbwHR4itkgFXgCRaEG+iXpX2K4krJB/aWLKIba/sqmM5YnnfflrOTDiTaU1cedE54 EEAiIKsUxN2w4HTh8ONGTjbkYZB7+2A4jcSsA= X-Google-DKIM-Signature: v=1; a=rsa-sha256; c=relaxed/relaxed; d=1e100.net; s=20230601; t=1751679403; x=1752284203; h=references:in-reply-to:cc:to:from:subject:message-id:date :x-gm-message-state:from:to:cc:subject:date:message-id:reply-to; bh=kE1zVb47Xhelfhnk/vCOczyKn6paQgdfS7KSnXvNYF0=; b=t47C8iPSdAb8h9Orgjgp0q4UfZMkpwowVGzeEUQpWR8+SLbH429DXqRCp7auEsxCW1 KFReJ8lLHN9khz0xZ3wpYj77z+mdO9oYyerRrvacLMPak7oyouXsGz6xNPb9oDeReeid ZrjQkOPt2+wSHbMUSXkHEcqBaIrmtq+wcu8YlOnJjxPrc2lb9UEZyCu2Bsdv9XSkXDqC VpggjWHjQqz/rE7SVVnQGNWszElu88g0P1g+0A2aAVW0C7vZ3iMDmdg+ug0uPcl+HGtz Lw4DjoLcmE8+XBooZVYPtudJYtbUW8DK786fhBhWfitQdixHNaWNX9p3F3Miv/fyq+2H 4svQ== X-Gm-Message-State: AOJu0YwEfUw4NyElJICx72wVluLRWTi5qdOcuxxGwV2hA2q1D7v8W4Nm jFMoIISljyKkY2ZxyoriXmS4zy9MrfNySFI8eyieCk7Qm2uOmdih5Wm0bJMwIlComgT9Ulnyojh gDHnX0iUVIed3dse9OlsTDoN76woHPQmjXklInCx7gTfqtPtCxDzIW44ZHHM4 X-Gm-Gg: ASbGncsf0WzTvTyIACUNjq6RjqP1x3aM9U0PiADtaR7hgbwgiMPsmoAKzX59Ylc8IYA oOf5VTtI27P6/9gjEqfB3DFu/WC2dO5L8a04MOzLxieIGQYIX8buRsq8doh9+wNN+uZXfvjTaCl AH03kBgtsNwKO2S/c7PY8Ob4Jmr5v8whQ5r6RebGwKPNvXy9A9xfGRKJCshOq4UzId9fiUoz1Vj y0acgGu25V2b4uszGtVRVXYAk2fm9L4ogKSo2sJaezjufKDVTqAZV8ujXqgG6+RvlISOdRFUiVg bfhKta8oFdvIFocaNNk//9VFDkzA7A37G/sxC8u5nBqAk5U= X-Google-Smtp-Source: AGHT+IEevMAVKtJ9WBGllnF6PCMgDINS0u8Hni/Jz0vcrEZVOes4CFKWcB/Ax+GAla6loZGOVGcE5aKzIabm X-Received: by 2002:a05:6e02:2206:b0:3dd:d33a:741a with SMTP id e9e14a558f8ab-3e13ef0d2f4mr8825715ab.18.1751679402949; Fri, 04 Jul 2025 18:36:42 -0700 (PDT) Received: from postal.iol.unh.edu (postal.iol.unh.edu. [2606:4100:3880:1234::84]) by smtp-relay.gmail.com with ESMTPS id e9e14a558f8ab-3e0f9c2965fsm2082835ab.41.2025.07.04.18.36.42 (version=TLS1_2 cipher=ECDHE-ECDSA-AES128-GCM-SHA256 bits=128/128); Fri, 04 Jul 2025 18:36:42 -0700 (PDT) X-Relaying-Domain: iol.unh.edu Date: Fri, 04 Jul 2025 18:36:42 -0700 (PDT) Message-ID: <686881aa.050a0220.1ad5aa.b1b3SMTPIN_ADDED_MISSING@mx.google.com> Received: from [172.21.0.5] (unknown [172.18.0.240]) by postal.iol.unh.edu (Postfix) with ESMTP id 71AEB6051830; Fri, 4 Jul 2025 21:36:42 -0400 (EDT) Subject: |SUCCESS| pw154997 [PATCH] net: support VLAN stacking packet type pa From: dpdklab@iol.unh.edu To: Test Report Cc: dpdk-test-reports@iol.unh.edu In-Reply-To: <20250703093027.1259459-1-huangdengdui@huawei.com> References: <20250703093027.1259459-1-huangdengdui@huawei.com> Content-Type: text/plain X-BeenThere: test-report@dpdk.org X-Mailman-Version: 2.1.29 Precedence: list List-Id: automatic DPDK test reports List-Unsubscribe: , List-Archive: List-Post: List-Help: List-Subscribe: , Errors-To: test-report-bounces@dpdk.org Test-Label: iol-unit-amd64-testing Test-Status: SUCCESS http://dpdk.org/patch/154997 _Testing PASS_ Submitter: Dengdui Huang Date: Thursday, July 03 2025 09:30:27 DPDK git baseline: Repo:dpdk Branch: master CommitID:70c2297528e7c7789af452f78de1932e9a20c8a2 154997 --> testing pass Upstream job id: Generic-VM-Unit-Test-DPDK#29729 Test environment and result as below: +-------------------------------+----------------+ | Environment | dpdk_unit_test | +===============================+================+ | Debian GNU/Linux 12 | PASS | +-------------------------------+----------------+ | Fedora Linux 40 | PASS | +-------------------------------+----------------+ | CentOS Stream 9 | PASS | +-------------------------------+----------------+ | CentOS Stream 10 | PASS | +-------------------------------+----------------+ | Fedora Linux 41 | PASS | +-------------------------------+----------------+ | Red Hat Enterprise Linux 9.5 | PASS | +-------------------------------+----------------+ | Ubuntu 22.04 | PASS | +-------------------------------+----------------+ | Red Hat Enterprise Linux 8.10 | PASS | +-------------------------------+----------------+ | Ubuntu 20.04 | PASS | +-------------------------------+----------------+ | Ubuntu 24.04 | PASS | +-------------------------------+----------------+ | Windows Server 2022 | PASS | +-------------------------------+----------------+ Debian GNU/Linux 12 Kernel: 5.15 Compiler: gcc gcc (Debian 12.2.0-14+deb12u1) 12.2.0 Fedora Linux 40 Kernel: 5.15 Compiler: gcc gcc (GCC) 14.2.1 20240912 (Red Hat 14.2.1-3) CentOS Stream 9 Kernel: 5.15 Compiler: gcc gcc (GCC) 11.5.0 20240719 (Red Hat 11.5.0-7) CentOS Stream 10 Kernel: 5.15 Compiler: gcc gcc (GCC) 14.2.1 20250110 (Red Hat 14.2.1-8) Fedora Linux 41 Kernel: 5.15 Compiler: clang gcc (GCC) 14.3.1 20250523 (Red Hat 14.3.1-1) Red Hat Enterprise Linux 9.5 Kernel: 5.15 Compiler: gcc gcc (GCC) 11.5.0 20240719 (Red Hat 11.5.0-2) Ubuntu 22.04 Kernel: 5.15 Compiler: gcc gcc (Ubuntu 11.4.0-1ubuntu1~22.04) 11.4.0 Red Hat Enterprise Linux 8.10 Kernel: 5.15 Compiler: gcc gcc (GCC) 8.5.0 20210514 (Red Hat 8.5.0-22) Ubuntu 20.04 Kernel: 5.15 Compiler: gcc gcc (Ubuntu 9.4.0-1ubuntu1~20.04.2) 9.4.0 Ubuntu 24.04 Kernel: 5.15 Compiler: gcc gcc (Ubuntu 13.3.0-6ubuntu2~24.04) 13.3.0 Windows Server 2022 Kernel: 10.0.20348.2031 Compiler: clang 15.0.7, gcc 14.1.0 (MinGW), and MSVC VS 19.39.33521 To view detailed results, visit: https://lab.dpdk.org/results/dashboard/patchsets/33580/ UNH-IOL DPDK Community Lab To manage your email subscriptions, visit: https://lab.dpdk.org/results/dashboard/preferences/subscriptions/