From mboxrd@z Thu Jan 1 00:00:00 1970 Return-Path: Received: from mails.dpdk.org (mails.dpdk.org [217.70.189.124]) by inbox.dpdk.org (Postfix) with ESMTP id 8CA1D46AF2 for ; Sat, 5 Jul 2025 03:42:46 +0200 (CEST) Received: from mails.dpdk.org (localhost [127.0.0.1]) by mails.dpdk.org (Postfix) with ESMTP id 7A4114028C; Sat, 5 Jul 2025 03:42:46 +0200 (CEST) Received: from mail-oa1-f97.google.com (mail-oa1-f97.google.com [209.85.160.97]) by mails.dpdk.org (Postfix) with ESMTP id 741834028C for ; Sat, 5 Jul 2025 03:42:44 +0200 (CEST) Received: by mail-oa1-f97.google.com with SMTP id 586e51a60fabf-2ef493de975so1097857fac.1 for ; Fri, 04 Jul 2025 18:42:44 -0700 (PDT) DKIM-Signature: v=1; a=rsa-sha256; c=relaxed/relaxed; d=iol.unh.edu; s=unh-iol; t=1751679763; x=1752284563; darn=dpdk.org; h=references:in-reply-to:cc:to:from:subject:message-id:date:from:to :cc:subject:date:message-id:reply-to; bh=fGZuTLVKz/j2eTmIGp/ru5J4rAeq0boLsCxC9/K6O7c=; b=LR8KCq86DGvV6cm6M2gChPvTt2pWvObtbh7KRvMBc9ikClIbm1nouMDdmAqKk78RGd rV/XfmvpoXC6dUAPhyPjq3xnhPM3XMVil6k8ItenMoYey+RNZENM9lNsSL1Tb09nkwEO WlP4DgwMd7yRb+npa6wB3hsu9osUI/0ktl4go= X-Google-DKIM-Signature: v=1; a=rsa-sha256; c=relaxed/relaxed; d=1e100.net; s=20230601; t=1751679763; x=1752284563; h=references:in-reply-to:cc:to:from:subject:message-id:date :x-gm-message-state:from:to:cc:subject:date:message-id:reply-to; bh=fGZuTLVKz/j2eTmIGp/ru5J4rAeq0boLsCxC9/K6O7c=; b=IznVdkA2UC0FwgHI+TXv+HAFw7El1kjUI8s4fWfgtSnWgA2r+Je2U7hkrmZOZow2ky rSqwfdn5YFV7yiBtjTb0UAHUsXf62WtUIa02B64772EaKe+NcAbQpKLf17acPZkn65u5 8JXhVcLsujgGQWrmWREsMFrbn7pMG38OYIZZTwW2o/wjPWCY0GXJHS+l5DkHcewmCfdC OJErC7a2zhMX1GScfvkLaRKXtG5niFdujtN5dnZ+tLxa4ij1Zdz3hqgKMbM82CFfeHvx sq079Xp9AzEei/IJ8t+d8seJoIPwu8722omBQVtM6jQZq9n7Cwjg1l7V6cMqA1JGhQbw RC0g== X-Gm-Message-State: AOJu0YxLrjX3FGrV9qcYEDX2/exPRgsZQ8jUeEWRj2GMMTtrRqd5tiNf JCNDMGI2N1d647RbTWNdHA8rxc1v4vJRgGBXsL/7MspOyLmqqaN8EXe529y/BlilpjpRznSiACM L6aiShJc+0V3XWzalNMOl/P2BIbqrEcBhXyvIj44q6ZLr X-Gm-Gg: ASbGncvFV+OtCjLiMrn/dZQyErI40eWtdCP/vXBN1ZiFWhUK3+EzN/xLJL0lEtPub8l KJpOn5/AKFDF2yjvoSHrc4ivxYd9p6qq2z2BAWHgzS0EHYah8bYNm5BnZHCAmHD1nCoiZOlVDek 2rKuLjArUnQk+Z+FaGlWPOiQC6uYGst8AqfNFQ9oAeC3ABvTrp03PO8BjA173IznWd/IZyjnl0b eyDLxqLx1nYjVY+JtkK4OAU4Knl3pFF0z6w0sDQoz7WoWJSXM2DEpmVaJmrTS4wMDPy3TTD7EQ8 mVpfnUt7cdsZb+5lqXDC81yGb4Ntn2pjAB2XgNOaQEH8GcC9MW+/0svIzLo+vfG7fSMsfQ== X-Google-Smtp-Source: AGHT+IHED2Vux2DJhdwfx26+21ReKyI40bb2YP4tnAv01rp9ZnZXlQpf2VmmH6g/fm73ISH9dp7Pr1BNz3eI X-Received: by 2002:a05:6870:9e4d:b0:2e9:735:91ba with SMTP id 586e51a60fabf-2f796da3894mr3770306fac.25.1751679762810; Fri, 04 Jul 2025 18:42:42 -0700 (PDT) Received: from postal.iol.unh.edu (postal.iol.unh.edu. [132.177.123.84]) by smtp-relay.gmail.com with ESMTPS id 586e51a60fabf-2f7900fdebasm152382fac.32.2025.07.04.18.42.42 (version=TLS1_2 cipher=ECDHE-ECDSA-AES128-GCM-SHA256 bits=128/128); Fri, 04 Jul 2025 18:42:42 -0700 (PDT) X-Relaying-Domain: iol.unh.edu Date: Fri, 04 Jul 2025 18:42:42 -0700 (PDT) Message-ID: <68688312.050a0220.21a8ef.7aefSMTPIN_ADDED_MISSING@mx.google.com> Received: from [172.21.0.5] (unknown [172.18.0.240]) by postal.iol.unh.edu (Postfix) with ESMTP id 45FBC6051830; Fri, 4 Jul 2025 21:42:42 -0400 (EDT) Subject: |SUCCESS| pw155012-155013 [PATCH] [v2,2/2] dts: add generic blocking From: dpdklab@iol.unh.edu To: Test Report Cc: dpdk-test-reports@iol.unh.edu In-Reply-To: <20250704152908.683265-3-luca.vizzarro@arm.com> References: <20250704152908.683265-3-luca.vizzarro@arm.com> Content-Type: text/plain X-BeenThere: test-report@dpdk.org X-Mailman-Version: 2.1.29 Precedence: list List-Id: automatic DPDK test reports List-Unsubscribe: , List-Archive: List-Post: List-Help: List-Subscribe: , Errors-To: test-report-bounces@dpdk.org Test-Label: iol-compile-amd64-testing Test-Status: SUCCESS http://dpdk.org/patch/155013 _Testing PASS_ Submitter: Luca Vizzarro Date: Friday, July 04 2025 15:29:08 DPDK git baseline: Repo:dpdk Branch: master CommitID:31ba785774d258d4c57b68dabdf544e575f3af83 155012-155013 --> testing pass Upstream job id: Windows-Compile-DPDK-Native#29582 Test environment and result as below: +---------------------+-------------------+--------------------+-------------------------+ | Environment | dpdk_msvc_compile | dpdk_meson_compile | dpdk_llvm_clang_compile | +=====================+===================+====================+=========================+ | Windows Server 2022 | PASS | SKIPPED | PASS | +---------------------+-------------------+--------------------+-------------------------+ | Ubuntu 20.04 | SKIPPED | PASS | SKIPPED | +---------------------+-------------------+--------------------+-------------------------+ Windows Server 2022 Kernel: 10.0.20348.2031 Compiler: clang 15.0.7, gcc 14.1.0 (MinGW), and MSVC VS 19.39.33521 Ubuntu 20.04 Kernel: 4.19 Compiler: gcc gcc (Ubuntu 9.4.0-1ubuntu1~20.04.2) 9.4.0 To view detailed results, visit: https://lab.dpdk.org/results/dashboard/patchsets/33595/ UNH-IOL DPDK Community Lab To manage your email subscriptions, visit: https://lab.dpdk.org/results/dashboard/preferences/subscriptions/