From mboxrd@z Thu Jan 1 00:00:00 1970 Return-Path: Received: from mails.dpdk.org (mails.dpdk.org [217.70.189.124]) by inbox.dpdk.org (Postfix) with ESMTP id 0D54146AF2 for ; Sat, 5 Jul 2025 03:46:03 +0200 (CEST) Received: from mails.dpdk.org (localhost [127.0.0.1]) by mails.dpdk.org (Postfix) with ESMTP id 09DE94028C; Sat, 5 Jul 2025 03:46:03 +0200 (CEST) Received: from mail-yb1-f226.google.com (mail-yb1-f226.google.com [209.85.219.226]) by mails.dpdk.org (Postfix) with ESMTP id 7A0224028C for ; Sat, 5 Jul 2025 03:46:01 +0200 (CEST) Received: by mail-yb1-f226.google.com with SMTP id 3f1490d57ef6-e8187601f85so1319169276.2 for ; Fri, 04 Jul 2025 18:46:01 -0700 (PDT) DKIM-Signature: v=1; a=rsa-sha256; c=relaxed/relaxed; d=iol.unh.edu; s=unh-iol; t=1751679961; x=1752284761; darn=dpdk.org; h=references:in-reply-to:cc:to:from:subject:message-id:date:from:to :cc:subject:date:message-id:reply-to; bh=SU4cwoB9z2P5po811fOHFNrbSqt3hhG9AJaXtSkU1/4=; b=EyAuLqtuUvjvdHE1wym36h+9CPFKI7BICBReTf56iYfcTpUDrwG6wELfjLAES+qdsT 93O+SyKOBNmakbNbjG9dl7be6Go2A7AfKBHPNsYVtBnwiR/j7w6nXQ78kwnMd/+fYAlN /Gzdif1tTt6UeyB6071WEvuXRwEIm+bsDXTX8= X-Google-DKIM-Signature: v=1; a=rsa-sha256; c=relaxed/relaxed; d=1e100.net; s=20230601; t=1751679961; x=1752284761; h=references:in-reply-to:cc:to:from:subject:message-id:date :x-gm-message-state:from:to:cc:subject:date:message-id:reply-to; bh=SU4cwoB9z2P5po811fOHFNrbSqt3hhG9AJaXtSkU1/4=; b=Ii0aczcoZb1/JuEkHsweAsh821ZgDS4cZ95Hz3/IgUwdKMMwGx/SU2l59uRMQLaEpc nmZOb6Ykvj/HM25CwDxYpsSITmqJpWRHvx9//A+gxNPt0Y5VkczSJPzavQz7r+U1f/v9 tRQzHszZrQt7M/5xtkULPsmRZ0cWMk8KySFN9NHVXPjh+LfFlYFwXsUWRU4sI5vzbMMy U66pDhHWlzGnBwNZhgJ8SCHfd5Yj0bZnhnLQPHIpfHEh1DJg8assTTayy9lMCOVqXhJ5 iQTeMm4/P3JSf7N3Os7ww24xgLqFdMuKeuf+MiybnXTiAaMzmehkdDH2VllGlrA+S1eg E4+w== X-Gm-Message-State: AOJu0Yzt3W1Ofx+1npBmAgwGujapSwpQoNfx5LPDIV9GH5CthqvWr4Pq ezhK/WkM4TbRW0pvkwrZJtPwz40OkDTH1lBXsOIPj+2smi2zYA39yFK7+BAO29FS7mVSReIUXGs nY8hfG0/d72OuL15OEYjJY+o2BhHlT3vqpdSxGov4lJoD X-Gm-Gg: ASbGncttErsdgzXbXWrz+f0uK4K4f6VlNpblHjYzTaP7WCPX9sIuJ3o71J0TIstOiXh T/CqzKVfS5Q/lIKizyL7+8j9hDDJyDsYeaW1lMkfKkhWkgRDRfrTPvXtvtB/3+3slVx3WbD4vzN /L9mrqdQGCr9koAkxjXLnAIka4LiGNPQFxE4m8U6b5SbWtHE/OS2hWuPsiHbgudFzpQvTN/AMkB qUDzs3V1g+wkE4T0k5bvaLcLsfF/RE6nWvFeQeEwZX0fjA+pauYTa5sAi2i8SWpKAnXhT6ePDUr 3H0q+20XZms/kURaxwTWYPf8j6U63xXxHgodcx9Tuw1yLLTL+ON44cdvbYogYHD85BYFdg== X-Google-Smtp-Source: AGHT+IHFe6x0ly4p5cs4iEIlWYTD9Djc5dc8Kg1tocLZKm64zDngqHciOK8/iKrUh7wap/K3Cp3AnffJ8Gn/ X-Received: by 2002:a05:690c:6d01:b0:70d:f237:6a53 with SMTP id 00721157ae682-7176c9f7fa1mr7599877b3.9.1751679960825; Fri, 04 Jul 2025 18:46:00 -0700 (PDT) Received: from postal.iol.unh.edu (postal.iol.unh.edu. [132.177.123.84]) by smtp-relay.gmail.com with ESMTPS id 3f1490d57ef6-e899c2ef237sm156152276.7.2025.07.04.18.46.00 (version=TLS1_2 cipher=ECDHE-ECDSA-AES128-GCM-SHA256 bits=128/128); Fri, 04 Jul 2025 18:46:00 -0700 (PDT) X-Relaying-Domain: iol.unh.edu Date: Fri, 04 Jul 2025 18:46:00 -0700 (PDT) Message-ID: <686883d8.250a0220.128765.93a9SMTPIN_ADDED_MISSING@mx.google.com> Received: from [172.21.0.7] (unknown [172.18.0.240]) by postal.iol.unh.edu (Postfix) with ESMTP id 7CA476051830; Fri, 4 Jul 2025 21:46:00 -0400 (EDT) Subject: |SUCCESS| pw155012-155013 [PATCH] [v2,2/2] dts: add generic blocking From: dpdklab@iol.unh.edu To: Test Report Cc: dpdk-test-reports@iol.unh.edu In-Reply-To: <20250704152908.683265-3-luca.vizzarro@arm.com> References: <20250704152908.683265-3-luca.vizzarro@arm.com> Content-Type: text/plain X-BeenThere: test-report@dpdk.org X-Mailman-Version: 2.1.29 Precedence: list List-Id: automatic DPDK test reports List-Unsubscribe: , List-Archive: List-Post: List-Help: List-Subscribe: , Errors-To: test-report-bounces@dpdk.org Test-Label: iol-compile-amd64-testing Test-Status: SUCCESS http://dpdk.org/patch/155013 _Testing PASS_ Submitter: Luca Vizzarro Date: Friday, July 04 2025 15:29:08 DPDK git baseline: Repo:dpdk Branch: master CommitID:31ba785774d258d4c57b68dabdf544e575f3af83 155012-155013 --> testing pass Upstream job id: Windows-Compile-DPDK-Native#29583 Test environment and result as below: +---------------------+-------------------+--------------------+-------------------------+----------------------+ | Environment | dpdk_msvc_compile | dpdk_meson_compile | dpdk_llvm_clang_compile | dpdk_mingw64_compile | +=====================+===================+====================+=========================+======================+ | Windows Server 2022 | PASS | SKIPPED | PASS | PASS | +---------------------+-------------------+--------------------+-------------------------+----------------------+ | Ubuntu 20.04 | SKIPPED | PASS | SKIPPED | SKIPPED | +---------------------+-------------------+--------------------+-------------------------+----------------------+ Windows Server 2022 Kernel: 10.0.20348.2031 Compiler: clang 15.0.7, gcc 14.1.0 (MinGW), and MSVC VS 19.39.33521 Ubuntu 20.04 Kernel: 4.19 Compiler: gcc gcc (Ubuntu 9.4.0-1ubuntu1~20.04.2) 9.4.0 To view detailed results, visit: https://lab.dpdk.org/results/dashboard/patchsets/33595/ UNH-IOL DPDK Community Lab To manage your email subscriptions, visit: https://lab.dpdk.org/results/dashboard/preferences/subscriptions/