From mboxrd@z Thu Jan 1 00:00:00 1970 Return-Path: Received: from mails.dpdk.org (mails.dpdk.org [217.70.189.124]) by inbox.dpdk.org (Postfix) with ESMTP id 7F94746A6D for ; Sat, 5 Jul 2025 03:50:30 +0200 (CEST) Received: from mails.dpdk.org (localhost [127.0.0.1]) by mails.dpdk.org (Postfix) with ESMTP id 7910D4028C; Sat, 5 Jul 2025 03:50:30 +0200 (CEST) Received: from mail-pl1-f225.google.com (mail-pl1-f225.google.com [209.85.214.225]) by mails.dpdk.org (Postfix) with ESMTP id BFDC04028C for ; Sat, 5 Jul 2025 03:50:28 +0200 (CEST) Received: by mail-pl1-f225.google.com with SMTP id d9443c01a7336-235ef62066eso21281235ad.3 for ; Fri, 04 Jul 2025 18:50:28 -0700 (PDT) DKIM-Signature: v=1; a=rsa-sha256; c=relaxed/relaxed; d=iol.unh.edu; s=unh-iol; t=1751680228; x=1752285028; darn=dpdk.org; h=references:in-reply-to:cc:to:from:subject:message-id:date:from:to :cc:subject:date:message-id:reply-to; bh=RWpTLFhRy1dKM5dcPHG2lC5zGGG0V4m82CG+auJuNoI=; b=a3tpv43mXAAdCT0fBc4fiQnB4K2E6ZctD0CfGc+3WUfz/wLkrHERPUtB0aoRi8UyVV cSerqbnGIuhUGjjkmsSgG23sU80utiRLU868PXkVkSjTO2Fuqba8wuX1kf8O23GBcRum 5k1N//HZaPouWlLOMuOQ6AUp3v38jOxxpEDwA= X-Google-DKIM-Signature: v=1; a=rsa-sha256; c=relaxed/relaxed; d=1e100.net; s=20230601; t=1751680228; x=1752285028; h=references:in-reply-to:cc:to:from:subject:message-id:date :x-gm-message-state:from:to:cc:subject:date:message-id:reply-to; bh=RWpTLFhRy1dKM5dcPHG2lC5zGGG0V4m82CG+auJuNoI=; b=gbjlTDmYES39t5HQAop4pRACb88j+xY88lHTuRR9U2ob/3P05ONltrERXh4Tp3RctC v5wEA2NTAB/cCZZNJ4etXggVlh2REPspONLKVu5KyN5LQDy2+dq1eFjAWoezSIRQ/lAc lAAzOiXPi47lhTUj0hIW9PMLlVRK/VVTjTD62cfcoo81RucPoXfjJKlKpecW1xoKOHPP uosRXTCWyaTPsl4PTtET0wNiHHLwhAy/2rjRlq/46fudywn74Xof0a1y8jHbph6bUsyV tFeYR+l/9JgfiKdV8eclYFMOUu71QiFr3Vu4giBSAm5rj6yZH64U+AftbTwen5t/pyXy tGQw== X-Gm-Message-State: AOJu0YxZUP56govC/UB3LDZTsMJ+NLBQqh2KVVGEsxSzC1MxNINwlcT8 crIe+T2YMzpoKN94QYi33TgrscQH7kOAMSbksXy60xWiLH5ZoJjGLEXgfI3mpX8O7fAxEvM/T6z RiKUlPizOZ4+Fvk0RiBHorPDYWp3WvpqpxWtjQ3w/Do227bIwHIxr2wiXqL8C X-Gm-Gg: ASbGncvZye4hobwhebWTZO7/e2553irMcHRYHWcHrKBStxF6dM4j2o1rY1qqLTZ4wWO Ty6DPt/OSRlNifAyOSIH6pG9uHMWmZlXJ9BEUmpMe5J3c5l/3oQrbGS0JEVgH3La82268w8taYB SjjVh0vQlXKSVpIIkSiTWyFmUJxW9PyGi1AuyAy4f+GC5x5zwP6QzUaR1JKitMkeKB9VSYL+zD9 DyB9YH/2pdGrBCLXkwg90b9PDapwUKehau+8+uWtFnYrnsNgBTmp4UufbqM8jf8bj1McD8DxESC h9DxSWpYWK19A2ZWYVd7MvwsjJd3Dc29YnCNTslWhW+1Qk0= X-Google-Smtp-Source: AGHT+IFiTB+tFw0xuTDONUDdf5J/azuk/yO3dkP6txAuluFUOOmesyv0jb/qXiCM+SZGACZJPk2Edd8BQwHX X-Received: by 2002:a17:903:4b43:b0:234:eea2:9483 with SMTP id d9443c01a7336-23c90ff9631mr11533745ad.51.1751680227892; Fri, 04 Jul 2025 18:50:27 -0700 (PDT) Received: from postal.iol.unh.edu (postal.iol.unh.edu. [2606:4100:3880:1234::84]) by smtp-relay.gmail.com with ESMTPS id d9443c01a7336-23c842d14d4sm1497535ad.48.2025.07.04.18.50.27 (version=TLS1_2 cipher=ECDHE-ECDSA-AES128-GCM-SHA256 bits=128/128); Fri, 04 Jul 2025 18:50:27 -0700 (PDT) X-Relaying-Domain: iol.unh.edu Date: Fri, 04 Jul 2025 18:50:27 -0700 (PDT) Message-ID: <686884e3.170a0220.93ff0.7e95SMTPIN_ADDED_MISSING@mx.google.com> Received: from [172.21.0.6] (unknown [172.18.0.240]) by postal.iol.unh.edu (Postfix) with ESMTP id 142076051830; Fri, 4 Jul 2025 21:50:27 -0400 (EDT) Subject: |SUCCESS| pw154988-154994 [PATCH] [v8,8/8] bus/dpaa: optimize qman e From: dpdklab@iol.unh.edu To: Test Report Cc: dpdk-test-reports@iol.unh.edu In-Reply-To: <20250703053743.3710482-9-vanshika.shukla@nxp.com> References: <20250703053743.3710482-9-vanshika.shukla@nxp.com> Content-Type: text/plain X-BeenThere: test-report@dpdk.org X-Mailman-Version: 2.1.29 Precedence: list List-Id: automatic DPDK test reports List-Unsubscribe: , List-Archive: List-Post: List-Help: List-Subscribe: , Errors-To: test-report-bounces@dpdk.org Test-Label: iol-abi-testing Test-Status: SUCCESS http://dpdk.org/patch/154994 _Testing PASS_ Submitter: Vanshika Shukla Date: Thursday, July 03 2025 05:37:43 DPDK git baseline: Repo:dpdk Branch: master CommitID:b18c543ec30729ccc7708a6e064a1f9db5d8c11f 154988-154994 --> testing pass Upstream job id: Generic-DPDK-Compile-ABI#133098 Test environment and result as below: +-------------------------------+----------+ | Environment | abi_test | +===============================+==========+ | CentOS Stream 9 | PASS | +-------------------------------+----------+ | CentOS Stream 10 | PASS | +-------------------------------+----------+ | Fedora Linux 41 | PASS | +-------------------------------+----------+ | Fedora Linux 40 | PASS | +-------------------------------+----------+ | Red Hat Enterprise Linux 8.10 | PASS | +-------------------------------+----------+ | openSUSE Leap 15.6 | PASS | +-------------------------------+----------+ | Ubuntu 22.04 | PASS | +-------------------------------+----------+ | Ubuntu 24.04 | PASS | +-------------------------------+----------+ | Debian GNU/Linux 12 | PASS | +-------------------------------+----------+ | Red Hat Enterprise Linux 9.5 | PASS | +-------------------------------+----------+ CentOS Stream 9 Kernel: 5.15 Compiler: gcc gcc (GCC) 11.5.0 20240719 (Red Hat 11.5.0-7) CentOS Stream 10 Kernel: 5.15 Compiler: gcc gcc (GCC) 14.2.1 20250110 (Red Hat 14.2.1-8) Fedora Linux 41 Kernel: 5.15 Compiler: clang gcc (GCC) 14.3.1 20250523 (Red Hat 14.3.1-1) Fedora Linux 40 Kernel: 5.15 Compiler: gcc gcc (GCC) 14.2.1 20240912 (Red Hat 14.2.1-3) Red Hat Enterprise Linux 8.10 Kernel: 5.15 Compiler: gcc gcc (GCC) 8.5.0 20210514 (Red Hat 8.5.0-22) openSUSE Leap 15.6 Kernel: 5.15 Compiler: gcc gcc (SUSE Linux) 7.5.0 Ubuntu 22.04 Kernel: 5.15 Compiler: gcc gcc (Ubuntu 11.4.0-1ubuntu1~22.04) 11.4.0 Ubuntu 24.04 Kernel: 5.15 Compiler: gcc gcc (Ubuntu 13.3.0-6ubuntu2~24.04) 13.3.0 Debian GNU/Linux 12 Kernel: 5.15 Compiler: gcc gcc (Debian 12.2.0-14+deb12u1) 12.2.0 Red Hat Enterprise Linux 9.5 Kernel: 5.15 Compiler: gcc gcc (GCC) 11.5.0 20240719 (Red Hat 11.5.0-2) To view detailed results, visit: https://lab.dpdk.org/results/dashboard/patchsets/33577/ UNH-IOL DPDK Community Lab To manage your email subscriptions, visit: https://lab.dpdk.org/results/dashboard/preferences/subscriptions/