From mboxrd@z Thu Jan 1 00:00:00 1970 Return-Path: Received: from mails.dpdk.org (mails.dpdk.org [217.70.189.124]) by inbox.dpdk.org (Postfix) with ESMTP id CBC0E46A6D for ; Sat, 5 Jul 2025 03:52:40 +0200 (CEST) Received: from mails.dpdk.org (localhost [127.0.0.1]) by mails.dpdk.org (Postfix) with ESMTP id AB3B24028C; Sat, 5 Jul 2025 03:52:40 +0200 (CEST) Received: from mail-oa1-f99.google.com (mail-oa1-f99.google.com [209.85.160.99]) by mails.dpdk.org (Postfix) with ESMTP id 2EB004028C for ; Sat, 5 Jul 2025 03:52:39 +0200 (CEST) Received: by mail-oa1-f99.google.com with SMTP id 586e51a60fabf-2ef493de975so1100964fac.1 for ; Fri, 04 Jul 2025 18:52:39 -0700 (PDT) DKIM-Signature: v=1; a=rsa-sha256; c=relaxed/relaxed; d=iol.unh.edu; s=unh-iol; t=1751680358; x=1752285158; darn=dpdk.org; h=references:in-reply-to:cc:to:from:subject:message-id:date:from:to :cc:subject:date:message-id:reply-to; bh=zGhl0WnmYgBnwuc7nyr+XgjM3ieZQvCsh/qRj53yOwg=; b=A4+UWUrc/DkQdf3gNvu6WJUynsw+4Qazz4oZeLtCrnLeFLNFqsxiVUn18nNGFZY3/D groCbKplx75VpWXl8Iew2DH8wfYfM9jo+2ZsYXck7Dxwku2zjihofwouNxeff7wli6Jt nyv0ooyvNwhBsl2fycdY4eHdKYtLMcNvvUSEE= X-Google-DKIM-Signature: v=1; a=rsa-sha256; c=relaxed/relaxed; d=1e100.net; s=20230601; t=1751680358; x=1752285158; h=references:in-reply-to:cc:to:from:subject:message-id:date :x-gm-message-state:from:to:cc:subject:date:message-id:reply-to; bh=zGhl0WnmYgBnwuc7nyr+XgjM3ieZQvCsh/qRj53yOwg=; b=hoXBdlxo0ddZ5NdmcpaoBc+pxt7UvWjJWBP8PUzlpXIHBPz2Zxj/k366sKmOh9w76p Dn7/sYs9S3jC2vbVDbvsQdtBWxDazKzniA9GUW03Lpf4I+Ka426n+3KwyMSAcxGziaoU CFWrNoPnLQUVam/wncQKH1goZAcwE0NIm4deOzA3xNH322JD2Pj27v87oLxKyu8oEEy7 SN78XrI/VhsjEsOpMKfN0kHadnNvtY9OCjCD8SvoUsfGGK/0eEV5v4dgjaGORBwVlNh5 2d0KdZaBayNHVRgFAlbtqMlo/u+3DihENkxp/bY6ail6ghbaUpqBlrNE0+1PoVUI/NDh KP/g== X-Gm-Message-State: AOJu0Yx/wxkIDtSLn1SoHgo8BM/a3R3cZb8M6xT5m40fpD5CkRUPCCLE RRyd0J2oYwL+vKs3AUosq28hKGu1M/QpstXJ2dahPuxPf2LAEf6s4WjTIGmwZu3FMnYvqx86CrT jn58yb2aEaqpBNhItx28oWIsdOqz/pu0oetmA3q7uoe4O X-Gm-Gg: ASbGnctQekXKLZrtWd58kmXLgnQ90Hcpz9KRHEJZ0CUWsYJeWmqK6OlKNe8LtvgNEPC QD56eaWOdF/w/9sEiY/1TvaD52rnBrdfDtnoCuiEGUzlY5d50f6jfpIoSluquTF6TOTMCnGEZVU BB4PTxVDqUHrC5oVeeLfiR77Uf7pJXE4h+M3V1yDxuHq2uUmR7ujSrwDUfTVvlqeyxg2mE4SULJ xEDzCbWDOR6ZzWq2kqYY7udrh25SZeapcwffctoJoYk35BxW11LYgY2/5D1lpJjhzw29W5fJxIX 8V3hRdJN6fLtbx9eea63Qpo4NLyXJDnznY5nGjHH9uwBQ+e0Vwlw62EQ4WjaX8R/FHkZrg== X-Google-Smtp-Source: AGHT+IEILEEgJSN4aLVrmJBUWL9tB6D0O0q8/eR1Y0Nh71dz5wmku9DDZF4mjJ/TN8YIIFIt6cfXgM9MGdmn X-Received: by 2002:a05:6871:4093:b0:2c1:ac88:4a8d with SMTP id 586e51a60fabf-2f796dff66dmr3062224fac.30.1751680358359; Fri, 04 Jul 2025 18:52:38 -0700 (PDT) Received: from postal.iol.unh.edu (postal.iol.unh.edu. [132.177.123.84]) by smtp-relay.gmail.com with ESMTPS id 586e51a60fabf-2f78fea9862sm181900fac.17.2025.07.04.18.52.38 (version=TLS1_2 cipher=ECDHE-ECDSA-AES128-GCM-SHA256 bits=128/128); Fri, 04 Jul 2025 18:52:38 -0700 (PDT) X-Relaying-Domain: iol.unh.edu Date: Fri, 04 Jul 2025 18:52:38 -0700 (PDT) Message-ID: <68688566.050a0220.119bb5.9b56SMTPIN_ADDED_MISSING@mx.google.com> Received: from [172.21.0.5] (unknown [172.18.0.240]) by postal.iol.unh.edu (Postfix) with ESMTP id CED4F6051830; Fri, 4 Jul 2025 21:52:37 -0400 (EDT) Subject: |SUCCESS| pw155010 [PATCH] net/bonding: avoid RSS reta update in flo From: dpdklab@iol.unh.edu To: Test Report Cc: dpdk-test-reports@iol.unh.edu In-Reply-To: <20250704135031.5306-1-madhuker.mythri@oracle.com> References: <20250704135031.5306-1-madhuker.mythri@oracle.com> Content-Type: text/plain X-BeenThere: test-report@dpdk.org X-Mailman-Version: 2.1.29 Precedence: list List-Id: automatic DPDK test reports List-Unsubscribe: , List-Archive: List-Post: List-Help: List-Subscribe: , Errors-To: test-report-bounces@dpdk.org Test-Label: iol-compile-amd64-testing Test-Status: SUCCESS http://dpdk.org/patch/155010 _Testing PASS_ Submitter: Madhuker Mythri Date: Friday, July 04 2025 13:50:31 DPDK git baseline: Repo:dpdk Branch: master CommitID:b18c543ec30729ccc7708a6e064a1f9db5d8c11f 155010 --> testing pass Upstream job id: Windows-Compile-DPDK-Native#29584 Test environment and result as below: +---------------------+--------------------+-------------------+-------------------------+ | Environment | dpdk_meson_compile | dpdk_msvc_compile | dpdk_llvm_clang_compile | +=====================+====================+===================+=========================+ | Ubuntu 20.04 | PASS | SKIPPED | SKIPPED | +---------------------+--------------------+-------------------+-------------------------+ | Windows Server 2022 | SKIPPED | PASS | PASS | +---------------------+--------------------+-------------------+-------------------------+ Ubuntu 20.04 Kernel: 4.19 Compiler: gcc gcc (Ubuntu 9.4.0-1ubuntu1~20.04.2) 9.4.0 Windows Server 2022 Kernel: 10.0.20348.2031 Compiler: clang 15.0.7, gcc 14.1.0 (MinGW), and MSVC VS 19.39.33521 To view detailed results, visit: https://lab.dpdk.org/results/dashboard/patchsets/33593/ UNH-IOL DPDK Community Lab To manage your email subscriptions, visit: https://lab.dpdk.org/results/dashboard/preferences/subscriptions/