From mboxrd@z Thu Jan 1 00:00:00 1970 Return-Path: Received: from mails.dpdk.org (mails.dpdk.org [217.70.189.124]) by inbox.dpdk.org (Postfix) with ESMTP id 1A36546A6D for ; Sat, 5 Jul 2025 03:55:14 +0200 (CEST) Received: from mails.dpdk.org (localhost [127.0.0.1]) by mails.dpdk.org (Postfix) with ESMTP id E961C4028C; Sat, 5 Jul 2025 03:55:13 +0200 (CEST) Received: from mail-pl1-f228.google.com (mail-pl1-f228.google.com [209.85.214.228]) by mails.dpdk.org (Postfix) with ESMTP id EE04F4028C for ; Sat, 5 Jul 2025 03:55:12 +0200 (CEST) Received: by mail-pl1-f228.google.com with SMTP id d9443c01a7336-2350fc2591dso13401985ad.1 for ; Fri, 04 Jul 2025 18:55:12 -0700 (PDT) DKIM-Signature: v=1; a=rsa-sha256; c=relaxed/relaxed; d=iol.unh.edu; s=unh-iol; t=1751680512; x=1752285312; darn=dpdk.org; h=references:in-reply-to:cc:to:from:subject:message-id:date:from:to :cc:subject:date:message-id:reply-to; bh=lJXVMM4k0KGccqSv+jvDF12qEJhMIfxKbfGXuoDA/EU=; b=eGpK7FUebxzW4MEgdfzrBt7lwAQhgssKBD5jskBZliLY6V/Kw7jgvrh9CmHfR1MxoK rvQnMyiSu9zPcxWtAOWhEivdGMjetDmkdgxqkXkj6VuvJljrKHjte4Jshq1sx5OGJoBm qzqR4jyRdRVPXfSCHXFHnMNYRYNTMywbWwfPA= X-Google-DKIM-Signature: v=1; a=rsa-sha256; c=relaxed/relaxed; d=1e100.net; s=20230601; t=1751680512; x=1752285312; h=references:in-reply-to:cc:to:from:subject:message-id:date :x-gm-message-state:from:to:cc:subject:date:message-id:reply-to; bh=lJXVMM4k0KGccqSv+jvDF12qEJhMIfxKbfGXuoDA/EU=; b=CYdNGBQC5gaGdXeeCYp+ucnYhPFMSdul9QO+FZGdCgebZQATJc4zN/k9asJd8ejC04 T0v5gi0wxkaQ/9Hmp4DQQgi32/g/ieeBQ3gLfVe8nRdVp4xfzFkCl8H8hYhOj4DORtvM lCc0+xrK/lHOWtpHz6gIcUOvPEAmUrI5TsPQPSxG5JatDzTLPfDRPZRBzAcnts8sMctE iu4k7DnhkBdm3hfgwigMabFtJuWhFDCsXoNLNJYI64MUwxUKOQkaffG69bHFc0l2yQRs y8wmwtRRkdVSe6XqnszxRsH48G0qXQQSI715dDz0bJR9bi8MXT9+f/3MmAFQENgFENzI oH0Q== X-Gm-Message-State: AOJu0YyCdsZBGvDmIyrgVe7y2N5aojmGxWrsEWfDo2JyXWcy90PKcGmZ 3xng6ICGfj7nI94ctz8cftb4NU1lu8BltgqcXSZ0AfgAAtWP3+1fNoqa4KC2iAnRhgivAjSNpvO DQT+LXkk3qxECr46wq28z6uLBQZ6Vp6qAwEZuTy1JQSoM X-Gm-Gg: ASbGncsHLaBE3URl1r4IeZDp7dwlSF/v4fCagUMboIWb79tmhANS6hpGo9SWWP7x97Z 5GqBSZK4gNx32a+znL6tP18Jn2NH/lrcQWbMw5MF3E/B9lUxYl9C9BbU/DATqHN4yCi5oVr2MXZ lzWKK2rBxdeVqIExL/YpBcwe0GtQPb352ORRY/RFEey/kcFxK5EbTm3JC+VZsl/AqUdXl5sK7J9 vPXFI2tOam3AjMIB/8R2gcE8EWwJsYVH1oTJKPUoCpjwR+gDSW+Ub4aUfHYjQmQvsg+Nxoz5lYd MYJVSEzmkpkOTlESB8oTcHF/NMELLJ5B5da5C9zoFNom7NL7tT7OfP1P9INJ1xbwuPHJWA== X-Google-Smtp-Source: AGHT+IE6a7AhiLb2koSMpQ94OsVY5O8Zw9D/yZpIHZriRmDq+lvhI+JMfc2xk0VR6Bo6L61A3+VCAdmUwo0J X-Received: by 2002:a17:902:f545:b0:231:9817:6ec1 with SMTP id d9443c01a7336-23c85951b12mr67628745ad.17.1751680512063; Fri, 04 Jul 2025 18:55:12 -0700 (PDT) Received: from postal.iol.unh.edu (postal.iol.unh.edu. [132.177.123.84]) by smtp-relay.gmail.com with ESMTPS id d9443c01a7336-23c8f21ac00sm440385ad.125.2025.07.04.18.55.11 (version=TLS1_2 cipher=ECDHE-ECDSA-AES128-GCM-SHA256 bits=128/128); Fri, 04 Jul 2025 18:55:12 -0700 (PDT) X-Relaying-Domain: iol.unh.edu Date: Fri, 04 Jul 2025 18:55:12 -0700 (PDT) Message-ID: <68688600.170a0220.c48d9.25dcSMTPIN_ADDED_MISSING@mx.google.com> Received: from [172.21.0.5] (unknown [172.18.0.240]) by postal.iol.unh.edu (Postfix) with ESMTP id 434CB6051830; Fri, 4 Jul 2025 21:55:11 -0400 (EDT) Subject: |SUCCESS| pw155010 [PATCH] net/bonding: avoid RSS reta update in flo From: dpdklab@iol.unh.edu To: Test Report Cc: dpdk-test-reports@iol.unh.edu In-Reply-To: <20250704135031.5306-1-madhuker.mythri@oracle.com> References: <20250704135031.5306-1-madhuker.mythri@oracle.com> Content-Type: text/plain X-BeenThere: test-report@dpdk.org X-Mailman-Version: 2.1.29 Precedence: list List-Id: automatic DPDK test reports List-Unsubscribe: , List-Archive: List-Post: List-Help: List-Subscribe: , Errors-To: test-report-bounces@dpdk.org Test-Label: iol-compile-amd64-testing Test-Status: SUCCESS http://dpdk.org/patch/155010 _Testing PASS_ Submitter: Madhuker Mythri Date: Friday, July 04 2025 13:50:31 DPDK git baseline: Repo:dpdk Branch: master CommitID:b18c543ec30729ccc7708a6e064a1f9db5d8c11f 155010 --> testing pass Upstream job id: Windows-Compile-DPDK-Native#29585 Test environment and result as below: +---------------------+--------------------+-------------------+-------------------------+----------------------+ | Environment | dpdk_meson_compile | dpdk_msvc_compile | dpdk_llvm_clang_compile | dpdk_mingw64_compile | +=====================+====================+===================+=========================+======================+ | Ubuntu 20.04 | PASS | SKIPPED | SKIPPED | SKIPPED | +---------------------+--------------------+-------------------+-------------------------+----------------------+ | Windows Server 2022 | SKIPPED | PASS | PASS | PASS | +---------------------+--------------------+-------------------+-------------------------+----------------------+ Ubuntu 20.04 Kernel: 4.19 Compiler: gcc gcc (Ubuntu 9.4.0-1ubuntu1~20.04.2) 9.4.0 Windows Server 2022 Kernel: 10.0.20348.2031 Compiler: clang 15.0.7, gcc 14.1.0 (MinGW), and MSVC VS 19.39.33521 To view detailed results, visit: https://lab.dpdk.org/results/dashboard/patchsets/33593/ UNH-IOL DPDK Community Lab To manage your email subscriptions, visit: https://lab.dpdk.org/results/dashboard/preferences/subscriptions/