From mboxrd@z Thu Jan 1 00:00:00 1970 Return-Path: Received: from mails.dpdk.org (mails.dpdk.org [217.70.189.124]) by inbox.dpdk.org (Postfix) with ESMTP id 9A63346AED for ; Sat, 5 Jul 2025 04:01:24 +0200 (CEST) Received: from mails.dpdk.org (localhost [127.0.0.1]) by mails.dpdk.org (Postfix) with ESMTP id 8F8FF4028C; Sat, 5 Jul 2025 04:01:24 +0200 (CEST) Received: from mail-io1-f98.google.com (mail-io1-f98.google.com [209.85.166.98]) by mails.dpdk.org (Postfix) with ESMTP id BEC024028C for ; Sat, 5 Jul 2025 04:01:23 +0200 (CEST) Received: by mail-io1-f98.google.com with SMTP id ca18e2360f4ac-87404493fd2so141770239f.3 for ; Fri, 04 Jul 2025 19:01:23 -0700 (PDT) DKIM-Signature: v=1; a=rsa-sha256; c=relaxed/relaxed; d=iol.unh.edu; s=unh-iol; t=1751680883; x=1752285683; darn=dpdk.org; h=references:in-reply-to:cc:to:from:subject:message-id:date:from:to :cc:subject:date:message-id:reply-to; bh=se8hB8Yk3oyVO4yPakvvTUwBojzYhncfUVz6VNtCkRM=; b=OPFlgnEhNQwRSPNQgjm9lEuID8M3TJ8PREa1IHNTxr5LO4zTDxfJW+jUOEyl5slmzK bCG2vv85G5K7xmSD72o4sWTJBVV6D5yAmaO/N2Vi0FmsLDTEkdR79KX9Xu0n0Ohx+U0m wOCPuranWwMuDUA3GxjZ7Bew3K7VDN1lK2EH8= X-Google-DKIM-Signature: v=1; a=rsa-sha256; c=relaxed/relaxed; d=1e100.net; s=20230601; t=1751680883; x=1752285683; h=references:in-reply-to:cc:to:from:subject:message-id:date :x-gm-message-state:from:to:cc:subject:date:message-id:reply-to; bh=se8hB8Yk3oyVO4yPakvvTUwBojzYhncfUVz6VNtCkRM=; b=pE2pxxbBhSSQxvAOWrOFCIdV1pRosTTpAqPs0cl7j+8Qz8rPGFZrpz3HoL4Ip413ls pOL7jcyzHmyJamZ4npkGZpBfl3eZ+zniVBoIuYH2yjeEDahE+wF51FjiBm1Y7828ayeD d+hL66pR1tPlXOnWZOpSCmfWvEuM5Zk4/UJ2vNwLpa7ux4JQW6vMHT8J4x2kqE7jTjmM gHSaFbG81ySgr2PKiSnR/BUfiAbwnbMmtQHp9MtgIvzFy/CYjQKnjiA/7BRB2Hh/p3be 0JbHJTsz2jQ+jeaV9woQkDTSyPblhomwUD2LgBUiRX758LlE03KoITzlwTHutw+9vixF nlTA== X-Gm-Message-State: AOJu0YyhxiTDB0nwlGvMkAqvv50AtHUAUNI4EFI/huJDv/takCy9TEcI lCoNQ9vOhkUC+sboUk8Gol1sxxm4hl0w5vu3DxQi+5zwYryK1yVbOiev56G++Z0ej9OoQn9neXL DNo4oEX9RxnayNjgKqaCb7BU4clyYqrixEy4fqtSlQFSoFaOuNgsSYza5RTlo X-Gm-Gg: ASbGncvoQx872x5xal4g9j1yNP+KDPgwhCrRc9iTLkUBU7zGuhd8vK6mhBmF1nt+pVr LcZKfoBDmzWrQzlxGzOM8IRhkto0E+j5MEFQWAB656nYSdnjmyz9cojnOmZ4HU1fht00tScY/WK DLSWpag5ABmUAuAVKXGLBq3Z4G+epm+oJAhfv9eoSXDlz9AupVhEj1GUrpf4xPLz2DXbB4Aq9lG 9CGp3c+XT4DkikarIHUrog7eHCOIoriGfqmlTlqLW3dcXmxJ41Tyhh8eRN/3IzVz+yfjo+TvJhr R28r3iq54nCiKJ6R9GLg7po/O6cFinimqHlLjb6tssODOM4= X-Google-Smtp-Source: AGHT+IHuNDiNPtx+YTAwGjNpVr6rqpqb/TiIfEboZXo+rNPgOxaSdZigYw8BcDzIsa9/FTqKmPXo82OiEVFl X-Received: by 2002:a05:6e02:1a6c:b0:3df:29c5:2972 with SMTP id e9e14a558f8ab-3e135497bcbmr37058475ab.9.1751680883057; Fri, 04 Jul 2025 19:01:23 -0700 (PDT) Received: from postal.iol.unh.edu (postal.iol.unh.edu. [2606:4100:3880:1234::84]) by smtp-relay.gmail.com with ESMTPS id e9e14a558f8ab-3e0f343473bsm2244435ab.2.2025.07.04.19.01.22 (version=TLS1_2 cipher=ECDHE-ECDSA-AES128-GCM-SHA256 bits=128/128); Fri, 04 Jul 2025 19:01:23 -0700 (PDT) X-Relaying-Domain: iol.unh.edu Date: Fri, 04 Jul 2025 19:01:23 -0700 (PDT) Message-ID: <68688773.050a0220.19e241.ca2eSMTPIN_ADDED_MISSING@mx.google.com> Received: from [172.21.0.5] (unknown [172.18.0.240]) by postal.iol.unh.edu (Postfix) with ESMTP id 8A2AC6051830; Fri, 4 Jul 2025 22:01:22 -0400 (EDT) Subject: |SUCCESS| pw155008 [PATCH] mbuf: add new ptype for slow protocols From: dpdklab@iol.unh.edu To: Test Report Cc: dpdk-test-reports@iol.unh.edu In-Reply-To: <20250704084502.237979-1-kuka@cesnet.cz> References: <20250704084502.237979-1-kuka@cesnet.cz> Content-Type: text/plain X-BeenThere: test-report@dpdk.org X-Mailman-Version: 2.1.29 Precedence: list List-Id: automatic DPDK test reports List-Unsubscribe: , List-Archive: List-Post: List-Help: List-Subscribe: , Errors-To: test-report-bounces@dpdk.org Test-Label: iol-compile-amd64-testing Test-Status: SUCCESS http://dpdk.org/patch/155008 _Testing PASS_ Submitter: Mario Kuka Date: Friday, July 04 2025 08:45:01 DPDK git baseline: Repo:dpdk Branch: master CommitID:70c2297528e7c7789af452f78de1932e9a20c8a2 155008 --> testing pass Upstream job id: Windows-Compile-DPDK-Native#29586 Test environment and result as below: +---------------------+-------------------+--------------------+-------------------------+ | Environment | dpdk_msvc_compile | dpdk_meson_compile | dpdk_llvm_clang_compile | +=====================+===================+====================+=========================+ | Windows Server 2022 | PASS | SKIPPED | PASS | +---------------------+-------------------+--------------------+-------------------------+ | Ubuntu 20.04 | SKIPPED | PASS | SKIPPED | +---------------------+-------------------+--------------------+-------------------------+ Windows Server 2022 Kernel: 10.0.20348.2031 Compiler: clang 15.0.7, gcc 14.1.0 (MinGW), and MSVC VS 19.39.33521 Ubuntu 20.04 Kernel: 4.19 Compiler: gcc gcc (Ubuntu 9.4.0-1ubuntu1~20.04.2) 9.4.0 To view detailed results, visit: https://lab.dpdk.org/results/dashboard/patchsets/33591/ UNH-IOL DPDK Community Lab To manage your email subscriptions, visit: https://lab.dpdk.org/results/dashboard/preferences/subscriptions/