From mboxrd@z Thu Jan 1 00:00:00 1970 Return-Path: Received: from mails.dpdk.org (mails.dpdk.org [217.70.189.124]) by inbox.dpdk.org (Postfix) with ESMTP id 98D3D46AED for ; Sat, 5 Jul 2025 04:10:53 +0200 (CEST) Received: from mails.dpdk.org (localhost [127.0.0.1]) by mails.dpdk.org (Postfix) with ESMTP id 75ABE4028C; Sat, 5 Jul 2025 04:10:53 +0200 (CEST) Received: from mail-il1-f225.google.com (mail-il1-f225.google.com [209.85.166.225]) by mails.dpdk.org (Postfix) with ESMTP id D29A94028C for ; Sat, 5 Jul 2025 04:10:52 +0200 (CEST) Received: by mail-il1-f225.google.com with SMTP id e9e14a558f8ab-3de1875bf9dso14798995ab.2 for ; Fri, 04 Jul 2025 19:10:52 -0700 (PDT) DKIM-Signature: v=1; a=rsa-sha256; c=relaxed/relaxed; d=iol.unh.edu; s=unh-iol; t=1751681452; x=1752286252; darn=dpdk.org; h=references:in-reply-to:cc:to:from:subject:message-id:date:from:to :cc:subject:date:message-id:reply-to; bh=uHp7G6/NCqlSsJ07D63AMNi2x0q3DqaI8E5cq3ysYj4=; b=ccsK+Niu8kugfFPZX0nV0HN3dttLhUJakv7QgX5a9K6UwSbCYI+XRYh7NR0cG0A4uM KAI1HGvHRm9KHSuk9EaDsoWY/MHbJ05ukUYMMukxwUEdw4lbYPodFpoBFJ8ezmU+6RZu hCwL4ClfYxHH5bXH6U39B7FudBfImiCWHjLro= X-Google-DKIM-Signature: v=1; a=rsa-sha256; c=relaxed/relaxed; d=1e100.net; s=20230601; t=1751681452; x=1752286252; h=references:in-reply-to:cc:to:from:subject:message-id:date :x-gm-message-state:from:to:cc:subject:date:message-id:reply-to; bh=uHp7G6/NCqlSsJ07D63AMNi2x0q3DqaI8E5cq3ysYj4=; b=HxGzSWHJqJux9wUHZl1VmFLewV3gg3Bj5lFi0PU5rwikkYZaXOkiUouKAbjs3aShD+ wEEeLY2HDesheKcS7LnKkBfubmF6SoO1xLzf6gBSzC9eP8hLFCFvqSpP9pdMxb6PZ5ZT JnswKZNxVkH5U/AtAJVlIHyTdygEmZclvozTL3AfSylfbtcGiPcVrMhtCclnRt5+JPlc Czo5enSOBdeIICzADWmbp2K6QTXuCNk5ZJOEUOPq1BifygDwFZfU8kTMYLGoveup4ebf BtWRcvoyxaAfpy5GGzUfWoomRAF96t2Axsu6eJsMPZomR/cQqqOKurf6NIhn2lue1vBF 2cAg== X-Gm-Message-State: AOJu0Yyldx94aLi6Plf0OzKIP9Oek/QUvuzRUBdQiKsYCjJTB0kJq458 THYo8zt5u7zlaGXaqTq3kVHqBeAtaURGHBY3YNmtSGdJl4NHDuiNA2yqq3sTg2p2io1V4Mg9XNm KKq/SJFwfGesELJpicFrk8Pu5UlyHC35yrxzYhLhbay6OgftnHSMhJtSMaJt3 X-Gm-Gg: ASbGncuLYvXgpeenpEgbBM2woJ6tWF49orJyQF/UgMgjZRy3t4EeUrjx892lZdk5tlW BtKaOaK2MH6gi45/RvfESUphGWy8ncGLfJvISI6adH0Bu20RvlosZz9ukhgecbS0eOxXqPbSxJH Xsh2DwN/8hfeWHuRD/XyIu4XIuiNNDlGU9GbXl1FHb/4gcdS1iudn7vV7mThKaw//4IvBWYFp0P sq4dTqLHy+oGf8KUcJNkQzqwWci0QNLjLdrxK63IP8A56nIxPCuV4LjCtDvSc5Ap9Xq9x4zFI7L biQCtswts+45dQRoKPNny+MX8fb1xxyu/0pUTywfuce0LsI= X-Google-Smtp-Source: AGHT+IH6jmxNKykYEwVKK/4+Z7UrLl7k6osRI/eGp50vdnbQXVfFV5aScBk9/VZh0GIGEiORSWzLVL1T7Mfe X-Received: by 2002:a05:6e02:3785:b0:3df:1505:1d43 with SMTP id e9e14a558f8ab-3e135571e9fmr38983785ab.13.1751681452173; Fri, 04 Jul 2025 19:10:52 -0700 (PDT) Received: from postal.iol.unh.edu (postal.iol.unh.edu. [2606:4100:3880:1234::84]) by smtp-relay.gmail.com with ESMTPS id e9e14a558f8ab-3e0f3434623sm2100845ab.11.2025.07.04.19.10.52 (version=TLS1_2 cipher=ECDHE-ECDSA-AES128-GCM-SHA256 bits=128/128); Fri, 04 Jul 2025 19:10:52 -0700 (PDT) X-Relaying-Domain: iol.unh.edu Date: Fri, 04 Jul 2025 19:10:52 -0700 (PDT) Message-ID: <686889ac.050a0220.20a828.bafdSMTPIN_ADDED_MISSING@mx.google.com> Received: from [172.21.0.5] (unknown [172.18.0.240]) by postal.iol.unh.edu (Postfix) with ESMTP id 98DE56051830; Fri, 4 Jul 2025 22:10:51 -0400 (EDT) Subject: |SUCCESS| pw155008 [PATCH] mbuf: add new ptype for slow protocols From: dpdklab@iol.unh.edu To: Test Report Cc: dpdk-test-reports@iol.unh.edu In-Reply-To: <20250704084502.237979-1-kuka@cesnet.cz> References: <20250704084502.237979-1-kuka@cesnet.cz> Content-Type: text/plain X-BeenThere: test-report@dpdk.org X-Mailman-Version: 2.1.29 Precedence: list List-Id: automatic DPDK test reports List-Unsubscribe: , List-Archive: List-Post: List-Help: List-Subscribe: , Errors-To: test-report-bounces@dpdk.org Test-Label: iol-compile-amd64-testing Test-Status: SUCCESS http://dpdk.org/patch/155008 _Testing PASS_ Submitter: Mario Kuka Date: Friday, July 04 2025 08:45:01 DPDK git baseline: Repo:dpdk Branch: master CommitID:70c2297528e7c7789af452f78de1932e9a20c8a2 155008 --> testing pass Upstream job id: Windows-Compile-DPDK-Native#29587 Test environment and result as below: +---------------------+-------------------+--------------------+-------------------------+----------------------+ | Environment | dpdk_msvc_compile | dpdk_meson_compile | dpdk_llvm_clang_compile | dpdk_mingw64_compile | +=====================+===================+====================+=========================+======================+ | Windows Server 2022 | PASS | SKIPPED | PASS | PASS | +---------------------+-------------------+--------------------+-------------------------+----------------------+ | Ubuntu 20.04 | SKIPPED | PASS | SKIPPED | SKIPPED | +---------------------+-------------------+--------------------+-------------------------+----------------------+ Windows Server 2022 Kernel: 10.0.20348.2031 Compiler: clang 15.0.7, gcc 14.1.0 (MinGW), and MSVC VS 19.39.33521 Ubuntu 20.04 Kernel: 4.19 Compiler: gcc gcc (Ubuntu 9.4.0-1ubuntu1~20.04.2) 9.4.0 To view detailed results, visit: https://lab.dpdk.org/results/dashboard/patchsets/33591/ UNH-IOL DPDK Community Lab To manage your email subscriptions, visit: https://lab.dpdk.org/results/dashboard/preferences/subscriptions/