From mboxrd@z Thu Jan 1 00:00:00 1970 Return-Path: Received: from mails.dpdk.org (mails.dpdk.org [217.70.189.124]) by inbox.dpdk.org (Postfix) with ESMTP id 508EA46AED for ; Sat, 5 Jul 2025 04:18:50 +0200 (CEST) Received: from mails.dpdk.org (localhost [127.0.0.1]) by mails.dpdk.org (Postfix) with ESMTP id 491B14028C; Sat, 5 Jul 2025 04:18:50 +0200 (CEST) Received: from mail-pf1-f225.google.com (mail-pf1-f225.google.com [209.85.210.225]) by mails.dpdk.org (Postfix) with ESMTP id 575114028C for ; Sat, 5 Jul 2025 04:18:49 +0200 (CEST) Received: by mail-pf1-f225.google.com with SMTP id d2e1a72fcca58-7494999de5cso900227b3a.3 for ; Fri, 04 Jul 2025 19:18:49 -0700 (PDT) DKIM-Signature: v=1; a=rsa-sha256; c=relaxed/relaxed; d=iol.unh.edu; s=unh-iol; t=1751681928; x=1752286728; darn=dpdk.org; h=references:in-reply-to:cc:to:from:subject:message-id:date:from:to :cc:subject:date:message-id:reply-to; bh=3nkRHDbUVyaz014K6KfZHs9vSmdnaKVwT8g7Mu73Z4g=; b=WHVDnyKKqugOtEJ4k9SD7w1uhhnAzFWSxryQ6UAs2evq6yXtC8IRfZYosMOHoWqtbS 6gKkNcAsqdWSOjazD9mCGLumphok6RabWgsqTN755XFSefi5H0pTg9HDkUFLH7pgol7o L5CDM1YsHfIRdbDNhLmiyUk0qiqM+9EaAdxLU= X-Google-DKIM-Signature: v=1; a=rsa-sha256; c=relaxed/relaxed; d=1e100.net; s=20230601; t=1751681928; x=1752286728; h=references:in-reply-to:cc:to:from:subject:message-id:date :x-gm-message-state:from:to:cc:subject:date:message-id:reply-to; bh=3nkRHDbUVyaz014K6KfZHs9vSmdnaKVwT8g7Mu73Z4g=; b=qg9vHdyyjqe2E97CHHSQU+KF8o6T0sXKsKL8qcDPRekS6r6dvznJ7yzdY/PGM7xQSv uBLz6ndKebNaxFfpk7jCQBcnhEY873dLP2YqIDliSYmoNVncxMMeRYsTPF7TwlUpnDMb yM52qGPGfBGPgz52KKj1E6v4+F93aAl+q1s6j/x56FdxUeWQhGYIRVkuTaCQmKWvGWaw ywphzcPN1bbKadm4zsm3g5wTZYHuQxJ2kFME/xw/sBXTITfipgaLHYO7dnDw5tY4y8hq X4ZciEbwSTGLbNSl1qBVOW3UO8VdYs6cYZvRRFU/35rR9vHMife89IxpnpvuugTXJPui AkxA== X-Gm-Message-State: AOJu0YxQnTjHc86Fi/o7Fu6kpAAOQPbxVn8Cy6do/GdNVVsDSgUjrZ2i vzD63l/TQA5Ib70IrroGuwwEwSGp0ygMHeAqBcFjWbnEECyNuBvzctyQVr0IyECeYnUj+25RrI6 wWcJ5pzYMJTJPp2jrWs0Ie3YQKYJx2R5+q4ree/2tpRg+ X-Gm-Gg: ASbGncuE0tv4wSMEB9gzy7l0mU4RkTcS9/BEU+0rtV1DWtL0evXU/NiTRG4N+uhEMpr bvsLRyg4qBI2fxVw3Hg9CHlO747C0ahZMxetnka1mcJfxElN1GjlDt+olULQKK/T/mIInx3jTCj lL0ML+HZ5b4aGLWGirdYK0yaz0RriJb3Q0wPlzfTkMpLwadw3CGqTcGBfYXqrjR6Qof1yWv8uwW zUW0oA2ByI4NLxlYPdMNe7Y9HchKv6yXgingDOFCQmEZwTwzRj3boLcMtaRpOYXMZAvmk1M+GK0 nBULBAeO6y3ra4Vpn+wBWIwghb/pPdp87dgqWbbIjn0NEXRNlbae05mj+yvXC2qfGPBptw== X-Google-Smtp-Source: AGHT+IHM4+8sYon5hBQt7SUP28sZBz4a4tAPuZeJi0mQJ7wF66dHKDsV5Cqe0acbDqVDN2n5BNxKoBRzsMXl X-Received: by 2002:a05:6a00:c88:b0:748:e1e4:71ec with SMTP id d2e1a72fcca58-74cf6fa5bfemr1048793b3a.12.1751681928496; Fri, 04 Jul 2025 19:18:48 -0700 (PDT) Received: from postal.iol.unh.edu (postal.iol.unh.edu. [132.177.123.84]) by smtp-relay.gmail.com with ESMTPS id d2e1a72fcca58-74ce3cfd47asm164083b3a.19.2025.07.04.19.18.48 (version=TLS1_2 cipher=ECDHE-ECDSA-AES128-GCM-SHA256 bits=128/128); Fri, 04 Jul 2025 19:18:48 -0700 (PDT) X-Relaying-Domain: iol.unh.edu Date: Fri, 04 Jul 2025 19:18:48 -0700 (PDT) Message-ID: <68688b88.a70a0220.1ec16d.8937SMTPIN_ADDED_MISSING@mx.google.com> Received: from [172.21.0.5] (unknown [172.18.0.240]) by postal.iol.unh.edu (Postfix) with ESMTP id EA7B36051830; Fri, 4 Jul 2025 22:18:47 -0400 (EDT) Subject: |SUCCESS| pw154995 [PATCH] [v2] ci: check C++ headers with clang From: dpdklab@iol.unh.edu To: Test Report Cc: dpdk-test-reports@iol.unh.edu In-Reply-To: <20250703082010.2002295-1-david.marchand@redhat.com> References: <20250703082010.2002295-1-david.marchand@redhat.com> Content-Type: text/plain X-BeenThere: test-report@dpdk.org X-Mailman-Version: 2.1.29 Precedence: list List-Id: automatic DPDK test reports List-Unsubscribe: , List-Archive: List-Post: List-Help: List-Subscribe: , Errors-To: test-report-bounces@dpdk.org Test-Label: iol-compile-amd64-testing Test-Status: SUCCESS http://dpdk.org/patch/154995 _Testing PASS_ Submitter: David Marchand Date: Thursday, July 03 2025 08:20:10 DPDK git baseline: Repo:dpdk Branch: master CommitID:70c2297528e7c7789af452f78de1932e9a20c8a2 154995 --> testing pass Upstream job id: Windows-Compile-DPDK-Native#29588 Test environment and result as below: +---------------------+-------------------+--------------------+-------------------------+ | Environment | dpdk_msvc_compile | dpdk_meson_compile | dpdk_llvm_clang_compile | +=====================+===================+====================+=========================+ | Windows Server 2022 | PASS | SKIPPED | PASS | +---------------------+-------------------+--------------------+-------------------------+ | Ubuntu 20.04 | SKIPPED | PASS | SKIPPED | +---------------------+-------------------+--------------------+-------------------------+ Windows Server 2022 Kernel: 10.0.20348.2031 Compiler: clang 15.0.7, gcc 14.1.0 (MinGW), and MSVC VS 19.39.33521 Ubuntu 20.04 Kernel: 4.19 Compiler: gcc gcc (Ubuntu 9.4.0-1ubuntu1~20.04.2) 9.4.0 To view detailed results, visit: https://lab.dpdk.org/results/dashboard/patchsets/33578/ UNH-IOL DPDK Community Lab To manage your email subscriptions, visit: https://lab.dpdk.org/results/dashboard/preferences/subscriptions/