From mboxrd@z Thu Jan 1 00:00:00 1970 Return-Path: Received: from mails.dpdk.org (mails.dpdk.org [217.70.189.124]) by inbox.dpdk.org (Postfix) with ESMTP id 9972546AED for ; Sat, 5 Jul 2025 04:21:50 +0200 (CEST) Received: from mails.dpdk.org (localhost [127.0.0.1]) by mails.dpdk.org (Postfix) with ESMTP id 9576F4028C; Sat, 5 Jul 2025 04:21:50 +0200 (CEST) Received: from mail-pg1-f228.google.com (mail-pg1-f228.google.com [209.85.215.228]) by mails.dpdk.org (Postfix) with ESMTP id 3D9B74028C for ; Sat, 5 Jul 2025 04:21:49 +0200 (CEST) Received: by mail-pg1-f228.google.com with SMTP id 41be03b00d2f7-b2c2c762a89so1078488a12.0 for ; Fri, 04 Jul 2025 19:21:49 -0700 (PDT) DKIM-Signature: v=1; a=rsa-sha256; c=relaxed/relaxed; d=iol.unh.edu; s=unh-iol; t=1751682108; x=1752286908; darn=dpdk.org; h=references:in-reply-to:cc:to:from:subject:message-id:date:from:to :cc:subject:date:message-id:reply-to; bh=ubbrDZMJ9BJH96MsiQMJbBkWOIUUC11D8ipV5N0DYQk=; b=hJWuj/EayMSgvEDB7dB0Rcrp8AV0Ti2tbu+DLnW3evT5yzwzfb1/0CU70v01CzFogk IHdzzqw2p+k/LpGXdXG3+F1Lmf5OTf3FE+mlY7C5ell/odyaExsWYYrlkHSEchcc5Mzt PWnDZ1tLKjYhWmYin0NQDRxygZz8gJOkyoP5Y= X-Google-DKIM-Signature: v=1; a=rsa-sha256; c=relaxed/relaxed; d=1e100.net; s=20230601; t=1751682108; x=1752286908; h=references:in-reply-to:cc:to:from:subject:message-id:date :x-gm-message-state:from:to:cc:subject:date:message-id:reply-to; bh=ubbrDZMJ9BJH96MsiQMJbBkWOIUUC11D8ipV5N0DYQk=; b=B3O+tIBtnWLE2cT7UftZPbyPIzdgfR/R1pdNOcma5YP3PQQR7Gel3Xtinbr9HuFZeZ oqUrwYlehFAZujcee4sd9bUl6ohursB1mB/fHE7P9Rvgp4C62tBaIvVSaiuxgqNUv8Gu o0D7ycgqM89/zDUBYFxJwbZcj4V+GVYj6TnUgHNmmfQcnqb+HcgHEjAbFbUl7XI4iPVk OhvvF2a48INf/LbZ+0BY3UNz5fQkbhTLXlPvqkNuKMafpxZGIuZK1MdrE3nJrZIyFHLM HanWhRSP81NHNX+R8TewMybtTmgIcQO29Thd33WdpPkqvbaimpq4a2g4RAWBpsjta1WA PrnA== X-Gm-Message-State: AOJu0YzBsjkMHkx3lYXWUs7vRbxez3KAvB1OWdGJ3mFig6taBwbh75mJ hYj2KqnusvnXw83j04iXp4sSryS3hv4SlbPnfh/LZOOlIPruEyben8YN50N+s3BGNj5GPc95qyK Us2MVZ0vDX5oD44fS/xmIPFEjlmCRkvMl2AsDCREQgqlo X-Gm-Gg: ASbGncsDnJQQYYDqb1WtIvRqmVFelZ0n6zU0BpZksI8x6AOc1rFClPFveBm75qzs+mY Vs1snHPCe5IjQ9odtL9LMIToS+U7KbuGUYXtYopyB8oLndWzG7TGjciwg2AQ4epyA8j1wZN/9jv iKqFtWqn7r8ajN683p8iEmetxsWMt2hXWQRjee1nR+9jzgwDTkABxvPzaLlAL+e7l46Vbxg8cBK WKyV/XbSRdlu+xpBE705FbLii81sFosxfHSKSPXrJSCLiUzBiuRLDDOasTUMFOUSRyg/lyDQrpg 5ar2f/v6BN7H8yPkv7Aiz4w3uVo9MtGTZb4fhL7CHBrVzoTV/Kx7Qb5cqF/r/HJkODYuRQ== X-Google-Smtp-Source: AGHT+IGwZZB7dVSTElJiZLZMkpK5r+j7e1KBnslFIR/5qo4e/DLGADPVldcjpq095kB5tPyoDxTz6eFE3sky X-Received: by 2002:a17:90b:46:b0:311:b3e7:fb38 with SMTP id 98e67ed59e1d1-31aba8bc0camr1194029a91.19.1751682108420; Fri, 04 Jul 2025 19:21:48 -0700 (PDT) Received: from postal.iol.unh.edu (postal.iol.unh.edu. [132.177.123.84]) by smtp-relay.gmail.com with ESMTPS id 98e67ed59e1d1-31aaaf4019esm125837a91.11.2025.07.04.19.21.48 (version=TLS1_2 cipher=ECDHE-ECDSA-AES128-GCM-SHA256 bits=128/128); Fri, 04 Jul 2025 19:21:48 -0700 (PDT) X-Relaying-Domain: iol.unh.edu Date: Fri, 04 Jul 2025 19:21:48 -0700 (PDT) Message-ID: <68688c3c.170a0220.2981c6.686cSMTPIN_ADDED_MISSING@mx.google.com> Received: from [172.21.0.5] (unknown [172.18.0.240]) by postal.iol.unh.edu (Postfix) with ESMTP id DFFDE6051830; Fri, 4 Jul 2025 22:21:47 -0400 (EDT) Subject: |SUCCESS| pw155014-155016 [PATCH] [v2,3/3] app/testpmd: improve outp From: dpdklab@iol.unh.edu To: Test Report Cc: dpdk-test-reports@iol.unh.edu In-Reply-To: <20250704183437.25901-4-bruce.richardson@intel.com> References: <20250704183437.25901-4-bruce.richardson@intel.com> Content-Type: text/plain X-BeenThere: test-report@dpdk.org X-Mailman-Version: 2.1.29 Precedence: list List-Id: automatic DPDK test reports List-Unsubscribe: , List-Archive: List-Post: List-Help: List-Subscribe: , Errors-To: test-report-bounces@dpdk.org Test-Label: iol-unit-arm64-testing Test-Status: SUCCESS http://dpdk.org/patch/155016 _Testing PASS_ Submitter: Bruce Richardson Date: Friday, July 04 2025 18:34:36 DPDK git baseline: Repo:dpdk Branch: master CommitID:b18c543ec30729ccc7708a6e064a1f9db5d8c11f 155014-155016 --> testing pass Upstream job id: Generic-Unit-Test-DPDK#352736 Test environment and result as below: +------------------------------+----------------+---------------------------+--------------+------------------------------+ | Environment | dpdk_unit_test | cryptodev_sw_zuc_autotest | lpm_autotest | cryptodev_sw_snow3g_autotest | +==============================+================+===========================+==============+==============================+ | CentOS Stream 10 | PASS | SKIPPED | SKIPPED | SKIPPED | +------------------------------+----------------+---------------------------+--------------+------------------------------+ | CentOS Stream 9 | PASS | SKIPPED | SKIPPED | SKIPPED | +------------------------------+----------------+---------------------------+--------------+------------------------------+ | Fedora Linux 40 | PASS | SKIPPED | SKIPPED | SKIPPED | +------------------------------+----------------+---------------------------+--------------+------------------------------+ | Debian GNU/Linux 12 | PASS | SKIPPED | SKIPPED | SKIPPED | +------------------------------+----------------+---------------------------+--------------+------------------------------+ | Fedora Linux 41 | PASS | SKIPPED | SKIPPED | SKIPPED | +------------------------------+----------------+---------------------------+--------------+------------------------------+ | Red Hat Enterprise Linux 9.5 | PASS | SKIPPED | SKIPPED | SKIPPED | +------------------------------+----------------+---------------------------+--------------+------------------------------+ | Ubuntu 22.04 | PASS | SKIPPED | SKIPPED | SKIPPED | +------------------------------+----------------+---------------------------+--------------+------------------------------+ | Ubuntu 24.04 | PASS | SKIPPED | SKIPPED | SKIPPED | +------------------------------+----------------+---------------------------+--------------+------------------------------+ | Ubuntu 20.04 | PASS | SKIPPED | PASS | SKIPPED | +------------------------------+----------------+---------------------------+--------------+------------------------------+ | Debian 12 (arm) | SKIPPED | PASS | SKIPPED | PASS | +------------------------------+----------------+---------------------------+--------------+------------------------------+ CentOS Stream 10 Kernel: 5.4 Compiler: gcc gcc (GCC) 14.2.1 20250110 (Red Hat 14.2.1-8) CentOS Stream 9 Kernel: 5.4 Compiler: gcc gcc (GCC) 11.5.0 20240719 (Red Hat 11.5.0-7) Fedora Linux 40 Kernel: 5.4 Compiler: gcc gcc (GCC) 14.2.1 20240912 (Red Hat 14.2.1-3) Debian GNU/Linux 12 Kernel: 5.4 Compiler: gcc gcc (Debian 12.2.0-14+deb12u1) 12.2.0 Fedora Linux 41 Kernel: 5.4 Compiler: clang gcc (GCC) 14.3.1 20250523 (Red Hat 14.3.1-1) Red Hat Enterprise Linux 9.5 Kernel: 5.4 Compiler: gcc gcc (GCC) 11.5.0 20240719 (Red Hat 11.5.0-2) Ubuntu 22.04 Kernel: 5.4 Compiler: gcc gcc (Ubuntu 11.4.0-1ubuntu1~22.04) 11.4.0 Ubuntu 24.04 Kernel: 5.4 Compiler: gcc gcc (Ubuntu 13.3.0-6ubuntu2~24.04) 13.3.0 Ubuntu 20.04 Kernel: 5.4 Compiler: gcc gcc (Ubuntu 9.4.0-1ubuntu1~20.04.2) 9.4.0 Debian 12 (arm) Kernel: Depends on container host Compiler: gcc (Debian 12.2.0-14) 12.2.0 To view detailed results, visit: https://lab.dpdk.org/results/dashboard/patchsets/33596/ UNH-IOL DPDK Community Lab To manage your email subscriptions, visit: https://lab.dpdk.org/results/dashboard/preferences/subscriptions/