From mboxrd@z Thu Jan 1 00:00:00 1970 Return-Path: Received: from mails.dpdk.org (mails.dpdk.org [217.70.189.124]) by inbox.dpdk.org (Postfix) with ESMTP id 3203C46AED for ; Sat, 5 Jul 2025 04:27:02 +0200 (CEST) Received: from mails.dpdk.org (localhost [127.0.0.1]) by mails.dpdk.org (Postfix) with ESMTP id 083EB4028C; Sat, 5 Jul 2025 04:27:02 +0200 (CEST) Received: from mail-qk1-f227.google.com (mail-qk1-f227.google.com [209.85.222.227]) by mails.dpdk.org (Postfix) with ESMTP id 827774028C for ; Sat, 5 Jul 2025 04:27:00 +0200 (CEST) Received: by mail-qk1-f227.google.com with SMTP id af79cd13be357-7d2107eb668so280549385a.1 for ; Fri, 04 Jul 2025 19:27:00 -0700 (PDT) DKIM-Signature: v=1; a=rsa-sha256; c=relaxed/relaxed; d=iol.unh.edu; s=unh-iol; t=1751682420; x=1752287220; darn=dpdk.org; h=references:in-reply-to:cc:to:from:subject:message-id:date:from:to :cc:subject:date:message-id:reply-to; bh=Oezhq63Ki7eQrLMAomRxBmt8IUdgsUKmdamJ2B8Sd4A=; b=Y8s4edw1LKlSisv5jzkt+5T38TZ5Uo3bXqRsRj1dsAArEOOW16s8FSYqQCluF60T34 +9h9zijWsCqEGe3nMjExx5MvIyeIgdDBAukUFpC6rogK2btkTSqoRZ3Jd47ogqIDZPwY yGjwQK3wqbeogOljAgKCyuaz5jhNdcwi9IAVo= X-Google-DKIM-Signature: v=1; a=rsa-sha256; c=relaxed/relaxed; d=1e100.net; s=20230601; t=1751682420; x=1752287220; h=references:in-reply-to:cc:to:from:subject:message-id:date :x-gm-message-state:from:to:cc:subject:date:message-id:reply-to; bh=Oezhq63Ki7eQrLMAomRxBmt8IUdgsUKmdamJ2B8Sd4A=; b=umAHfydajq3VQ+/hvptgHtZVYYAlt+xdsUcQooiP2Ga7XSwY29IbfijAIVOEFo3gN1 8fZ81Qn0upUTBtvi9IsKiXswGpHbHSwUcBaW7du/gixeaLdXAnIOuWxOniRspm2SDYJQ qgtyHz5uizffi05iT15dMv0wS2gm77uNy9FZeoPi8HJ71WOClMMjc1FrhF2hkMHBeVXP HR1xiZr3n40pcKrrRlHz+o+XtU3S1Y0ycf5paLkAy9PjAD9hfUMzMMr1zxcoqvPRZ1SW oeTS57CUM6NxcXMQ170EtbiBf5Pgsy3kYL+00IOP7vu09MxvQ85RaXDlnM700Bbm941D +lZQ== X-Gm-Message-State: AOJu0YxvRGl/ZcOu94FBKRoxmX8y2W1il7EdGpuiu6T2fMCnjodAa0ji Lsp+NiecOJWa5MMb1QqOs+aWG5LoSaKNrY1tWOubHDpxCz34UuHtGLVIPg9R6s9WhXnhurKAoWR fqGtzntam1DcR5IKrMMFjMay1mTSMSoPojd1lgi5CgwG4AygHQ+9pNIQ/KZKU X-Gm-Gg: ASbGncsWmLa6s+G3dsgcnULQNNPSw43WcIMbiBb45u3av4N3aVWUwWnorjCNdci/3sw uZDpo9CcUvN5AiKg2mZeTwe5iJLBqxr8wZ/i/EqwSlC8QtPtJlOyyuRZ7Lwe/kWxoerVs7rvwqY n1poFbLL0nwvgSBQmS98P1Gd9ktY9mp5ToiX3LvSJiOFhXn3lmyd/ILDMC0BZZTV5T398HSy8s9 eWPW/9uyyCDAgVqeP8HfeGdl3eMMV0xDNzldMsW3ttbXz8y3oP9x9WOKOtIHc8Oh8i9KvfP4r3G DKhRmk7hqW8U6+N81y02PyqQNbE+KqQBLfMws+8hLdS614M= X-Google-Smtp-Source: AGHT+IHR+m7pXqwdETeqFnnbBIOWMXWXUVsOpeZMTHsqsE//UA9AsryCurUuyBs2rIJ/yH7fDEBL0lsl9hK5 X-Received: by 2002:a05:620a:290b:b0:7d4:4a7f:747e with SMTP id af79cd13be357-7d5f17e7bdemr139745985a.41.1751682419770; Fri, 04 Jul 2025 19:26:59 -0700 (PDT) Received: from postal.iol.unh.edu (postal.iol.unh.edu. [2606:4100:3880:1234::84]) by smtp-relay.gmail.com with ESMTPS id 6a1803df08f44-702c4cc9e2dsm1438436d6.15.2025.07.04.19.26.59 (version=TLS1_2 cipher=ECDHE-ECDSA-AES128-GCM-SHA256 bits=128/128); Fri, 04 Jul 2025 19:26:59 -0700 (PDT) X-Relaying-Domain: iol.unh.edu Date: Fri, 04 Jul 2025 19:26:59 -0700 (PDT) Message-ID: <68688d73.050a0220.2d1800.7912SMTPIN_ADDED_MISSING@mx.google.com> Received: from [172.21.0.5] (unknown [172.18.0.240]) by postal.iol.unh.edu (Postfix) with ESMTP id 79B6E6051830; Fri, 4 Jul 2025 22:26:59 -0400 (EDT) Subject: |SUCCESS| pw154995 [PATCH] [v2] ci: check C++ headers with clang From: dpdklab@iol.unh.edu To: Test Report Cc: dpdk-test-reports@iol.unh.edu In-Reply-To: <20250703082010.2002295-1-david.marchand@redhat.com> References: <20250703082010.2002295-1-david.marchand@redhat.com> Content-Type: text/plain X-BeenThere: test-report@dpdk.org X-Mailman-Version: 2.1.29 Precedence: list List-Id: automatic DPDK test reports List-Unsubscribe: , List-Archive: List-Post: List-Help: List-Subscribe: , Errors-To: test-report-bounces@dpdk.org Test-Label: iol-compile-amd64-testing Test-Status: SUCCESS http://dpdk.org/patch/154995 _Testing PASS_ Submitter: David Marchand Date: Thursday, July 03 2025 08:20:10 DPDK git baseline: Repo:dpdk Branch: master CommitID:70c2297528e7c7789af452f78de1932e9a20c8a2 154995 --> testing pass Upstream job id: Windows-Compile-DPDK-Native#29589 Test environment and result as below: +---------------------+-------------------+--------------------+-------------------------+----------------------+ | Environment | dpdk_msvc_compile | dpdk_meson_compile | dpdk_llvm_clang_compile | dpdk_mingw64_compile | +=====================+===================+====================+=========================+======================+ | Windows Server 2022 | PASS | SKIPPED | PASS | PASS | +---------------------+-------------------+--------------------+-------------------------+----------------------+ | Ubuntu 20.04 | SKIPPED | PASS | SKIPPED | SKIPPED | +---------------------+-------------------+--------------------+-------------------------+----------------------+ Windows Server 2022 Kernel: 10.0.20348.2031 Compiler: clang 15.0.7, gcc 14.1.0 (MinGW), and MSVC VS 19.39.33521 Ubuntu 20.04 Kernel: 4.19 Compiler: gcc gcc (Ubuntu 9.4.0-1ubuntu1~20.04.2) 9.4.0 To view detailed results, visit: https://lab.dpdk.org/results/dashboard/patchsets/33578/ UNH-IOL DPDK Community Lab To manage your email subscriptions, visit: https://lab.dpdk.org/results/dashboard/preferences/subscriptions/