From mboxrd@z Thu Jan 1 00:00:00 1970 Return-Path: Received: from mails.dpdk.org (mails.dpdk.org [217.70.189.124]) by inbox.dpdk.org (Postfix) with ESMTP id C3AB846AEF for ; Sat, 5 Jul 2025 04:58:31 +0200 (CEST) Received: from mails.dpdk.org (localhost [127.0.0.1]) by mails.dpdk.org (Postfix) with ESMTP id BE29D40287; Sat, 5 Jul 2025 04:58:31 +0200 (CEST) Received: from mail-pl1-f228.google.com (mail-pl1-f228.google.com [209.85.214.228]) by mails.dpdk.org (Postfix) with ESMTP id 81C4640287 for ; Sat, 5 Jul 2025 04:58:30 +0200 (CEST) Received: by mail-pl1-f228.google.com with SMTP id d9443c01a7336-2366e5e4dbaso18825045ad.1 for ; Fri, 04 Jul 2025 19:58:30 -0700 (PDT) DKIM-Signature: v=1; a=rsa-sha256; c=relaxed/relaxed; d=iol.unh.edu; s=unh-iol; t=1751684309; x=1752289109; darn=dpdk.org; h=references:in-reply-to:cc:to:from:subject:message-id:date:from:to :cc:subject:date:message-id:reply-to; bh=JDps4i+UFXk0twHPWbomq+qtdIhysdL8ctigxmz5irw=; b=PJbKG9OJkN97SIrFowSeFlPUrAT2/He8MyaTrLYutif2BC/gYNlHG/NkSCB/XYxy1U creP2+wBMujvhvCTFXPKigc8/spHogh5T+d7P2WQOHSdDOuDhbmjedZUkckIEoYLQEdA +YCG52y2IrC/oZ5y3ananlUL1T00ySO22bGl0= X-Google-DKIM-Signature: v=1; a=rsa-sha256; c=relaxed/relaxed; d=1e100.net; s=20230601; t=1751684309; x=1752289109; h=references:in-reply-to:cc:to:from:subject:message-id:date :x-gm-message-state:from:to:cc:subject:date:message-id:reply-to; bh=JDps4i+UFXk0twHPWbomq+qtdIhysdL8ctigxmz5irw=; b=nS73UpQ518aIJyQLUuTk/ccfxeNvswFE8rW4gxNCn/9U0mWJP6IdgPEPAMdWDVuHsZ DMPnPurioeFrK63Um6SnUWmRVweja2C5lA/chuYkSOhaFUsFCO779jPub0Ccvfsx50xB 0rty0kwuVgDXBibceAGCYztadkqg1VTHmv26Y6i+Ngq3/uasBEz1hj/IkPHTxhx80onu dujeABM1Xs5BZ33/8qkwJKTWMGUfJre/VMDBvCJcDP5CRrLfvjGYhAFpoJvDDWLJU70O 3jwyE4laY5aGLOo96DNw/kPfpag/w91CarXgxw6SzMLkeFBCSXFSBsVzINYKrMhTAL2G N9Iw== X-Gm-Message-State: AOJu0YyH9gLmY8HmaYulJz4mQ4h72X8TFFXgch2xi05nFtixkUxKaJD7 wJfYTyo+wjOcOqvPOpQfflgVZ7eHxW4xjaYvtv2w6CfJfcF9iKK79E7LHKU/FsnaM+YaXILn99b 5itnjg4w0zGeIX6XqpZLTHFniBQ99+hhOJTozq85mcUWLbV4VR0MbgaOkEKfT X-Gm-Gg: ASbGncs6mAlnxL5s7vDbE3YqxYi0y/+qQ/Zv5HlZI2mMuAGiMWlGj/F/6Eb91K6J8Jm 8H9+JuY3GhSkiXEN4qTFnjW0EdNDfhpI/YQytp19A4Q0JE6dZL/oIzJcBRoh8TGrt25WFcxmnty uPIU+JCsiwFyQMwXrgs8mO0F+E9ufHOC0v4s+eFgDT3EUSEN5/ZupSqIhJBVUN6CBPknrZnsT1R AqXra0y5aLDARkW2/6Ta6vp3UGPQMaNyv6lx3y8OD/GBd5Uxm/JyHj2lrnNxcpqJsRB3DJ8V0sn jiClNlz0A26oJXUXjdL4YNXBPc1s9BYhWSvjC0w+vO3NuhE= X-Google-Smtp-Source: AGHT+IH+RjCfd1+XyFQSoXmZnJTj5ScgqTlm6rXsqCKsOBqx3BuO3b1/RFg40rwP6Q5+Q4gsurLgs/UUnvPP X-Received: by 2002:a17:902:c404:b0:236:8b70:191b with SMTP id d9443c01a7336-23c856d5751mr76623165ad.0.1751684309576; Fri, 04 Jul 2025 19:58:29 -0700 (PDT) Received: from postal.iol.unh.edu (postal.iol.unh.edu. [2606:4100:3880:1234::84]) by smtp-relay.gmail.com with ESMTPS id d9443c01a7336-23c844e1404sm1424775ad.68.2025.07.04.19.58.29 (version=TLS1_2 cipher=ECDHE-ECDSA-AES128-GCM-SHA256 bits=128/128); Fri, 04 Jul 2025 19:58:29 -0700 (PDT) X-Relaying-Domain: iol.unh.edu Date: Fri, 04 Jul 2025 19:58:29 -0700 (PDT) Message-ID: <686894d5.170a0220.c488b.7a1eSMTPIN_ADDED_MISSING@mx.google.com> Received: from [172.21.0.7] (unknown [172.18.0.240]) by postal.iol.unh.edu (Postfix) with ESMTP id C196F6051830; Fri, 4 Jul 2025 22:58:28 -0400 (EDT) Subject: |SUCCESS| pw154997 [PATCH] net: support VLAN stacking packet type pa From: dpdklab@iol.unh.edu To: Test Report Cc: dpdk-test-reports@iol.unh.edu In-Reply-To: <20250703093027.1259459-1-huangdengdui@huawei.com> References: <20250703093027.1259459-1-huangdengdui@huawei.com> Content-Type: text/plain X-BeenThere: test-report@dpdk.org X-Mailman-Version: 2.1.29 Precedence: list List-Id: automatic DPDK test reports List-Unsubscribe: , List-Archive: List-Post: List-Help: List-Subscribe: , Errors-To: test-report-bounces@dpdk.org Test-Label: iol-abi-testing Test-Status: SUCCESS http://dpdk.org/patch/154997 _Testing PASS_ Submitter: Dengdui Huang Date: Thursday, July 03 2025 09:30:27 DPDK git baseline: Repo:dpdk Branch: master CommitID:70c2297528e7c7789af452f78de1932e9a20c8a2 154997 --> testing pass Upstream job id: Generic-DPDK-Compile-ABI#133110 Test environment and result as below: +-------------------------------+----------+ | Environment | abi_test | +===============================+==========+ | Debian GNU/Linux 12 | PASS | +-------------------------------+----------+ | Fedora Linux 41 | PASS | +-------------------------------+----------+ | Red Hat Enterprise Linux 9.5 | PASS | +-------------------------------+----------+ | Red Hat Enterprise Linux 8.10 | PASS | +-------------------------------+----------+ | CentOS Stream 9 | PASS | +-------------------------------+----------+ | Fedora Linux 40 | PASS | +-------------------------------+----------+ | Ubuntu 24.04 | PASS | +-------------------------------+----------+ | CentOS Stream 10 | PASS | +-------------------------------+----------+ | openSUSE Leap 15.6 | PASS | +-------------------------------+----------+ | Ubuntu 22.04 | PASS | +-------------------------------+----------+ Debian GNU/Linux 12 Kernel: 5.15 Compiler: gcc gcc (Debian 12.2.0-14+deb12u1) 12.2.0 Fedora Linux 41 Kernel: 5.15 Compiler: clang gcc (GCC) 14.3.1 20250523 (Red Hat 14.3.1-1) Red Hat Enterprise Linux 9.5 Kernel: 5.15 Compiler: gcc gcc (GCC) 11.5.0 20240719 (Red Hat 11.5.0-2) Red Hat Enterprise Linux 8.10 Kernel: 5.15 Compiler: gcc gcc (GCC) 8.5.0 20210514 (Red Hat 8.5.0-22) CentOS Stream 9 Kernel: 5.15 Compiler: gcc gcc (GCC) 11.5.0 20240719 (Red Hat 11.5.0-7) Fedora Linux 40 Kernel: 5.15 Compiler: clang gcc (GCC) 14.2.1 20240912 (Red Hat 14.2.1-3) Ubuntu 24.04 Kernel: 5.15 Compiler: gcc gcc (Ubuntu 13.3.0-6ubuntu2~24.04) 13.3.0 CentOS Stream 10 Kernel: 5.15 Compiler: gcc gcc (GCC) 14.2.1 20250110 (Red Hat 14.2.1-8) openSUSE Leap 15.6 Kernel: 5.15 Compiler: gcc gcc (SUSE Linux) 7.5.0 Ubuntu 22.04 Kernel: 5.15 Compiler: gcc gcc (Ubuntu 11.4.0-1ubuntu1~22.04) 11.4.0 To view detailed results, visit: https://lab.dpdk.org/results/dashboard/patchsets/33580/ UNH-IOL DPDK Community Lab To manage your email subscriptions, visit: https://lab.dpdk.org/results/dashboard/preferences/subscriptions/