From mboxrd@z Thu Jan 1 00:00:00 1970 Return-Path: Received: from mails.dpdk.org (mails.dpdk.org [217.70.189.124]) by inbox.dpdk.org (Postfix) with ESMTP id 34F6D46AEF for ; Sat, 5 Jul 2025 05:01:00 +0200 (CEST) Received: from mails.dpdk.org (localhost [127.0.0.1]) by mails.dpdk.org (Postfix) with ESMTP id 2E46440287; Sat, 5 Jul 2025 05:01:00 +0200 (CEST) Received: from mail-qv1-f98.google.com (mail-qv1-f98.google.com [209.85.219.98]) by mails.dpdk.org (Postfix) with ESMTP id 483E940287 for ; Sat, 5 Jul 2025 05:00:58 +0200 (CEST) Received: by mail-qv1-f98.google.com with SMTP id 6a1803df08f44-6facf4d8e9eso14857006d6.1 for ; Fri, 04 Jul 2025 20:00:58 -0700 (PDT) DKIM-Signature: v=1; a=rsa-sha256; c=relaxed/relaxed; d=iol.unh.edu; s=unh-iol; t=1751684457; x=1752289257; darn=dpdk.org; h=references:in-reply-to:cc:to:from:subject:message-id:date:from:to :cc:subject:date:message-id:reply-to; bh=j4lSQ3xRhcU0L4bLIMYCBjo74BYIUFAS1rsWLndcr88=; b=E2GIsiadRJjOVh8d1UUCcfyzoYv6bA8H8eLHX+tCPYadbBmVMam60Z4LTTLJhaktWY 2T6eCxEuhQ6qa5Vg/iuI1m2RlXL9I13MGPhsp7Yk8LqO3j7njYQKrkFzTviEe7FYEulQ StkvMiOQtx4oADQ/QIxqNhuyLAHWRUkBtEY8Q= X-Google-DKIM-Signature: v=1; a=rsa-sha256; c=relaxed/relaxed; d=1e100.net; s=20230601; t=1751684457; x=1752289257; h=references:in-reply-to:cc:to:from:subject:message-id:date :x-gm-message-state:from:to:cc:subject:date:message-id:reply-to; bh=j4lSQ3xRhcU0L4bLIMYCBjo74BYIUFAS1rsWLndcr88=; b=eAvYsBwiw0ulgNAwdMaAQicVM7lr+tdlfPGC5848sKLduf38dnelRAW+zkPtE0x1Do Tt3Fsv+uP3kFyCX+Hlw/3AhcrTb5uaPSsyZioZeZH+U/mtMn8a1se7SUKZmVi7eKfDiw +aPZ50PPtqLuK23NCify+wjkfKnbVue/+mdDwqElyY+YHDbsKsbzAYeGYuc3Jy6zsN2n DXb4H/qLvjV2Udd5nXXZ5kr1sk/rOVPUPAgAR6c2Uct5OBZnu+tc5XaoWPAdNJLXMPOC kO2aTWd8GtZ7+c0lg2HaDOks2m5jZfITBUAnT68VNFBIz7psjqXscgDLCqyL92ZbcgeL mGpA== X-Gm-Message-State: AOJu0YwMXN71KRqOX9F1lWHU/8evnT/wbOPShgaw4IDd3RdMRdZNShd3 tUPFt14fdmg4YcKBPiMqV7Dxngzu7+9OF2Qg8l7FjlCOVYWuxFwAw8pjiJynU6JLum/OInwNwq5 obUvjjAkwlJQwkZx3uiOkqOsfqvZZWm1qa95cJ9vt/J1wKMdZxWu7gF++Czyp X-Gm-Gg: ASbGncve8HFQUSyemKTU8oGrcuE+VcTUx7iMjhY06NfA07kndNF9S8Ff1AQka7t45vs D8LfMxEOBouDQoXpl35By1ChiHPj1ZfT0Pl6uexKBhKY5P0mB/NSzN+6/qrB/RHFMtkB5tsNnrn sFgIv4xvnCrJlAlSOvKflTAgiaFogiqp9wx0VVM19QMWhqbMptA6pzrq1H0DVkVSaSHd5BON9OJ cBBxXxmAxXloGIK4iiMeAlIvA72wVysqy1iQZrTt2OPTtP+nWMZYqfOq4xN/3G1B5fY1OzG2dHg 2o0JkF+C9X7J8Q92mpkoxyQo2e+R5l1kiVY17qBxHSl1ex4= X-Google-Smtp-Source: AGHT+IFUvfMrIXzTxl+9eH8T5W9lVytjlqpP3aCgikoQHNpOB5mdplQ2LV1fLG0P/ST0il3kuTOHB2DvRYwP X-Received: by 2002:ad4:5cc2:0:b0:6fa:fea5:4da0 with SMTP id 6a1803df08f44-702c8b71e4amr68998896d6.10.1751684457445; Fri, 04 Jul 2025 20:00:57 -0700 (PDT) Received: from postal.iol.unh.edu (postal.iol.unh.edu. [2606:4100:3880:1234::84]) by smtp-relay.gmail.com with ESMTPS id 6a1803df08f44-702c4d5b5eesm1463506d6.66.2025.07.04.20.00.57 (version=TLS1_2 cipher=ECDHE-ECDSA-AES128-GCM-SHA256 bits=128/128); Fri, 04 Jul 2025 20:00:57 -0700 (PDT) X-Relaying-Domain: iol.unh.edu Date: Fri, 04 Jul 2025 20:00:57 -0700 (PDT) Message-ID: <68689569.050a0220.33cd87.7c21SMTPIN_ADDED_MISSING@mx.google.com> Received: from [172.21.0.6] (unknown [172.18.0.240]) by postal.iol.unh.edu (Postfix) with ESMTP id 2ED6D6051830; Fri, 4 Jul 2025 23:00:57 -0400 (EDT) Subject: |SUCCESS| pw155012-155013 [PATCH] [v2,2/2] dts: add generic blocking From: dpdklab@iol.unh.edu To: Test Report Cc: dpdk-test-reports@iol.unh.edu In-Reply-To: <20250704152908.683265-3-luca.vizzarro@arm.com> References: <20250704152908.683265-3-luca.vizzarro@arm.com> Content-Type: text/plain X-BeenThere: test-report@dpdk.org X-Mailman-Version: 2.1.29 Precedence: list List-Id: automatic DPDK test reports List-Unsubscribe: , List-Archive: List-Post: List-Help: List-Subscribe: , Errors-To: test-report-bounces@dpdk.org Test-Label: iol-unit-amd64-testing Test-Status: SUCCESS http://dpdk.org/patch/155013 _Testing PASS_ Submitter: Luca Vizzarro Date: Friday, July 04 2025 15:29:08 DPDK git baseline: Repo:dpdk Branch: master CommitID:31ba785774d258d4c57b68dabdf544e575f3af83 155012-155013 --> testing pass Upstream job id: Generic-Unit-Test-DPDK#352764 Test environment and result as below: +-------------------------------+----------------+ | Environment | dpdk_unit_test | +===============================+================+ | CentOS Stream 9 | PASS | +-------------------------------+----------------+ | Fedora Linux 40 | PASS | +-------------------------------+----------------+ | CentOS Stream 10 | PASS | +-------------------------------+----------------+ | Debian GNU/Linux 12 | PASS | +-------------------------------+----------------+ | Fedora Linux 41 | PASS | +-------------------------------+----------------+ | Red Hat Enterprise Linux 9.5 | PASS | +-------------------------------+----------------+ | Red Hat Enterprise Linux 8.10 | PASS | +-------------------------------+----------------+ | Ubuntu 20.04 | PASS | +-------------------------------+----------------+ | Ubuntu 24.04 | PASS | +-------------------------------+----------------+ | Ubuntu 22.04 | PASS | +-------------------------------+----------------+ | Windows Server 2022 | PASS | +-------------------------------+----------------+ CentOS Stream 9 Kernel: 5.15 Compiler: gcc gcc (GCC) 11.5.0 20240719 (Red Hat 11.5.0-7) Fedora Linux 40 Kernel: 5.15 Compiler: clang gcc (GCC) 14.2.1 20240912 (Red Hat 14.2.1-3) CentOS Stream 10 Kernel: 5.15 Compiler: gcc gcc (GCC) 14.2.1 20250110 (Red Hat 14.2.1-8) Debian GNU/Linux 12 Kernel: 5.15 Compiler: gcc gcc (Debian 12.2.0-14+deb12u1) 12.2.0 Fedora Linux 41 Kernel: 5.15 Compiler: gcc gcc (GCC) 14.3.1 20250523 (Red Hat 14.3.1-1) Red Hat Enterprise Linux 9.5 Kernel: 5.15 Compiler: gcc gcc (GCC) 11.5.0 20240719 (Red Hat 11.5.0-2) Red Hat Enterprise Linux 8.10 Kernel: 5.15 Compiler: gcc gcc (GCC) 8.5.0 20210514 (Red Hat 8.5.0-22) Ubuntu 20.04 Kernel: 5.15 Compiler: gcc gcc (Ubuntu 9.4.0-1ubuntu1~20.04.2) 9.4.0 Ubuntu 24.04 Kernel: 5.15 Compiler: gcc gcc (Ubuntu 13.3.0-6ubuntu2~24.04) 13.3.0 Ubuntu 22.04 Kernel: 5.15 Compiler: gcc gcc (Ubuntu 11.4.0-1ubuntu1~22.04) 11.4.0 Windows Server 2022 Kernel: 10.0.20348.2031 Compiler: clang 15.0.7, gcc 14.1.0 (MinGW), and MSVC VS 19.39.33521 To view detailed results, visit: https://lab.dpdk.org/results/dashboard/patchsets/33595/ UNH-IOL DPDK Community Lab To manage your email subscriptions, visit: https://lab.dpdk.org/results/dashboard/preferences/subscriptions/